BEGIN:VCALENDAR
VERSION:2.0
PRODID:-//Amelia Island - ECPv6.8.0//NONSGML v1.0//EN
CALSCALE:GREGORIAN
METHOD:PUBLISH
X-ORIGINAL-URL:https://www.ameliaisland.com
X-WR-CALDESC:Events for Amelia Island
REFRESH-INTERVAL;VALUE=DURATION:PT1H
X-Robots-Tag:noindex
X-PUBLISHED-TTL:PT1H
BEGIN:VTIMEZONE
TZID:America/New_York
BEGIN:DAYLIGHT
TZOFFSETFROM:-0500
TZOFFSETTO:-0400
TZNAME:EDT
DTSTART:20260308T070000
END:DAYLIGHT
BEGIN:STANDARD
TZOFFSETFROM:-0400
TZOFFSETTO:-0500
TZNAME:EST
DTSTART:20261101T060000
END:STANDARD
BEGIN:DAYLIGHT
TZOFFSETFROM:-0500
TZOFFSETTO:-0400
TZNAME:EDT
DTSTART:20270314T070000
END:DAYLIGHT
BEGIN:STANDARD
TZOFFSETFROM:-0400
TZOFFSETTO:-0500
TZNAME:EST
DTSTART:20271107T060000
END:STANDARD
BEGIN:DAYLIGHT
TZOFFSETFROM:-0500
TZOFFSETTO:-0400
TZNAME:EDT
DTSTART:20280312T070000
END:DAYLIGHT
BEGIN:STANDARD
TZOFFSETFROM:-0400
TZOFFSETTO:-0500
TZNAME:EST
DTSTART:20281105T060000
END:STANDARD
END:VTIMEZONE
BEGIN:VEVENT
DTSTART;TZID=America/New_York:20260507T170000
DTEND;TZID=America/New_York:20260507T183000
DTSTAMP:20260420T034028
CREATED:20241107T132338Z
LAST-MODIFIED:20241107T132338Z
UID:10016233-1778173200-1778178600@www.ameliaisland.com
SUMMARY:Story & Song Book Group
DESCRIPTION:The Story & Song Fiction Book group meets on the 1st Thursday of every month. \nEnjoy Happy Hour prices for wine and craft beer and come enjoy the conversation! \nSee upcoming S&S Book Group selections on our website.
URL:https://www.ameliaisland.com/activity/story-song-book-group-2/2026-05-07/
LOCATION:Story & Song Centre for Arts and Culture\, 1430 Park Avenue\, Fernandina Beach\, FL\, 32034
ATTACH;FMTTYPE=image/jpeg:https://www.ameliaisland.com/wp-content/uploads/SS-Fiction-Book-Group-.jpeg
END:VEVENT
BEGIN:VEVENT
DTSTART;TZID=America/New_York:20260604T170000
DTEND;TZID=America/New_York:20260604T183000
DTSTAMP:20260420T034028
CREATED:20241107T132338Z
LAST-MODIFIED:20241107T132338Z
UID:10016234-1780592400-1780597800@www.ameliaisland.com
SUMMARY:Story & Song Book Group
DESCRIPTION:The Story & Song Fiction Book group meets on the 1st Thursday of every month. \nEnjoy Happy Hour prices for wine and craft beer and come enjoy the conversation! \nSee upcoming S&S Book Group selections on our website.
URL:https://www.ameliaisland.com/activity/story-song-book-group-2/2026-06-04/
LOCATION:Story & Song Centre for Arts and Culture\, 1430 Park Avenue\, Fernandina Beach\, FL\, 32034
ATTACH;FMTTYPE=image/jpeg:https://www.ameliaisland.com/wp-content/uploads/SS-Fiction-Book-Group-.jpeg
END:VEVENT
BEGIN:VEVENT
DTSTART;TZID=America/New_York:20260702T170000
DTEND;TZID=America/New_York:20260702T183000
DTSTAMP:20260420T034028
CREATED:20241107T132338Z
LAST-MODIFIED:20241107T132338Z
UID:10016235-1783011600-1783017000@www.ameliaisland.com
SUMMARY:Story & Song Book Group
DESCRIPTION:The Story & Song Fiction Book group meets on the 1st Thursday of every month. \nEnjoy Happy Hour prices for wine and craft beer and come enjoy the conversation! \nSee upcoming S&S Book Group selections on our website.
URL:https://www.ameliaisland.com/activity/story-song-book-group-2/2026-07-02/
LOCATION:Story & Song Centre for Arts and Culture\, 1430 Park Avenue\, Fernandina Beach\, FL\, 32034
ATTACH;FMTTYPE=image/jpeg:https://www.ameliaisland.com/wp-content/uploads/SS-Fiction-Book-Group-.jpeg
END:VEVENT
BEGIN:VEVENT
DTSTART;TZID=America/New_York:20260806T170000
DTEND;TZID=America/New_York:20260806T183000
DTSTAMP:20260420T034028
CREATED:20241107T132338Z
LAST-MODIFIED:20241107T132338Z
UID:10016236-1786035600-1786041000@www.ameliaisland.com
SUMMARY:Story & Song Book Group
DESCRIPTION:The Story & Song Fiction Book group meets on the 1st Thursday of every month. \nEnjoy Happy Hour prices for wine and craft beer and come enjoy the conversation! \nSee upcoming S&S Book Group selections on our website.
URL:https://www.ameliaisland.com/activity/story-song-book-group-2/2026-08-06/
LOCATION:Story & Song Centre for Arts and Culture\, 1430 Park Avenue\, Fernandina Beach\, FL\, 32034
ATTACH;FMTTYPE=image/jpeg:https://www.ameliaisland.com/wp-content/uploads/SS-Fiction-Book-Group-.jpeg
END:VEVENT
BEGIN:VEVENT
DTSTART;TZID=America/New_York:20260903T170000
DTEND;TZID=America/New_York:20260903T183000
DTSTAMP:20260420T034028
CREATED:20241107T132338Z
LAST-MODIFIED:20241107T132338Z
UID:10016237-1788454800-1788460200@www.ameliaisland.com
SUMMARY:Story & Song Book Group
DESCRIPTION:The Story & Song Fiction Book group meets on the 1st Thursday of every month. \nEnjoy Happy Hour prices for wine and craft beer and come enjoy the conversation! \nSee upcoming S&S Book Group selections on our website.
URL:https://www.ameliaisland.com/activity/story-song-book-group-2/2026-09-03/
LOCATION:Story & Song Centre for Arts and Culture\, 1430 Park Avenue\, Fernandina Beach\, FL\, 32034
ATTACH;FMTTYPE=image/jpeg:https://www.ameliaisland.com/wp-content/uploads/SS-Fiction-Book-Group-.jpeg
END:VEVENT
BEGIN:VEVENT
DTSTART;TZID=America/New_York:20261001T170000
DTEND;TZID=America/New_York:20261001T183000
DTSTAMP:20260420T034028
CREATED:20241107T132338Z
LAST-MODIFIED:20241107T132338Z
UID:10016238-1790874000-1790879400@www.ameliaisland.com
SUMMARY:Story & Song Book Group
DESCRIPTION:The Story & Song Fiction Book group meets on the 1st Thursday of every month. \nEnjoy Happy Hour prices for wine and craft beer and come enjoy the conversation! \nSee upcoming S&S Book Group selections on our website.
URL:https://www.ameliaisland.com/activity/story-song-book-group-2/2026-10-01/
LOCATION:Story & Song Centre for Arts and Culture\, 1430 Park Avenue\, Fernandina Beach\, FL\, 32034
ATTACH;FMTTYPE=image/jpeg:https://www.ameliaisland.com/wp-content/uploads/SS-Fiction-Book-Group-.jpeg
END:VEVENT
BEGIN:VEVENT
DTSTART;TZID=America/New_York:20261105T170000
DTEND;TZID=America/New_York:20261105T183000
DTSTAMP:20260420T034028
CREATED:20241107T132338Z
LAST-MODIFIED:20241107T132338Z
UID:10016239-1793898000-1793903400@www.ameliaisland.com
SUMMARY:Story & Song Book Group
DESCRIPTION:The Story & Song Fiction Book group meets on the 1st Thursday of every month. \nEnjoy Happy Hour prices for wine and craft beer and come enjoy the conversation! \nSee upcoming S&S Book Group selections on our website.
URL:https://www.ameliaisland.com/activity/story-song-book-group-2/2026-11-05/
LOCATION:Story & Song Centre for Arts and Culture\, 1430 Park Avenue\, Fernandina Beach\, FL\, 32034
ATTACH;FMTTYPE=image/jpeg:https://www.ameliaisland.com/wp-content/uploads/SS-Fiction-Book-Group-.jpeg
END:VEVENT
BEGIN:VEVENT
DTSTART;TZID=America/New_York:20261203T170000
DTEND;TZID=America/New_York:20261203T183000
DTSTAMP:20260420T034028
CREATED:20241107T132338Z
LAST-MODIFIED:20241107T132338Z
UID:10016240-1796317200-1796322600@www.ameliaisland.com
SUMMARY:Story & Song Book Group
DESCRIPTION:The Story & Song Fiction Book group meets on the 1st Thursday of every month. \nEnjoy Happy Hour prices for wine and craft beer and come enjoy the conversation! \nSee upcoming S&S Book Group selections on our website.
URL:https://www.ameliaisland.com/activity/story-song-book-group-2/2026-12-03/
LOCATION:Story & Song Centre for Arts and Culture\, 1430 Park Avenue\, Fernandina Beach\, FL\, 32034
ATTACH;FMTTYPE=image/jpeg:https://www.ameliaisland.com/wp-content/uploads/SS-Fiction-Book-Group-.jpeg
END:VEVENT
BEGIN:VEVENT
DTSTART;TZID=America/New_York:20270107T170000
DTEND;TZID=America/New_York:20270107T183000
DTSTAMP:20260420T034028
CREATED:20241107T132338Z
LAST-MODIFIED:20241107T132338Z
UID:10016241-1799341200-1799346600@www.ameliaisland.com
SUMMARY:Story & Song Book Group
DESCRIPTION:The Story & Song Fiction Book group meets on the 1st Thursday of every month. \nEnjoy Happy Hour prices for wine and craft beer and come enjoy the conversation! \nSee upcoming S&S Book Group selections on our website.
URL:https://www.ameliaisland.com/activity/story-song-book-group-2/2027-01-07/
LOCATION:Story & Song Centre for Arts and Culture\, 1430 Park Avenue\, Fernandina Beach\, FL\, 32034
ATTACH;FMTTYPE=image/jpeg:https://www.ameliaisland.com/wp-content/uploads/SS-Fiction-Book-Group-.jpeg
END:VEVENT
BEGIN:VEVENT
DTSTART;TZID=America/New_York:20270204T170000
DTEND;TZID=America/New_York:20270204T183000
DTSTAMP:20260420T034028
CREATED:20241107T132338Z
LAST-MODIFIED:20241107T132338Z
UID:10016242-1801760400-1801765800@www.ameliaisland.com
SUMMARY:Story & Song Book Group
DESCRIPTION:The Story & Song Fiction Book group meets on the 1st Thursday of every month. \nEnjoy Happy Hour prices for wine and craft beer and come enjoy the conversation! \nSee upcoming S&S Book Group selections on our website.
URL:https://www.ameliaisland.com/activity/story-song-book-group-2/2027-02-04/
LOCATION:Story & Song Centre for Arts and Culture\, 1430 Park Avenue\, Fernandina Beach\, FL\, 32034
ATTACH;FMTTYPE=image/jpeg:https://www.ameliaisland.com/wp-content/uploads/SS-Fiction-Book-Group-.jpeg
END:VEVENT
BEGIN:VEVENT
DTSTART;TZID=America/New_York:20270304T170000
DTEND;TZID=America/New_York:20270304T183000
DTSTAMP:20260420T034028
CREATED:20241107T132338Z
LAST-MODIFIED:20241107T132338Z
UID:10016243-1804179600-1804185000@www.ameliaisland.com
SUMMARY:Story & Song Book Group
DESCRIPTION:The Story & Song Fiction Book group meets on the 1st Thursday of every month. \nEnjoy Happy Hour prices for wine and craft beer and come enjoy the conversation! \nSee upcoming S&S Book Group selections on our website.
URL:https://www.ameliaisland.com/activity/story-song-book-group-2/2027-03-04/
LOCATION:Story & Song Centre for Arts and Culture\, 1430 Park Avenue\, Fernandina Beach\, FL\, 32034
ATTACH;FMTTYPE=image/jpeg:https://www.ameliaisland.com/wp-content/uploads/SS-Fiction-Book-Group-.jpeg
END:VEVENT
BEGIN:VEVENT
DTSTART;TZID=America/New_York:20270401T170000
DTEND;TZID=America/New_York:20270401T183000
DTSTAMP:20260420T034028
CREATED:20241107T132338Z
LAST-MODIFIED:20241107T132338Z
UID:10016244-1806598800-1806604200@www.ameliaisland.com
SUMMARY:Story & Song Book Group
DESCRIPTION:The Story & Song Fiction Book group meets on the 1st Thursday of every month. \nEnjoy Happy Hour prices for wine and craft beer and come enjoy the conversation! \nSee upcoming S&S Book Group selections on our website.
URL:https://www.ameliaisland.com/activity/story-song-book-group-2/2027-04-01/
LOCATION:Story & Song Centre for Arts and Culture\, 1430 Park Avenue\, Fernandina Beach\, FL\, 32034
ATTACH;FMTTYPE=image/jpeg:https://www.ameliaisland.com/wp-content/uploads/SS-Fiction-Book-Group-.jpeg
END:VEVENT
BEGIN:VEVENT
DTSTART;TZID=America/New_York:20270506T170000
DTEND;TZID=America/New_York:20270506T183000
DTSTAMP:20260420T034028
CREATED:20241107T132338Z
LAST-MODIFIED:20241107T132338Z
UID:10016245-1809622800-1809628200@www.ameliaisland.com
SUMMARY:Story & Song Book Group
DESCRIPTION:The Story & Song Fiction Book group meets on the 1st Thursday of every month. \nEnjoy Happy Hour prices for wine and craft beer and come enjoy the conversation! \nSee upcoming S&S Book Group selections on our website.
URL:https://www.ameliaisland.com/activity/story-song-book-group-2/2027-05-06/
LOCATION:Story & Song Centre for Arts and Culture\, 1430 Park Avenue\, Fernandina Beach\, FL\, 32034
ATTACH;FMTTYPE=image/jpeg:https://www.ameliaisland.com/wp-content/uploads/SS-Fiction-Book-Group-.jpeg
END:VEVENT
BEGIN:VEVENT
DTSTART;TZID=America/New_York:20270603T170000
DTEND;TZID=America/New_York:20270603T183000
DTSTAMP:20260420T034028
CREATED:20241107T132338Z
LAST-MODIFIED:20241107T132338Z
UID:10016246-1812042000-1812047400@www.ameliaisland.com
SUMMARY:Story & Song Book Group
DESCRIPTION:The Story & Song Fiction Book group meets on the 1st Thursday of every month. \nEnjoy Happy Hour prices for wine and craft beer and come enjoy the conversation! \nSee upcoming S&S Book Group selections on our website.
URL:https://www.ameliaisland.com/activity/story-song-book-group-2/2027-06-03/
LOCATION:Story & Song Centre for Arts and Culture\, 1430 Park Avenue\, Fernandina Beach\, FL\, 32034
ATTACH;FMTTYPE=image/jpeg:https://www.ameliaisland.com/wp-content/uploads/SS-Fiction-Book-Group-.jpeg
END:VEVENT
BEGIN:VEVENT
DTSTART;TZID=America/New_York:20270701T170000
DTEND;TZID=America/New_York:20270701T183000
DTSTAMP:20260420T034028
CREATED:20241107T132338Z
LAST-MODIFIED:20241107T132338Z
UID:10016247-1814461200-1814466600@www.ameliaisland.com
SUMMARY:Story & Song Book Group
DESCRIPTION:The Story & Song Fiction Book group meets on the 1st Thursday of every month. \nEnjoy Happy Hour prices for wine and craft beer and come enjoy the conversation! \nSee upcoming S&S Book Group selections on our website.
URL:https://www.ameliaisland.com/activity/story-song-book-group-2/2027-07-01/
LOCATION:Story & Song Centre for Arts and Culture\, 1430 Park Avenue\, Fernandina Beach\, FL\, 32034
ATTACH;FMTTYPE=image/jpeg:https://www.ameliaisland.com/wp-content/uploads/SS-Fiction-Book-Group-.jpeg
END:VEVENT
BEGIN:VEVENT
DTSTART;TZID=America/New_York:20270805T170000
DTEND;TZID=America/New_York:20270805T183000
DTSTAMP:20260420T034028
CREATED:20241107T132338Z
LAST-MODIFIED:20241107T132338Z
UID:10016248-1817485200-1817490600@www.ameliaisland.com
SUMMARY:Story & Song Book Group
DESCRIPTION:The Story & Song Fiction Book group meets on the 1st Thursday of every month. \nEnjoy Happy Hour prices for wine and craft beer and come enjoy the conversation! \nSee upcoming S&S Book Group selections on our website.
URL:https://www.ameliaisland.com/activity/story-song-book-group-2/2027-08-05/
LOCATION:Story & Song Centre for Arts and Culture\, 1430 Park Avenue\, Fernandina Beach\, FL\, 32034
ATTACH;FMTTYPE=image/jpeg:https://www.ameliaisland.com/wp-content/uploads/SS-Fiction-Book-Group-.jpeg
END:VEVENT
BEGIN:VEVENT
DTSTART;TZID=America/New_York:20270902T170000
DTEND;TZID=America/New_York:20270902T183000
DTSTAMP:20260420T034028
CREATED:20241107T132338Z
LAST-MODIFIED:20241107T132338Z
UID:10016249-1819904400-1819909800@www.ameliaisland.com
SUMMARY:Story & Song Book Group
DESCRIPTION:The Story & Song Fiction Book group meets on the 1st Thursday of every month. \nEnjoy Happy Hour prices for wine and craft beer and come enjoy the conversation! \nSee upcoming S&S Book Group selections on our website.
URL:https://www.ameliaisland.com/activity/story-song-book-group-2/2027-09-02/
LOCATION:Story & Song Centre for Arts and Culture\, 1430 Park Avenue\, Fernandina Beach\, FL\, 32034
ATTACH;FMTTYPE=image/jpeg:https://www.ameliaisland.com/wp-content/uploads/SS-Fiction-Book-Group-.jpeg
END:VEVENT
BEGIN:VEVENT
DTSTART;TZID=America/New_York:20271007T170000
DTEND;TZID=America/New_York:20271007T183000
DTSTAMP:20260420T034029
CREATED:20241107T132338Z
LAST-MODIFIED:20241107T132338Z
UID:10016250-1822928400-1822933800@www.ameliaisland.com
SUMMARY:Story & Song Book Group
DESCRIPTION:The Story & Song Fiction Book group meets on the 1st Thursday of every month. \nEnjoy Happy Hour prices for wine and craft beer and come enjoy the conversation! \nSee upcoming S&S Book Group selections on our website.
URL:https://www.ameliaisland.com/activity/story-song-book-group-2/2027-10-07/
LOCATION:Story & Song Centre for Arts and Culture\, 1430 Park Avenue\, Fernandina Beach\, FL\, 32034
ATTACH;FMTTYPE=image/jpeg:https://www.ameliaisland.com/wp-content/uploads/SS-Fiction-Book-Group-.jpeg
END:VEVENT
BEGIN:VEVENT
DTSTART;TZID=America/New_York:20271104T170000
DTEND;TZID=America/New_York:20271104T183000
DTSTAMP:20260420T034029
CREATED:20241107T132338Z
LAST-MODIFIED:20241107T132338Z
UID:10016251-1825347600-1825353000@www.ameliaisland.com
SUMMARY:Story & Song Book Group
DESCRIPTION:The Story & Song Fiction Book group meets on the 1st Thursday of every month. \nEnjoy Happy Hour prices for wine and craft beer and come enjoy the conversation! \nSee upcoming S&S Book Group selections on our website.
URL:https://www.ameliaisland.com/activity/story-song-book-group-2/2027-11-04/
LOCATION:Story & Song Centre for Arts and Culture\, 1430 Park Avenue\, Fernandina Beach\, FL\, 32034
ATTACH;FMTTYPE=image/jpeg:https://www.ameliaisland.com/wp-content/uploads/SS-Fiction-Book-Group-.jpeg
END:VEVENT
BEGIN:VEVENT
DTSTART;TZID=America/New_York:20271202T170000
DTEND;TZID=America/New_York:20271202T183000
DTSTAMP:20260420T034029
CREATED:20241107T132338Z
LAST-MODIFIED:20241107T132338Z
UID:10016252-1827766800-1827772200@www.ameliaisland.com
SUMMARY:Story & Song Book Group
DESCRIPTION:The Story & Song Fiction Book group meets on the 1st Thursday of every month. \nEnjoy Happy Hour prices for wine and craft beer and come enjoy the conversation! \nSee upcoming S&S Book Group selections on our website.
URL:https://www.ameliaisland.com/activity/story-song-book-group-2/2027-12-02/
LOCATION:Story & Song Centre for Arts and Culture\, 1430 Park Avenue\, Fernandina Beach\, FL\, 32034
ATTACH;FMTTYPE=image/jpeg:https://www.ameliaisland.com/wp-content/uploads/SS-Fiction-Book-Group-.jpeg
END:VEVENT
BEGIN:VEVENT
DTSTART;TZID=America/New_York:20280106T170000
DTEND;TZID=America/New_York:20280106T183000
DTSTAMP:20260420T034029
CREATED:20241107T132338Z
LAST-MODIFIED:20241107T132338Z
UID:10016253-1830790800-1830796200@www.ameliaisland.com
SUMMARY:Story & Song Book Group
DESCRIPTION:The Story & Song Fiction Book group meets on the 1st Thursday of every month. \nEnjoy Happy Hour prices for wine and craft beer and come enjoy the conversation! \nSee upcoming S&S Book Group selections on our website.
URL:https://www.ameliaisland.com/activity/story-song-book-group-2/2028-01-06/
LOCATION:Story & Song Centre for Arts and Culture\, 1430 Park Avenue\, Fernandina Beach\, FL\, 32034
ATTACH;FMTTYPE=image/jpeg:https://www.ameliaisland.com/wp-content/uploads/SS-Fiction-Book-Group-.jpeg
END:VEVENT
BEGIN:VEVENT
DTSTART;TZID=America/New_York:20280203T170000
DTEND;TZID=America/New_York:20280203T183000
DTSTAMP:20260420T034029
CREATED:20241107T132338Z
LAST-MODIFIED:20241107T132338Z
UID:10016254-1833210000-1833215400@www.ameliaisland.com
SUMMARY:Story & Song Book Group
DESCRIPTION:The Story & Song Fiction Book group meets on the 1st Thursday of every month. \nEnjoy Happy Hour prices for wine and craft beer and come enjoy the conversation! \nSee upcoming S&S Book Group selections on our website.
URL:https://www.ameliaisland.com/activity/story-song-book-group-2/2028-02-03/
LOCATION:Story & Song Centre for Arts and Culture\, 1430 Park Avenue\, Fernandina Beach\, FL\, 32034
ATTACH;FMTTYPE=image/jpeg:https://www.ameliaisland.com/wp-content/uploads/SS-Fiction-Book-Group-.jpeg
END:VEVENT
BEGIN:VEVENT
DTSTART;TZID=America/New_York:20280302T170000
DTEND;TZID=America/New_York:20280302T183000
DTSTAMP:20260420T034029
CREATED:20241107T132338Z
LAST-MODIFIED:20241107T132338Z
UID:10016255-1835629200-1835634600@www.ameliaisland.com
SUMMARY:Story & Song Book Group
DESCRIPTION:The Story & Song Fiction Book group meets on the 1st Thursday of every month. \nEnjoy Happy Hour prices for wine and craft beer and come enjoy the conversation! \nSee upcoming S&S Book Group selections on our website.
URL:https://www.ameliaisland.com/activity/story-song-book-group-2/2028-03-02/
LOCATION:Story & Song Centre for Arts and Culture\, 1430 Park Avenue\, Fernandina Beach\, FL\, 32034
ATTACH;FMTTYPE=image/jpeg:https://www.ameliaisland.com/wp-content/uploads/SS-Fiction-Book-Group-.jpeg
END:VEVENT
BEGIN:VEVENT
DTSTART;TZID=America/New_York:20280406T170000
DTEND;TZID=America/New_York:20280406T183000
DTSTAMP:20260420T034029
CREATED:20241107T132338Z
LAST-MODIFIED:20241107T132338Z
UID:10016256-1838653200-1838658600@www.ameliaisland.com
SUMMARY:Story & Song Book Group
DESCRIPTION:The Story & Song Fiction Book group meets on the 1st Thursday of every month. \nEnjoy Happy Hour prices for wine and craft beer and come enjoy the conversation! \nSee upcoming S&S Book Group selections on our website.
URL:https://www.ameliaisland.com/activity/story-song-book-group-2/2028-04-06/
LOCATION:Story & Song Centre for Arts and Culture\, 1430 Park Avenue\, Fernandina Beach\, FL\, 32034
ATTACH;FMTTYPE=image/jpeg:https://www.ameliaisland.com/wp-content/uploads/SS-Fiction-Book-Group-.jpeg
END:VEVENT
BEGIN:VEVENT
DTSTART;TZID=America/New_York:20280504T170000
DTEND;TZID=America/New_York:20280504T183000
DTSTAMP:20260420T034029
CREATED:20241107T132338Z
LAST-MODIFIED:20241107T132338Z
UID:10016257-1841072400-1841077800@www.ameliaisland.com
SUMMARY:Story & Song Book Group
DESCRIPTION:The Story & Song Fiction Book group meets on the 1st Thursday of every month. \nEnjoy Happy Hour prices for wine and craft beer and come enjoy the conversation! \nSee upcoming S&S Book Group selections on our website.
URL:https://www.ameliaisland.com/activity/story-song-book-group-2/2028-05-04/
LOCATION:Story & Song Centre for Arts and Culture\, 1430 Park Avenue\, Fernandina Beach\, FL\, 32034
ATTACH;FMTTYPE=image/jpeg:https://www.ameliaisland.com/wp-content/uploads/SS-Fiction-Book-Group-.jpeg
END:VEVENT
BEGIN:VEVENT
DTSTART;TZID=America/New_York:20280601T170000
DTEND;TZID=America/New_York:20280601T183000
DTSTAMP:20260420T034029
CREATED:20241107T132338Z
LAST-MODIFIED:20241107T132338Z
UID:10016258-1843491600-1843497000@www.ameliaisland.com
SUMMARY:Story & Song Book Group
DESCRIPTION:The Story & Song Fiction Book group meets on the 1st Thursday of every month. \nEnjoy Happy Hour prices for wine and craft beer and come enjoy the conversation! \nSee upcoming S&S Book Group selections on our website.
URL:https://www.ameliaisland.com/activity/story-song-book-group-2/2028-06-01/
LOCATION:Story & Song Centre for Arts and Culture\, 1430 Park Avenue\, Fernandina Beach\, FL\, 32034
ATTACH;FMTTYPE=image/jpeg:https://www.ameliaisland.com/wp-content/uploads/SS-Fiction-Book-Group-.jpeg
END:VEVENT
BEGIN:VEVENT
DTSTART;TZID=America/New_York:20280706T170000
DTEND;TZID=America/New_York:20280706T183000
DTSTAMP:20260420T034029
CREATED:20241107T132338Z
LAST-MODIFIED:20241107T132338Z
UID:10016259-1846515600-1846521000@www.ameliaisland.com
SUMMARY:Story & Song Book Group
DESCRIPTION:The Story & Song Fiction Book group meets on the 1st Thursday of every month. \nEnjoy Happy Hour prices for wine and craft beer and come enjoy the conversation! \nSee upcoming S&S Book Group selections on our website.
URL:https://www.ameliaisland.com/activity/story-song-book-group-2/2028-07-06/
LOCATION:Story & Song Centre for Arts and Culture\, 1430 Park Avenue\, Fernandina Beach\, FL\, 32034
ATTACH;FMTTYPE=image/jpeg:https://www.ameliaisland.com/wp-content/uploads/SS-Fiction-Book-Group-.jpeg
END:VEVENT
BEGIN:VEVENT
DTSTART;TZID=America/New_York:20280803T170000
DTEND;TZID=America/New_York:20280803T183000
DTSTAMP:20260420T034029
CREATED:20241107T132338Z
LAST-MODIFIED:20241107T132338Z
UID:10016260-1848934800-1848940200@www.ameliaisland.com
SUMMARY:Story & Song Book Group
DESCRIPTION:The Story & Song Fiction Book group meets on the 1st Thursday of every month. \nEnjoy Happy Hour prices for wine and craft beer and come enjoy the conversation! \nSee upcoming S&S Book Group selections on our website.
URL:https://www.ameliaisland.com/activity/story-song-book-group-2/2028-08-03/
LOCATION:Story & Song Centre for Arts and Culture\, 1430 Park Avenue\, Fernandina Beach\, FL\, 32034
ATTACH;FMTTYPE=image/jpeg:https://www.ameliaisland.com/wp-content/uploads/SS-Fiction-Book-Group-.jpeg
END:VEVENT
BEGIN:VEVENT
DTSTART;TZID=America/New_York:20280907T170000
DTEND;TZID=America/New_York:20280907T183000
DTSTAMP:20260420T034029
CREATED:20241107T132338Z
LAST-MODIFIED:20241107T132338Z
UID:10016261-1851958800-1851964200@www.ameliaisland.com
SUMMARY:Story & Song Book Group
DESCRIPTION:The Story & Song Fiction Book group meets on the 1st Thursday of every month. \nEnjoy Happy Hour prices for wine and craft beer and come enjoy the conversation! \nSee upcoming S&S Book Group selections on our website.
URL:https://www.ameliaisland.com/activity/story-song-book-group-2/2028-09-07/
LOCATION:Story & Song Centre for Arts and Culture\, 1430 Park Avenue\, Fernandina Beach\, FL\, 32034
ATTACH;FMTTYPE=image/jpeg:https://www.ameliaisland.com/wp-content/uploads/SS-Fiction-Book-Group-.jpeg
END:VEVENT
BEGIN:VEVENT
DTSTART;TZID=America/New_York:20281005T170000
DTEND;TZID=America/New_York:20281005T183000
DTSTAMP:20260420T034029
CREATED:20241107T132338Z
LAST-MODIFIED:20241107T132338Z
UID:10016262-1854378000-1854383400@www.ameliaisland.com
SUMMARY:Story & Song Book Group
DESCRIPTION:The Story & Song Fiction Book group meets on the 1st Thursday of every month. \nEnjoy Happy Hour prices for wine and craft beer and come enjoy the conversation! \nSee upcoming S&S Book Group selections on our website.
URL:https://www.ameliaisland.com/activity/story-song-book-group-2/2028-10-05/
LOCATION:Story & Song Centre for Arts and Culture\, 1430 Park Avenue\, Fernandina Beach\, FL\, 32034
ATTACH;FMTTYPE=image/jpeg:https://www.ameliaisland.com/wp-content/uploads/SS-Fiction-Book-Group-.jpeg
END:VEVENT
END:VCALENDAR