BEGIN:VCALENDAR
VERSION:2.0
PRODID:-//Amelia Island - ECPv6.8.0//NONSGML v1.0//EN
CALSCALE:GREGORIAN
METHOD:PUBLISH
X-ORIGINAL-URL:https://www.ameliaisland.com
X-WR-CALDESC:Events for Amelia Island
REFRESH-INTERVAL;VALUE=DURATION:PT1H
X-Robots-Tag:noindex
X-PUBLISHED-TTL:PT1H
BEGIN:VTIMEZONE
TZID:America/New_York
BEGIN:DAYLIGHT
TZOFFSETFROM:-0500
TZOFFSETTO:-0400
TZNAME:EDT
DTSTART:20260308T070000
END:DAYLIGHT
BEGIN:STANDARD
TZOFFSETFROM:-0400
TZOFFSETTO:-0500
TZNAME:EST
DTSTART:20261101T060000
END:STANDARD
END:VTIMEZONE
BEGIN:VEVENT
DTSTART;TZID=America/New_York:20260424T180000
DTEND;TZID=America/New_York:20260424T190000
DTSTAMP:20260421T043911
CREATED:20260211T210419Z
LAST-MODIFIED:20260211T210419Z
UID:10029217-1777053600-1777057200@www.ameliaisland.com
SUMMARY:Adult Twilight BYOB Cruise
DESCRIPTION:Unwind. Sip. Sway. Repeat. Trade your barstool for a boat deck and come chase the sunset with us on Amelia Island’s most relaxing and romantic twilight experience. \nThis Adult Twilight BYOB cruise is all about good vibes and gorgeous views. Bring your favorite drinks and snacks\, settle in with friends or a date\, and let one of the First Coast’s top local musicians set the soundtrack as the sky catches fire with an amazing sunset. Watch playful wild dolphins dance beside the boat. Drift past shrimp boats\, Fort Clinch\, and the Cumberland Island Seashore. Enjoy two full hours of live music. BYOB\, kick back\, and chill out under the open sky. \nThis is not a history tour – it’s a sunset celebration. Think laid-back\, unplugged\, and unforgettable. Whether you’re celebrating something big or just want a memorable way to spend your evening\, this is the boat you want to be on. Restrooms onboard. Reservations suggested. Bring your best bottle. \nBring your favorite beverages and snacks\, our boats offer plenty of comfort\, shade\, and open seating. Take in the stunning views of Fernandina’s charming shrimp fleet\, historic Fort Clinch\, maritime forests\, Old Town\, the Cumberland Island National Seashore\, and more. Let the music guide you into the evening as nature puts on its own show. 21+ ONLY. \nNOTE: DEPARTURE TIMES CHANGE THROUGHOUT THE YEAR ACCORDING TO THE SUNSET. CHECK WITH AMELIA RIVER CRUISES FOR CORRECT DEPARTURE TIME. \n 
URL:https://www.ameliaisland.com/activity/adult-twilight-byob-cruise/2026-04-24/
LOCATION:Amelia River Cruises and Charters\, 1 North Front Street\, Suite 3\, Fernandina Beach\, 32034\, United States
ATTACH;FMTTYPE=image/jpeg:https://www.ameliaisland.com/wp-content/uploads/twilight-BYOB-amelia-river-cruise.jpg
END:VEVENT
BEGIN:VEVENT
DTSTART;TZID=America/New_York:20260425T180000
DTEND;TZID=America/New_York:20260425T190000
DTSTAMP:20260421T043912
CREATED:20260211T210419Z
LAST-MODIFIED:20260211T210419Z
UID:10029218-1777140000-1777143600@www.ameliaisland.com
SUMMARY:Adult Twilight BYOB Cruise
DESCRIPTION:Unwind. Sip. Sway. Repeat. Trade your barstool for a boat deck and come chase the sunset with us on Amelia Island’s most relaxing and romantic twilight experience. \nThis Adult Twilight BYOB cruise is all about good vibes and gorgeous views. Bring your favorite drinks and snacks\, settle in with friends or a date\, and let one of the First Coast’s top local musicians set the soundtrack as the sky catches fire with an amazing sunset. Watch playful wild dolphins dance beside the boat. Drift past shrimp boats\, Fort Clinch\, and the Cumberland Island Seashore. Enjoy two full hours of live music. BYOB\, kick back\, and chill out under the open sky. \nThis is not a history tour – it’s a sunset celebration. Think laid-back\, unplugged\, and unforgettable. Whether you’re celebrating something big or just want a memorable way to spend your evening\, this is the boat you want to be on. Restrooms onboard. Reservations suggested. Bring your best bottle. \nBring your favorite beverages and snacks\, our boats offer plenty of comfort\, shade\, and open seating. Take in the stunning views of Fernandina’s charming shrimp fleet\, historic Fort Clinch\, maritime forests\, Old Town\, the Cumberland Island National Seashore\, and more. Let the music guide you into the evening as nature puts on its own show. 21+ ONLY. \nNOTE: DEPARTURE TIMES CHANGE THROUGHOUT THE YEAR ACCORDING TO THE SUNSET. CHECK WITH AMELIA RIVER CRUISES FOR CORRECT DEPARTURE TIME. \n 
URL:https://www.ameliaisland.com/activity/adult-twilight-byob-cruise/2026-04-25/
LOCATION:Amelia River Cruises and Charters\, 1 North Front Street\, Suite 3\, Fernandina Beach\, 32034\, United States
ATTACH;FMTTYPE=image/jpeg:https://www.ameliaisland.com/wp-content/uploads/twilight-BYOB-amelia-river-cruise.jpg
END:VEVENT
BEGIN:VEVENT
DTSTART;TZID=America/New_York:20260508T180000
DTEND;TZID=America/New_York:20260508T190000
DTSTAMP:20260421T043912
CREATED:20260211T210419Z
LAST-MODIFIED:20260211T210419Z
UID:10029219-1778263200-1778266800@www.ameliaisland.com
SUMMARY:Adult Twilight BYOB Cruise
DESCRIPTION:Unwind. Sip. Sway. Repeat. Trade your barstool for a boat deck and come chase the sunset with us on Amelia Island’s most relaxing and romantic twilight experience. \nThis Adult Twilight BYOB cruise is all about good vibes and gorgeous views. Bring your favorite drinks and snacks\, settle in with friends or a date\, and let one of the First Coast’s top local musicians set the soundtrack as the sky catches fire with an amazing sunset. Watch playful wild dolphins dance beside the boat. Drift past shrimp boats\, Fort Clinch\, and the Cumberland Island Seashore. Enjoy two full hours of live music. BYOB\, kick back\, and chill out under the open sky. \nThis is not a history tour – it’s a sunset celebration. Think laid-back\, unplugged\, and unforgettable. Whether you’re celebrating something big or just want a memorable way to spend your evening\, this is the boat you want to be on. Restrooms onboard. Reservations suggested. Bring your best bottle. \nBring your favorite beverages and snacks\, our boats offer plenty of comfort\, shade\, and open seating. Take in the stunning views of Fernandina’s charming shrimp fleet\, historic Fort Clinch\, maritime forests\, Old Town\, the Cumberland Island National Seashore\, and more. Let the music guide you into the evening as nature puts on its own show. 21+ ONLY. \nNOTE: DEPARTURE TIMES CHANGE THROUGHOUT THE YEAR ACCORDING TO THE SUNSET. CHECK WITH AMELIA RIVER CRUISES FOR CORRECT DEPARTURE TIME. \n 
URL:https://www.ameliaisland.com/activity/adult-twilight-byob-cruise/2026-05-08/
LOCATION:Amelia River Cruises and Charters\, 1 North Front Street\, Suite 3\, Fernandina Beach\, 32034\, United States
ATTACH;FMTTYPE=image/jpeg:https://www.ameliaisland.com/wp-content/uploads/twilight-BYOB-amelia-river-cruise.jpg
END:VEVENT
BEGIN:VEVENT
DTSTART;TZID=America/New_York:20260509T180000
DTEND;TZID=America/New_York:20260509T190000
DTSTAMP:20260421T043912
CREATED:20260211T210419Z
LAST-MODIFIED:20260211T210419Z
UID:10029220-1778349600-1778353200@www.ameliaisland.com
SUMMARY:Adult Twilight BYOB Cruise
DESCRIPTION:Unwind. Sip. Sway. Repeat. Trade your barstool for a boat deck and come chase the sunset with us on Amelia Island’s most relaxing and romantic twilight experience. \nThis Adult Twilight BYOB cruise is all about good vibes and gorgeous views. Bring your favorite drinks and snacks\, settle in with friends or a date\, and let one of the First Coast’s top local musicians set the soundtrack as the sky catches fire with an amazing sunset. Watch playful wild dolphins dance beside the boat. Drift past shrimp boats\, Fort Clinch\, and the Cumberland Island Seashore. Enjoy two full hours of live music. BYOB\, kick back\, and chill out under the open sky. \nThis is not a history tour – it’s a sunset celebration. Think laid-back\, unplugged\, and unforgettable. Whether you’re celebrating something big or just want a memorable way to spend your evening\, this is the boat you want to be on. Restrooms onboard. Reservations suggested. Bring your best bottle. \nBring your favorite beverages and snacks\, our boats offer plenty of comfort\, shade\, and open seating. Take in the stunning views of Fernandina’s charming shrimp fleet\, historic Fort Clinch\, maritime forests\, Old Town\, the Cumberland Island National Seashore\, and more. Let the music guide you into the evening as nature puts on its own show. 21+ ONLY. \nNOTE: DEPARTURE TIMES CHANGE THROUGHOUT THE YEAR ACCORDING TO THE SUNSET. CHECK WITH AMELIA RIVER CRUISES FOR CORRECT DEPARTURE TIME. \n 
URL:https://www.ameliaisland.com/activity/adult-twilight-byob-cruise/2026-05-09/
LOCATION:Amelia River Cruises and Charters\, 1 North Front Street\, Suite 3\, Fernandina Beach\, 32034\, United States
ATTACH;FMTTYPE=image/jpeg:https://www.ameliaisland.com/wp-content/uploads/twilight-BYOB-amelia-river-cruise.jpg
END:VEVENT
BEGIN:VEVENT
DTSTART;TZID=America/New_York:20260515T180000
DTEND;TZID=America/New_York:20260515T190000
DTSTAMP:20260421T043912
CREATED:20260211T210419Z
LAST-MODIFIED:20260211T210419Z
UID:10029221-1778868000-1778871600@www.ameliaisland.com
SUMMARY:Adult Twilight BYOB Cruise
DESCRIPTION:Unwind. Sip. Sway. Repeat. Trade your barstool for a boat deck and come chase the sunset with us on Amelia Island’s most relaxing and romantic twilight experience. \nThis Adult Twilight BYOB cruise is all about good vibes and gorgeous views. Bring your favorite drinks and snacks\, settle in with friends or a date\, and let one of the First Coast’s top local musicians set the soundtrack as the sky catches fire with an amazing sunset. Watch playful wild dolphins dance beside the boat. Drift past shrimp boats\, Fort Clinch\, and the Cumberland Island Seashore. Enjoy two full hours of live music. BYOB\, kick back\, and chill out under the open sky. \nThis is not a history tour – it’s a sunset celebration. Think laid-back\, unplugged\, and unforgettable. Whether you’re celebrating something big or just want a memorable way to spend your evening\, this is the boat you want to be on. Restrooms onboard. Reservations suggested. Bring your best bottle. \nBring your favorite beverages and snacks\, our boats offer plenty of comfort\, shade\, and open seating. Take in the stunning views of Fernandina’s charming shrimp fleet\, historic Fort Clinch\, maritime forests\, Old Town\, the Cumberland Island National Seashore\, and more. Let the music guide you into the evening as nature puts on its own show. 21+ ONLY. \nNOTE: DEPARTURE TIMES CHANGE THROUGHOUT THE YEAR ACCORDING TO THE SUNSET. CHECK WITH AMELIA RIVER CRUISES FOR CORRECT DEPARTURE TIME. \n 
URL:https://www.ameliaisland.com/activity/adult-twilight-byob-cruise/2026-05-15/
LOCATION:Amelia River Cruises and Charters\, 1 North Front Street\, Suite 3\, Fernandina Beach\, 32034\, United States
ATTACH;FMTTYPE=image/jpeg:https://www.ameliaisland.com/wp-content/uploads/twilight-BYOB-amelia-river-cruise.jpg
END:VEVENT
BEGIN:VEVENT
DTSTART;TZID=America/New_York:20260516T180000
DTEND;TZID=America/New_York:20260516T190000
DTSTAMP:20260421T043912
CREATED:20260211T210419Z
LAST-MODIFIED:20260211T210419Z
UID:10029222-1778954400-1778958000@www.ameliaisland.com
SUMMARY:Adult Twilight BYOB Cruise
DESCRIPTION:Unwind. Sip. Sway. Repeat. Trade your barstool for a boat deck and come chase the sunset with us on Amelia Island’s most relaxing and romantic twilight experience. \nThis Adult Twilight BYOB cruise is all about good vibes and gorgeous views. Bring your favorite drinks and snacks\, settle in with friends or a date\, and let one of the First Coast’s top local musicians set the soundtrack as the sky catches fire with an amazing sunset. Watch playful wild dolphins dance beside the boat. Drift past shrimp boats\, Fort Clinch\, and the Cumberland Island Seashore. Enjoy two full hours of live music. BYOB\, kick back\, and chill out under the open sky. \nThis is not a history tour – it’s a sunset celebration. Think laid-back\, unplugged\, and unforgettable. Whether you’re celebrating something big or just want a memorable way to spend your evening\, this is the boat you want to be on. Restrooms onboard. Reservations suggested. Bring your best bottle. \nBring your favorite beverages and snacks\, our boats offer plenty of comfort\, shade\, and open seating. Take in the stunning views of Fernandina’s charming shrimp fleet\, historic Fort Clinch\, maritime forests\, Old Town\, the Cumberland Island National Seashore\, and more. Let the music guide you into the evening as nature puts on its own show. 21+ ONLY. \nNOTE: DEPARTURE TIMES CHANGE THROUGHOUT THE YEAR ACCORDING TO THE SUNSET. CHECK WITH AMELIA RIVER CRUISES FOR CORRECT DEPARTURE TIME. \n 
URL:https://www.ameliaisland.com/activity/adult-twilight-byob-cruise/2026-05-16/
LOCATION:Amelia River Cruises and Charters\, 1 North Front Street\, Suite 3\, Fernandina Beach\, 32034\, United States
ATTACH;FMTTYPE=image/jpeg:https://www.ameliaisland.com/wp-content/uploads/twilight-BYOB-amelia-river-cruise.jpg
END:VEVENT
BEGIN:VEVENT
DTSTART;TZID=America/New_York:20260522T180000
DTEND;TZID=America/New_York:20260522T190000
DTSTAMP:20260421T043912
CREATED:20260211T210419Z
LAST-MODIFIED:20260211T210419Z
UID:10029223-1779472800-1779476400@www.ameliaisland.com
SUMMARY:Adult Twilight BYOB Cruise
DESCRIPTION:Unwind. Sip. Sway. Repeat. Trade your barstool for a boat deck and come chase the sunset with us on Amelia Island’s most relaxing and romantic twilight experience. \nThis Adult Twilight BYOB cruise is all about good vibes and gorgeous views. Bring your favorite drinks and snacks\, settle in with friends or a date\, and let one of the First Coast’s top local musicians set the soundtrack as the sky catches fire with an amazing sunset. Watch playful wild dolphins dance beside the boat. Drift past shrimp boats\, Fort Clinch\, and the Cumberland Island Seashore. Enjoy two full hours of live music. BYOB\, kick back\, and chill out under the open sky. \nThis is not a history tour – it’s a sunset celebration. Think laid-back\, unplugged\, and unforgettable. Whether you’re celebrating something big or just want a memorable way to spend your evening\, this is the boat you want to be on. Restrooms onboard. Reservations suggested. Bring your best bottle. \nBring your favorite beverages and snacks\, our boats offer plenty of comfort\, shade\, and open seating. Take in the stunning views of Fernandina’s charming shrimp fleet\, historic Fort Clinch\, maritime forests\, Old Town\, the Cumberland Island National Seashore\, and more. Let the music guide you into the evening as nature puts on its own show. 21+ ONLY. \nNOTE: DEPARTURE TIMES CHANGE THROUGHOUT THE YEAR ACCORDING TO THE SUNSET. CHECK WITH AMELIA RIVER CRUISES FOR CORRECT DEPARTURE TIME. \n 
URL:https://www.ameliaisland.com/activity/adult-twilight-byob-cruise/2026-05-22/
LOCATION:Amelia River Cruises and Charters\, 1 North Front Street\, Suite 3\, Fernandina Beach\, 32034\, United States
ATTACH;FMTTYPE=image/jpeg:https://www.ameliaisland.com/wp-content/uploads/twilight-BYOB-amelia-river-cruise.jpg
END:VEVENT
BEGIN:VEVENT
DTSTART;TZID=America/New_York:20260523T180000
DTEND;TZID=America/New_York:20260523T190000
DTSTAMP:20260421T043912
CREATED:20260211T210419Z
LAST-MODIFIED:20260211T210419Z
UID:10029224-1779559200-1779562800@www.ameliaisland.com
SUMMARY:Adult Twilight BYOB Cruise
DESCRIPTION:Unwind. Sip. Sway. Repeat. Trade your barstool for a boat deck and come chase the sunset with us on Amelia Island’s most relaxing and romantic twilight experience. \nThis Adult Twilight BYOB cruise is all about good vibes and gorgeous views. Bring your favorite drinks and snacks\, settle in with friends or a date\, and let one of the First Coast’s top local musicians set the soundtrack as the sky catches fire with an amazing sunset. Watch playful wild dolphins dance beside the boat. Drift past shrimp boats\, Fort Clinch\, and the Cumberland Island Seashore. Enjoy two full hours of live music. BYOB\, kick back\, and chill out under the open sky. \nThis is not a history tour – it’s a sunset celebration. Think laid-back\, unplugged\, and unforgettable. Whether you’re celebrating something big or just want a memorable way to spend your evening\, this is the boat you want to be on. Restrooms onboard. Reservations suggested. Bring your best bottle. \nBring your favorite beverages and snacks\, our boats offer plenty of comfort\, shade\, and open seating. Take in the stunning views of Fernandina’s charming shrimp fleet\, historic Fort Clinch\, maritime forests\, Old Town\, the Cumberland Island National Seashore\, and more. Let the music guide you into the evening as nature puts on its own show. 21+ ONLY. \nNOTE: DEPARTURE TIMES CHANGE THROUGHOUT THE YEAR ACCORDING TO THE SUNSET. CHECK WITH AMELIA RIVER CRUISES FOR CORRECT DEPARTURE TIME. \n 
URL:https://www.ameliaisland.com/activity/adult-twilight-byob-cruise/2026-05-23/
LOCATION:Amelia River Cruises and Charters\, 1 North Front Street\, Suite 3\, Fernandina Beach\, 32034\, United States
ATTACH;FMTTYPE=image/jpeg:https://www.ameliaisland.com/wp-content/uploads/twilight-BYOB-amelia-river-cruise.jpg
END:VEVENT
BEGIN:VEVENT
DTSTART;TZID=America/New_York:20260529T180000
DTEND;TZID=America/New_York:20260529T190000
DTSTAMP:20260421T043912
CREATED:20260211T210419Z
LAST-MODIFIED:20260211T210419Z
UID:10029225-1780077600-1780081200@www.ameliaisland.com
SUMMARY:Adult Twilight BYOB Cruise
DESCRIPTION:Unwind. Sip. Sway. Repeat. Trade your barstool for a boat deck and come chase the sunset with us on Amelia Island’s most relaxing and romantic twilight experience. \nThis Adult Twilight BYOB cruise is all about good vibes and gorgeous views. Bring your favorite drinks and snacks\, settle in with friends or a date\, and let one of the First Coast’s top local musicians set the soundtrack as the sky catches fire with an amazing sunset. Watch playful wild dolphins dance beside the boat. Drift past shrimp boats\, Fort Clinch\, and the Cumberland Island Seashore. Enjoy two full hours of live music. BYOB\, kick back\, and chill out under the open sky. \nThis is not a history tour – it’s a sunset celebration. Think laid-back\, unplugged\, and unforgettable. Whether you’re celebrating something big or just want a memorable way to spend your evening\, this is the boat you want to be on. Restrooms onboard. Reservations suggested. Bring your best bottle. \nBring your favorite beverages and snacks\, our boats offer plenty of comfort\, shade\, and open seating. Take in the stunning views of Fernandina’s charming shrimp fleet\, historic Fort Clinch\, maritime forests\, Old Town\, the Cumberland Island National Seashore\, and more. Let the music guide you into the evening as nature puts on its own show. 21+ ONLY. \nNOTE: DEPARTURE TIMES CHANGE THROUGHOUT THE YEAR ACCORDING TO THE SUNSET. CHECK WITH AMELIA RIVER CRUISES FOR CORRECT DEPARTURE TIME. \n 
URL:https://www.ameliaisland.com/activity/adult-twilight-byob-cruise/2026-05-29/
LOCATION:Amelia River Cruises and Charters\, 1 North Front Street\, Suite 3\, Fernandina Beach\, 32034\, United States
ATTACH;FMTTYPE=image/jpeg:https://www.ameliaisland.com/wp-content/uploads/twilight-BYOB-amelia-river-cruise.jpg
END:VEVENT
BEGIN:VEVENT
DTSTART;TZID=America/New_York:20260530T180000
DTEND;TZID=America/New_York:20260530T190000
DTSTAMP:20260421T043912
CREATED:20260211T210419Z
LAST-MODIFIED:20260211T210419Z
UID:10029226-1780164000-1780167600@www.ameliaisland.com
SUMMARY:Adult Twilight BYOB Cruise
DESCRIPTION:Unwind. Sip. Sway. Repeat. Trade your barstool for a boat deck and come chase the sunset with us on Amelia Island’s most relaxing and romantic twilight experience. \nThis Adult Twilight BYOB cruise is all about good vibes and gorgeous views. Bring your favorite drinks and snacks\, settle in with friends or a date\, and let one of the First Coast’s top local musicians set the soundtrack as the sky catches fire with an amazing sunset. Watch playful wild dolphins dance beside the boat. Drift past shrimp boats\, Fort Clinch\, and the Cumberland Island Seashore. Enjoy two full hours of live music. BYOB\, kick back\, and chill out under the open sky. \nThis is not a history tour – it’s a sunset celebration. Think laid-back\, unplugged\, and unforgettable. Whether you’re celebrating something big or just want a memorable way to spend your evening\, this is the boat you want to be on. Restrooms onboard. Reservations suggested. Bring your best bottle. \nBring your favorite beverages and snacks\, our boats offer plenty of comfort\, shade\, and open seating. Take in the stunning views of Fernandina’s charming shrimp fleet\, historic Fort Clinch\, maritime forests\, Old Town\, the Cumberland Island National Seashore\, and more. Let the music guide you into the evening as nature puts on its own show. 21+ ONLY. \nNOTE: DEPARTURE TIMES CHANGE THROUGHOUT THE YEAR ACCORDING TO THE SUNSET. CHECK WITH AMELIA RIVER CRUISES FOR CORRECT DEPARTURE TIME. \n 
URL:https://www.ameliaisland.com/activity/adult-twilight-byob-cruise/2026-05-30/
LOCATION:Amelia River Cruises and Charters\, 1 North Front Street\, Suite 3\, Fernandina Beach\, 32034\, United States
ATTACH;FMTTYPE=image/jpeg:https://www.ameliaisland.com/wp-content/uploads/twilight-BYOB-amelia-river-cruise.jpg
END:VEVENT
BEGIN:VEVENT
DTSTART;TZID=America/New_York:20260605T180000
DTEND;TZID=America/New_York:20260605T190000
DTSTAMP:20260421T043912
CREATED:20260211T210419Z
LAST-MODIFIED:20260211T210419Z
UID:10029227-1780682400-1780686000@www.ameliaisland.com
SUMMARY:Adult Twilight BYOB Cruise
DESCRIPTION:Unwind. Sip. Sway. Repeat. Trade your barstool for a boat deck and come chase the sunset with us on Amelia Island’s most relaxing and romantic twilight experience. \nThis Adult Twilight BYOB cruise is all about good vibes and gorgeous views. Bring your favorite drinks and snacks\, settle in with friends or a date\, and let one of the First Coast’s top local musicians set the soundtrack as the sky catches fire with an amazing sunset. Watch playful wild dolphins dance beside the boat. Drift past shrimp boats\, Fort Clinch\, and the Cumberland Island Seashore. Enjoy two full hours of live music. BYOB\, kick back\, and chill out under the open sky. \nThis is not a history tour – it’s a sunset celebration. Think laid-back\, unplugged\, and unforgettable. Whether you’re celebrating something big or just want a memorable way to spend your evening\, this is the boat you want to be on. Restrooms onboard. Reservations suggested. Bring your best bottle. \nBring your favorite beverages and snacks\, our boats offer plenty of comfort\, shade\, and open seating. Take in the stunning views of Fernandina’s charming shrimp fleet\, historic Fort Clinch\, maritime forests\, Old Town\, the Cumberland Island National Seashore\, and more. Let the music guide you into the evening as nature puts on its own show. 21+ ONLY. \nNOTE: DEPARTURE TIMES CHANGE THROUGHOUT THE YEAR ACCORDING TO THE SUNSET. CHECK WITH AMELIA RIVER CRUISES FOR CORRECT DEPARTURE TIME. \n 
URL:https://www.ameliaisland.com/activity/adult-twilight-byob-cruise/2026-06-05/
LOCATION:Amelia River Cruises and Charters\, 1 North Front Street\, Suite 3\, Fernandina Beach\, 32034\, United States
ATTACH;FMTTYPE=image/jpeg:https://www.ameliaisland.com/wp-content/uploads/twilight-BYOB-amelia-river-cruise.jpg
END:VEVENT
BEGIN:VEVENT
DTSTART;TZID=America/New_York:20260606T180000
DTEND;TZID=America/New_York:20260606T190000
DTSTAMP:20260421T043912
CREATED:20260211T210419Z
LAST-MODIFIED:20260211T210419Z
UID:10029228-1780768800-1780772400@www.ameliaisland.com
SUMMARY:Adult Twilight BYOB Cruise
DESCRIPTION:Unwind. Sip. Sway. Repeat. Trade your barstool for a boat deck and come chase the sunset with us on Amelia Island’s most relaxing and romantic twilight experience. \nThis Adult Twilight BYOB cruise is all about good vibes and gorgeous views. Bring your favorite drinks and snacks\, settle in with friends or a date\, and let one of the First Coast’s top local musicians set the soundtrack as the sky catches fire with an amazing sunset. Watch playful wild dolphins dance beside the boat. Drift past shrimp boats\, Fort Clinch\, and the Cumberland Island Seashore. Enjoy two full hours of live music. BYOB\, kick back\, and chill out under the open sky. \nThis is not a history tour – it’s a sunset celebration. Think laid-back\, unplugged\, and unforgettable. Whether you’re celebrating something big or just want a memorable way to spend your evening\, this is the boat you want to be on. Restrooms onboard. Reservations suggested. Bring your best bottle. \nBring your favorite beverages and snacks\, our boats offer plenty of comfort\, shade\, and open seating. Take in the stunning views of Fernandina’s charming shrimp fleet\, historic Fort Clinch\, maritime forests\, Old Town\, the Cumberland Island National Seashore\, and more. Let the music guide you into the evening as nature puts on its own show. 21+ ONLY. \nNOTE: DEPARTURE TIMES CHANGE THROUGHOUT THE YEAR ACCORDING TO THE SUNSET. CHECK WITH AMELIA RIVER CRUISES FOR CORRECT DEPARTURE TIME. \n 
URL:https://www.ameliaisland.com/activity/adult-twilight-byob-cruise/2026-06-06/
LOCATION:Amelia River Cruises and Charters\, 1 North Front Street\, Suite 3\, Fernandina Beach\, 32034\, United States
ATTACH;FMTTYPE=image/jpeg:https://www.ameliaisland.com/wp-content/uploads/twilight-BYOB-amelia-river-cruise.jpg
END:VEVENT
END:VCALENDAR