BEGIN:VCALENDAR
VERSION:2.0
PRODID:-//Amelia Island - ECPv6.8.0//NONSGML v1.0//EN
CALSCALE:GREGORIAN
METHOD:PUBLISH
X-WR-CALNAME:Amelia Island
X-ORIGINAL-URL:https://www.ameliaisland.com
X-WR-CALDESC:Events for Amelia Island
REFRESH-INTERVAL;VALUE=DURATION:PT1H
X-Robots-Tag:noindex
X-PUBLISHED-TTL:PT1H
BEGIN:VTIMEZONE
TZID:America/New_York
BEGIN:DAYLIGHT
TZOFFSETFROM:-0500
TZOFFSETTO:-0400
TZNAME:EDT
DTSTART:20250309T070000
END:DAYLIGHT
BEGIN:STANDARD
TZOFFSETFROM:-0400
TZOFFSETTO:-0500
TZNAME:EST
DTSTART:20251102T060000
END:STANDARD
BEGIN:DAYLIGHT
TZOFFSETFROM:-0500
TZOFFSETTO:-0400
TZNAME:EDT
DTSTART:20260308T070000
END:DAYLIGHT
BEGIN:STANDARD
TZOFFSETFROM:-0400
TZOFFSETTO:-0500
TZNAME:EST
DTSTART:20261101T060000
END:STANDARD
END:VTIMEZONE
BEGIN:VEVENT
DTSTART;TZID=America/New_York:20260404T143000
DTEND;TZID=America/New_York:20260404T163000
DTSTAMP:20260422T083225
CREATED:20260115T185139Z
LAST-MODIFIED:20260115T185139Z
UID:10027615-1775313000-1775320200@www.ameliaisland.com
SUMMARY:Melodrama Dinner Theatre - Whispers in the Vines or We Need No Riesling for Wine!
DESCRIPTION:Blue Fire Theatre presents:\nA Melodrama Dinner Theatre and Show. March 28 & 29 – 7:30 pm for the dinner theatre.\nApril 3 -7:30 pm & April 4 – 2:30 show only. \n**Whispers in the Vines\, or We Need No Riesling for Wine! ** A melodramatic musical comedy set in the delightfully dramatic world of The Old Yulee Vinewood Vineyard. It’s packed with audience participation\, big feelings\, bigger villains\, a bumbling hero\, and absolutely no crying over spilled wine.
URL:https://www.ameliaisland.com/activity/melodrama-dinner-theatre-whispers-in-the-vines-or-we-need-no-riesling-for-wine/2026-04-04/
LOCATION:Yulee Lions Club\, 851023 Highway 17\, Yulee\, FL\, 32097\, United States
ATTACH;FMTTYPE=image/jpeg:https://www.ameliaisland.com/wp-content/uploads/Blue-Fire-Theatre.jpg
END:VEVENT
BEGIN:VEVENT
DTSTART;TZID=America/New_York:20260403T193000
DTEND;TZID=America/New_York:20260403T213000
DTSTAMP:20260422T083225
CREATED:20260115T185139Z
LAST-MODIFIED:20260115T185139Z
UID:10027614-1775244600-1775251800@www.ameliaisland.com
SUMMARY:Melodrama Dinner Theatre - Whispers in the Vines or We Need No Riesling for Wine!
DESCRIPTION:Blue Fire Theatre presents:\nA Melodrama Dinner Theatre and Show. March 28 & 29 – 7:30 pm for the dinner theatre.\nApril 3 -7:30 pm & April 4 – 2:30 show only. \n**Whispers in the Vines\, or We Need No Riesling for Wine! ** A melodramatic musical comedy set in the delightfully dramatic world of The Old Yulee Vinewood Vineyard. It’s packed with audience participation\, big feelings\, bigger villains\, a bumbling hero\, and absolutely no crying over spilled wine.
URL:https://www.ameliaisland.com/activity/melodrama-dinner-theatre-whispers-in-the-vines-or-we-need-no-riesling-for-wine/2026-04-03/
LOCATION:Yulee Lions Club\, 851023 Highway 17\, Yulee\, FL\, 32097\, United States
ATTACH;FMTTYPE=image/jpeg:https://www.ameliaisland.com/wp-content/uploads/Blue-Fire-Theatre.jpg
END:VEVENT
BEGIN:VEVENT
DTSTART;TZID=America/New_York:20260329T193000
DTEND;TZID=America/New_York:20260329T213000
DTSTAMP:20260422T083225
CREATED:20260115T185139Z
LAST-MODIFIED:20260115T185139Z
UID:10027613-1774812600-1774819800@www.ameliaisland.com
SUMMARY:Melodrama Dinner Theatre - Whispers in the Vines or We Need No Riesling for Wine!
DESCRIPTION:Blue Fire Theatre presents:\nA Melodrama Dinner Theatre and Show. March 28 & 29 – 7:30 pm for the dinner theatre.\nApril 3 -7:30 pm & April 4 – 2:30 show only. \n**Whispers in the Vines\, or We Need No Riesling for Wine! ** A melodramatic musical comedy set in the delightfully dramatic world of The Old Yulee Vinewood Vineyard. It’s packed with audience participation\, big feelings\, bigger villains\, a bumbling hero\, and absolutely no crying over spilled wine.
URL:https://www.ameliaisland.com/activity/melodrama-dinner-theatre-whispers-in-the-vines-or-we-need-no-riesling-for-wine/2026-03-29/
LOCATION:Yulee Lions Club\, 851023 Highway 17\, Yulee\, FL\, 32097\, United States
ATTACH;FMTTYPE=image/jpeg:https://www.ameliaisland.com/wp-content/uploads/Blue-Fire-Theatre.jpg
END:VEVENT
BEGIN:VEVENT
DTSTART;TZID=America/New_York:20260328T193000
DTEND;TZID=America/New_York:20260328T213000
DTSTAMP:20260422T083225
CREATED:20260115T185139Z
LAST-MODIFIED:20260115T185139Z
UID:10027612-1774726200-1774733400@www.ameliaisland.com
SUMMARY:Melodrama Dinner Theatre - Whispers in the Vines or We Need No Riesling for Wine!
DESCRIPTION:Blue Fire Theatre presents:\nA Melodrama Dinner Theatre and Show. March 28 & 29 – 7:30 pm for the dinner theatre.\nApril 3 -7:30 pm & April 4 – 2:30 show only. \n**Whispers in the Vines\, or We Need No Riesling for Wine! ** A melodramatic musical comedy set in the delightfully dramatic world of The Old Yulee Vinewood Vineyard. It’s packed with audience participation\, big feelings\, bigger villains\, a bumbling hero\, and absolutely no crying over spilled wine.
URL:https://www.ameliaisland.com/activity/melodrama-dinner-theatre-whispers-in-the-vines-or-we-need-no-riesling-for-wine/2026-03-28/
LOCATION:Yulee Lions Club\, 851023 Highway 17\, Yulee\, FL\, 32097\, United States
ATTACH;FMTTYPE=image/jpeg:https://www.ameliaisland.com/wp-content/uploads/Blue-Fire-Theatre.jpg
END:VEVENT
BEGIN:VEVENT
DTSTART;TZID=America/New_York:20251115T190000
DTEND;TZID=America/New_York:20251115T213000
DTSTAMP:20260422T083225
CREATED:20250806T122340Z
LAST-MODIFIED:20250910T170907Z
UID:10026006-1763233200-1763242200@www.ameliaisland.com
SUMMARY:The SpongeBob Musical
DESCRIPTION:When the citizens of Bikini Bottom discover that a volcano will soon erupt and destroy their humble home\, SpongeBob and his friends must come together to save the fate of their undersea world. With lives hanging in the balance and all hope lost\, a most unexpected hero rises up. The power of optimism really can save the world! \nThe SpongeBob Musical is based on the beloved animated series created by Stephen Hillenburg and features a book by Kyle Jarrow\, with original songs by Yolanda Adams\, Steven Tyler and Joe Perry of Aerosmith\, Sara Bareilles\, Jonathan Coulton\, Alexander Ebert of Edward Sharpe & The Magnetic Zeros\, The Flaming Lips\, Lady A\, Cyndi Lauper\, John Legend\, Panic! At the Disco\, Plain White T’s\, They Might Be Giants and T.I.\, and songs by David Bowie\, Tom Kenny and Andy Paley. Additional lyrics are by Jonathan Coulton\, with additional music by Tom Kitt. The musical production was conceived by Tina Landau. \nNOTE: We will be collecting non-perishable food items for Gracie’s Kitchen in Yulee
URL:https://www.ameliaisland.com/activity/the-spongebob-musical/2025-11-15/
LOCATION:Yulee Lions Club\, 851023 Highway 17\, Yulee\, FL\, 32097\, United States
ATTACH;FMTTYPE=image/jpeg:https://www.ameliaisland.com/wp-content/uploads/SpongeBob-.jpg
END:VEVENT
BEGIN:VEVENT
DTSTART;TZID=America/New_York:20251114T190000
DTEND;TZID=America/New_York:20251114T213000
DTSTAMP:20260422T083225
CREATED:20250806T122340Z
LAST-MODIFIED:20250910T170907Z
UID:10026005-1763146800-1763155800@www.ameliaisland.com
SUMMARY:The SpongeBob Musical
DESCRIPTION:When the citizens of Bikini Bottom discover that a volcano will soon erupt and destroy their humble home\, SpongeBob and his friends must come together to save the fate of their undersea world. With lives hanging in the balance and all hope lost\, a most unexpected hero rises up. The power of optimism really can save the world! \nThe SpongeBob Musical is based on the beloved animated series created by Stephen Hillenburg and features a book by Kyle Jarrow\, with original songs by Yolanda Adams\, Steven Tyler and Joe Perry of Aerosmith\, Sara Bareilles\, Jonathan Coulton\, Alexander Ebert of Edward Sharpe & The Magnetic Zeros\, The Flaming Lips\, Lady A\, Cyndi Lauper\, John Legend\, Panic! At the Disco\, Plain White T’s\, They Might Be Giants and T.I.\, and songs by David Bowie\, Tom Kenny and Andy Paley. Additional lyrics are by Jonathan Coulton\, with additional music by Tom Kitt. The musical production was conceived by Tina Landau. \nNOTE: We will be collecting non-perishable food items for Gracie’s Kitchen in Yulee
URL:https://www.ameliaisland.com/activity/the-spongebob-musical/2025-11-14/
LOCATION:Yulee Lions Club\, 851023 Highway 17\, Yulee\, FL\, 32097\, United States
ATTACH;FMTTYPE=image/jpeg:https://www.ameliaisland.com/wp-content/uploads/SpongeBob-.jpg
END:VEVENT
BEGIN:VEVENT
DTSTART;TZID=America/New_York:20251109T143000
DTEND;TZID=America/New_York:20251109T163000
DTSTAMP:20260422T083225
CREATED:20250806T122340Z
LAST-MODIFIED:20250910T170907Z
UID:10025653-1762698600-1762705800@www.ameliaisland.com
SUMMARY:The SpongeBob Musical
DESCRIPTION:When the citizens of Bikini Bottom discover that a volcano will soon erupt and destroy their humble home\, SpongeBob and his friends must come together to save the fate of their undersea world. With lives hanging in the balance and all hope lost\, a most unexpected hero rises up. The power of optimism really can save the world! \nThe SpongeBob Musical is based on the beloved animated series created by Stephen Hillenburg and features a book by Kyle Jarrow\, with original songs by Yolanda Adams\, Steven Tyler and Joe Perry of Aerosmith\, Sara Bareilles\, Jonathan Coulton\, Alexander Ebert of Edward Sharpe & The Magnetic Zeros\, The Flaming Lips\, Lady A\, Cyndi Lauper\, John Legend\, Panic! At the Disco\, Plain White T’s\, They Might Be Giants and T.I.\, and songs by David Bowie\, Tom Kenny and Andy Paley. Additional lyrics are by Jonathan Coulton\, with additional music by Tom Kitt. The musical production was conceived by Tina Landau. \nNOTE: We will be collecting non-perishable food items for Gracie’s Kitchen in Yulee
URL:https://www.ameliaisland.com/activity/the-spongebob-musical/2025-11-09/
LOCATION:Yulee Lions Club\, 851023 Highway 17\, Yulee\, FL\, 32097\, United States
ATTACH;FMTTYPE=image/jpeg:https://www.ameliaisland.com/wp-content/uploads/SpongeBob-.jpg
END:VEVENT
BEGIN:VEVENT
DTSTART;TZID=America/New_York:20251108T190000
DTEND;TZID=America/New_York:20251108T213000
DTSTAMP:20260422T083225
CREATED:20250806T122340Z
LAST-MODIFIED:20250910T170907Z
UID:10026004-1762628400-1762637400@www.ameliaisland.com
SUMMARY:The SpongeBob Musical
DESCRIPTION:When the citizens of Bikini Bottom discover that a volcano will soon erupt and destroy their humble home\, SpongeBob and his friends must come together to save the fate of their undersea world. With lives hanging in the balance and all hope lost\, a most unexpected hero rises up. The power of optimism really can save the world! \nThe SpongeBob Musical is based on the beloved animated series created by Stephen Hillenburg and features a book by Kyle Jarrow\, with original songs by Yolanda Adams\, Steven Tyler and Joe Perry of Aerosmith\, Sara Bareilles\, Jonathan Coulton\, Alexander Ebert of Edward Sharpe & The Magnetic Zeros\, The Flaming Lips\, Lady A\, Cyndi Lauper\, John Legend\, Panic! At the Disco\, Plain White T’s\, They Might Be Giants and T.I.\, and songs by David Bowie\, Tom Kenny and Andy Paley. Additional lyrics are by Jonathan Coulton\, with additional music by Tom Kitt. The musical production was conceived by Tina Landau. \nNOTE: We will be collecting non-perishable food items for Gracie’s Kitchen in Yulee
URL:https://www.ameliaisland.com/activity/the-spongebob-musical/2025-11-08/
LOCATION:Yulee Lions Club\, 851023 Highway 17\, Yulee\, FL\, 32097\, United States
ATTACH;FMTTYPE=image/jpeg:https://www.ameliaisland.com/wp-content/uploads/SpongeBob-.jpg
END:VEVENT
BEGIN:VEVENT
DTSTART;TZID=America/New_York:20251107T190000
DTEND;TZID=America/New_York:20251107T213000
DTSTAMP:20260422T083225
CREATED:20250806T122340Z
LAST-MODIFIED:20250910T170907Z
UID:10026003-1762542000-1762551000@www.ameliaisland.com
SUMMARY:The SpongeBob Musical
DESCRIPTION:When the citizens of Bikini Bottom discover that a volcano will soon erupt and destroy their humble home\, SpongeBob and his friends must come together to save the fate of their undersea world. With lives hanging in the balance and all hope lost\, a most unexpected hero rises up. The power of optimism really can save the world! \nThe SpongeBob Musical is based on the beloved animated series created by Stephen Hillenburg and features a book by Kyle Jarrow\, with original songs by Yolanda Adams\, Steven Tyler and Joe Perry of Aerosmith\, Sara Bareilles\, Jonathan Coulton\, Alexander Ebert of Edward Sharpe & The Magnetic Zeros\, The Flaming Lips\, Lady A\, Cyndi Lauper\, John Legend\, Panic! At the Disco\, Plain White T’s\, They Might Be Giants and T.I.\, and songs by David Bowie\, Tom Kenny and Andy Paley. Additional lyrics are by Jonathan Coulton\, with additional music by Tom Kitt. The musical production was conceived by Tina Landau. \nNOTE: We will be collecting non-perishable food items for Gracie’s Kitchen in Yulee
URL:https://www.ameliaisland.com/activity/the-spongebob-musical/2025-11-07/
LOCATION:Yulee Lions Club\, 851023 Highway 17\, Yulee\, FL\, 32097\, United States
ATTACH;FMTTYPE=image/jpeg:https://www.ameliaisland.com/wp-content/uploads/SpongeBob-.jpg
END:VEVENT
BEGIN:VEVENT
DTSTART;TZID=America/New_York:20250913T193000
DTEND;TZID=America/New_York:20250913T213000
DTSTAMP:20260422T083225
CREATED:20250806T123031Z
LAST-MODIFIED:20250806T123031Z
UID:10025661-1757791800-1757799000@www.ameliaisland.com
SUMMARY:Almost\, Maine
DESCRIPTION:Almost\, Maine – PG-13. On a cold and enchanted winter night\, the people of the town of Almost experience the life-altering power of the human heart. Relationships end\, begin\, or change as strangers become friends\, friends become lovers\, and lovers turn into strangers.  \nPropelled by the mystical energy of the aurora borealis and populated with characters who are humorous\, plain-spoken\, thoughtful\, and sincere\, John Cariani’s Almost\, Maine is a series of loosely connected tales about love and longing\, each with a compelling couple\, and each with its own touch of magic.  \nThank you for supporting the arts in Nassau County!!
URL:https://www.ameliaisland.com/activity/almost-maine/2025-09-13/
LOCATION:Yulee Lions Club\, 851023 Highway 17\, Yulee\, FL\, 32097\, United States
ATTACH;FMTTYPE=image/jpeg:https://www.ameliaisland.com/wp-content/uploads/Almost-Maine.jpg
END:VEVENT
BEGIN:VEVENT
DTSTART;TZID=America/New_York:20250912T193000
DTEND;TZID=America/New_York:20250912T213000
DTSTAMP:20260422T083225
CREATED:20250806T123031Z
LAST-MODIFIED:20250806T123031Z
UID:10025660-1757705400-1757712600@www.ameliaisland.com
SUMMARY:Almost\, Maine
DESCRIPTION:Almost\, Maine – PG-13. On a cold and enchanted winter night\, the people of the town of Almost experience the life-altering power of the human heart. Relationships end\, begin\, or change as strangers become friends\, friends become lovers\, and lovers turn into strangers.  \nPropelled by the mystical energy of the aurora borealis and populated with characters who are humorous\, plain-spoken\, thoughtful\, and sincere\, John Cariani’s Almost\, Maine is a series of loosely connected tales about love and longing\, each with a compelling couple\, and each with its own touch of magic.  \nThank you for supporting the arts in Nassau County!!
URL:https://www.ameliaisland.com/activity/almost-maine/2025-09-12/
LOCATION:Yulee Lions Club\, 851023 Highway 17\, Yulee\, FL\, 32097\, United States
ATTACH;FMTTYPE=image/jpeg:https://www.ameliaisland.com/wp-content/uploads/Almost-Maine.jpg
END:VEVENT
BEGIN:VEVENT
DTSTART;TZID=America/New_York:20250911T193000
DTEND;TZID=America/New_York:20250911T213000
DTSTAMP:20260422T083225
CREATED:20250806T123031Z
LAST-MODIFIED:20250806T123031Z
UID:10025659-1757619000-1757626200@www.ameliaisland.com
SUMMARY:Almost\, Maine
DESCRIPTION:Almost\, Maine – PG-13. On a cold and enchanted winter night\, the people of the town of Almost experience the life-altering power of the human heart. Relationships end\, begin\, or change as strangers become friends\, friends become lovers\, and lovers turn into strangers.  \nPropelled by the mystical energy of the aurora borealis and populated with characters who are humorous\, plain-spoken\, thoughtful\, and sincere\, John Cariani’s Almost\, Maine is a series of loosely connected tales about love and longing\, each with a compelling couple\, and each with its own touch of magic.  \nThank you for supporting the arts in Nassau County!!
URL:https://www.ameliaisland.com/activity/almost-maine/2025-09-11/
LOCATION:Yulee Lions Club\, 851023 Highway 17\, Yulee\, FL\, 32097\, United States
ATTACH;FMTTYPE=image/jpeg:https://www.ameliaisland.com/wp-content/uploads/Almost-Maine.jpg
END:VEVENT
BEGIN:VEVENT
DTSTART;TZID=America/New_York:20250906T193000
DTEND;TZID=America/New_York:20250906T213000
DTSTAMP:20260422T083225
CREATED:20250806T123031Z
LAST-MODIFIED:20250806T123031Z
UID:10025658-1757187000-1757194200@www.ameliaisland.com
SUMMARY:Almost\, Maine
DESCRIPTION:Almost\, Maine – PG-13. On a cold and enchanted winter night\, the people of the town of Almost experience the life-altering power of the human heart. Relationships end\, begin\, or change as strangers become friends\, friends become lovers\, and lovers turn into strangers.  \nPropelled by the mystical energy of the aurora borealis and populated with characters who are humorous\, plain-spoken\, thoughtful\, and sincere\, John Cariani’s Almost\, Maine is a series of loosely connected tales about love and longing\, each with a compelling couple\, and each with its own touch of magic.  \nThank you for supporting the arts in Nassau County!!
URL:https://www.ameliaisland.com/activity/almost-maine/2025-09-06/2/
LOCATION:Yulee Lions Club\, 851023 Highway 17\, Yulee\, FL\, 32097\, United States
ATTACH;FMTTYPE=image/jpeg:https://www.ameliaisland.com/wp-content/uploads/Almost-Maine.jpg
END:VEVENT
BEGIN:VEVENT
DTSTART;TZID=America/New_York:20250906T143000
DTEND;TZID=America/New_York:20250906T163000
DTSTAMP:20260422T083225
CREATED:20250806T123031Z
LAST-MODIFIED:20250806T123031Z
UID:10025657-1757169000-1757176200@www.ameliaisland.com
SUMMARY:Almost\, Maine
DESCRIPTION:Almost\, Maine – PG-13. On a cold and enchanted winter night\, the people of the town of Almost experience the life-altering power of the human heart. Relationships end\, begin\, or change as strangers become friends\, friends become lovers\, and lovers turn into strangers.  \nPropelled by the mystical energy of the aurora borealis and populated with characters who are humorous\, plain-spoken\, thoughtful\, and sincere\, John Cariani’s Almost\, Maine is a series of loosely connected tales about love and longing\, each with a compelling couple\, and each with its own touch of magic.  \nThank you for supporting the arts in Nassau County!!
URL:https://www.ameliaisland.com/activity/almost-maine/2025-09-06/1/
LOCATION:Yulee Lions Club\, 851023 Highway 17\, Yulee\, FL\, 32097\, United States
ATTACH;FMTTYPE=image/jpeg:https://www.ameliaisland.com/wp-content/uploads/Almost-Maine.jpg
END:VEVENT
BEGIN:VEVENT
DTSTART;TZID=America/New_York:20250905T193000
DTEND;TZID=America/New_York:20250905T213000
DTSTAMP:20260422T083225
CREATED:20250806T123031Z
LAST-MODIFIED:20250806T123031Z
UID:10025656-1757100600-1757107800@www.ameliaisland.com
SUMMARY:Almost\, Maine
DESCRIPTION:Almost\, Maine – PG-13. On a cold and enchanted winter night\, the people of the town of Almost experience the life-altering power of the human heart. Relationships end\, begin\, or change as strangers become friends\, friends become lovers\, and lovers turn into strangers.  \nPropelled by the mystical energy of the aurora borealis and populated with characters who are humorous\, plain-spoken\, thoughtful\, and sincere\, John Cariani’s Almost\, Maine is a series of loosely connected tales about love and longing\, each with a compelling couple\, and each with its own touch of magic.  \nThank you for supporting the arts in Nassau County!!
URL:https://www.ameliaisland.com/activity/almost-maine/2025-09-05/
LOCATION:Yulee Lions Club\, 851023 Highway 17\, Yulee\, FL\, 32097\, United States
ATTACH;FMTTYPE=image/jpeg:https://www.ameliaisland.com/wp-content/uploads/Almost-Maine.jpg
END:VEVENT
BEGIN:VEVENT
DTSTART;TZID=America/New_York:20250405T190000
DTEND;TZID=America/New_York:20250405T213000
DTSTAMP:20260422T083225
CREATED:20250303T170334Z
LAST-MODIFIED:20250303T170334Z
UID:10019014-1743879600-1743888600@www.ameliaisland.com
SUMMARY:Melodrama Dinner Theatre - The Clueless Sheriff
DESCRIPTION:Blue Fire Theatre presents The Clueless Sheriff – Oils Well That Ends Well by Gary McCarver – An Old West Melodrama Dinner Theatre \nGet transported to the much simpler year of 1896 in the small western town for the story of a lost love\, a “rehabilitated” scoundrel\, a jilted woman\, and a framed sheriff. Boo the Villain. Cheer for our hero\, the clueless sheriff Justin Credible\, and the heroine the melodic Sally Mander\, and the irrepressible Sarah Bellum. Has the mysterious Gypsy Claire Voyant really been reformed? Plus\, theres a few good old-fashion songs in this family friendly old west melodrama.\nFor the third year in a row\, dinner will be catered by Chef Michael Gass and his team of Culinary Students from Fernandina Beach High School. The food for this event is a highlight of the evening. \nDinner Theatre Dates 3/28 – 3/29\nDoors open at 6:45\nAppetizers at 7:00\nSalads at 7:20\nShow starts at 7:30. \nShow only Dates\, April 4 & 5 with the option to purchase Luxe Picnic by Les Charcuterie box or Bocadillo Box.
URL:https://www.ameliaisland.com/activity/melodrama-dinner-theatre-the-clueless-sheriff/2025-04-05/
LOCATION:Yulee Lions Club\, 851023 Highway 17\, Yulee\, FL\, 32097\, United States
ATTACH;FMTTYPE=image/jpeg:https://www.ameliaisland.com/wp-content/uploads/The-Clueless-Sheriff-Oils-Well-That-Ends-Well.jpg
END:VEVENT
BEGIN:VEVENT
DTSTART;TZID=America/New_York:20250404T190000
DTEND;TZID=America/New_York:20250404T213000
DTSTAMP:20260422T083225
CREATED:20250303T170334Z
LAST-MODIFIED:20250303T170334Z
UID:10019013-1743793200-1743802200@www.ameliaisland.com
SUMMARY:Melodrama Dinner Theatre - The Clueless Sheriff
DESCRIPTION:Blue Fire Theatre presents The Clueless Sheriff – Oils Well That Ends Well by Gary McCarver – An Old West Melodrama Dinner Theatre \nGet transported to the much simpler year of 1896 in the small western town for the story of a lost love\, a “rehabilitated” scoundrel\, a jilted woman\, and a framed sheriff. Boo the Villain. Cheer for our hero\, the clueless sheriff Justin Credible\, and the heroine the melodic Sally Mander\, and the irrepressible Sarah Bellum. Has the mysterious Gypsy Claire Voyant really been reformed? Plus\, theres a few good old-fashion songs in this family friendly old west melodrama.\nFor the third year in a row\, dinner will be catered by Chef Michael Gass and his team of Culinary Students from Fernandina Beach High School. The food for this event is a highlight of the evening. \nDinner Theatre Dates 3/28 – 3/29\nDoors open at 6:45\nAppetizers at 7:00\nSalads at 7:20\nShow starts at 7:30. \nShow only Dates\, April 4 & 5 with the option to purchase Luxe Picnic by Les Charcuterie box or Bocadillo Box.
URL:https://www.ameliaisland.com/activity/melodrama-dinner-theatre-the-clueless-sheriff/2025-04-04/
LOCATION:Yulee Lions Club\, 851023 Highway 17\, Yulee\, FL\, 32097\, United States
ATTACH;FMTTYPE=image/jpeg:https://www.ameliaisland.com/wp-content/uploads/The-Clueless-Sheriff-Oils-Well-That-Ends-Well.jpg
END:VEVENT
BEGIN:VEVENT
DTSTART;TZID=America/New_York:20250329T190000
DTEND;TZID=America/New_York:20250329T213000
DTSTAMP:20260422T083225
CREATED:20250303T170334Z
LAST-MODIFIED:20250303T170334Z
UID:10019012-1743274800-1743283800@www.ameliaisland.com
SUMMARY:Melodrama Dinner Theatre - The Clueless Sheriff
DESCRIPTION:Blue Fire Theatre presents The Clueless Sheriff – Oils Well That Ends Well by Gary McCarver – An Old West Melodrama Dinner Theatre \nGet transported to the much simpler year of 1896 in the small western town for the story of a lost love\, a “rehabilitated” scoundrel\, a jilted woman\, and a framed sheriff. Boo the Villain. Cheer for our hero\, the clueless sheriff Justin Credible\, and the heroine the melodic Sally Mander\, and the irrepressible Sarah Bellum. Has the mysterious Gypsy Claire Voyant really been reformed? Plus\, theres a few good old-fashion songs in this family friendly old west melodrama.\nFor the third year in a row\, dinner will be catered by Chef Michael Gass and his team of Culinary Students from Fernandina Beach High School. The food for this event is a highlight of the evening. \nDinner Theatre Dates 3/28 – 3/29\nDoors open at 6:45\nAppetizers at 7:00\nSalads at 7:20\nShow starts at 7:30. \nShow only Dates\, April 4 & 5 with the option to purchase Luxe Picnic by Les Charcuterie box or Bocadillo Box.
URL:https://www.ameliaisland.com/activity/melodrama-dinner-theatre-the-clueless-sheriff/2025-03-29/
LOCATION:Yulee Lions Club\, 851023 Highway 17\, Yulee\, FL\, 32097\, United States
ATTACH;FMTTYPE=image/jpeg:https://www.ameliaisland.com/wp-content/uploads/The-Clueless-Sheriff-Oils-Well-That-Ends-Well.jpg
END:VEVENT
BEGIN:VEVENT
DTSTART;TZID=America/New_York:20250328T190000
DTEND;TZID=America/New_York:20250328T213000
DTSTAMP:20260422T083225
CREATED:20250303T170334Z
LAST-MODIFIED:20250303T170334Z
UID:10019011-1743188400-1743197400@www.ameliaisland.com
SUMMARY:Melodrama Dinner Theatre - The Clueless Sheriff
DESCRIPTION:Blue Fire Theatre presents The Clueless Sheriff – Oils Well That Ends Well by Gary McCarver – An Old West Melodrama Dinner Theatre \nGet transported to the much simpler year of 1896 in the small western town for the story of a lost love\, a “rehabilitated” scoundrel\, a jilted woman\, and a framed sheriff. Boo the Villain. Cheer for our hero\, the clueless sheriff Justin Credible\, and the heroine the melodic Sally Mander\, and the irrepressible Sarah Bellum. Has the mysterious Gypsy Claire Voyant really been reformed? Plus\, theres a few good old-fashion songs in this family friendly old west melodrama.\nFor the third year in a row\, dinner will be catered by Chef Michael Gass and his team of Culinary Students from Fernandina Beach High School. The food for this event is a highlight of the evening. \nDinner Theatre Dates 3/28 – 3/29\nDoors open at 6:45\nAppetizers at 7:00\nSalads at 7:20\nShow starts at 7:30. \nShow only Dates\, April 4 & 5 with the option to purchase Luxe Picnic by Les Charcuterie box or Bocadillo Box.
URL:https://www.ameliaisland.com/activity/melodrama-dinner-theatre-the-clueless-sheriff/2025-03-28/
LOCATION:Yulee Lions Club\, 851023 Highway 17\, Yulee\, FL\, 32097\, United States
ATTACH;FMTTYPE=image/jpeg:https://www.ameliaisland.com/wp-content/uploads/The-Clueless-Sheriff-Oils-Well-That-Ends-Well.jpg
END:VEVENT
END:VCALENDAR