BEGIN:VCALENDAR
VERSION:2.0
PRODID:-//Amelia Island - ECPv6.8.0//NONSGML v1.0//EN
CALSCALE:GREGORIAN
METHOD:PUBLISH
X-ORIGINAL-URL:https://www.ameliaisland.com
X-WR-CALDESC:Events for Amelia Island
REFRESH-INTERVAL;VALUE=DURATION:PT1H
X-Robots-Tag:noindex
X-PUBLISHED-TTL:PT1H
BEGIN:VTIMEZONE
TZID:America/New_York
BEGIN:DAYLIGHT
TZOFFSETFROM:-0500
TZOFFSETTO:-0400
TZNAME:EDT
DTSTART:20260308T070000
END:DAYLIGHT
BEGIN:STANDARD
TZOFFSETFROM:-0400
TZOFFSETTO:-0500
TZNAME:EST
DTSTART:20261101T060000
END:STANDARD
END:VTIMEZONE
BEGIN:VEVENT
DTSTART;TZID=America/New_York:20260207T180000
DTEND;TZID=America/New_York:20260207T200000
DTSTAMP:20260422T064807
CREATED:20251209T010323Z
LAST-MODIFIED:20251209T010323Z
UID:10026407-1770487200-1770494400@www.ameliaisland.com
SUMMARY:February Sprouting Project Dinner: Cocoa
DESCRIPTION:Guests will enjoy an intimate southern-inspired true farm-to-table dinner at The Sprouting Project\, our culinary team’s answer to hyper-local sustainability. The dinner includes a tour of the resort’s state-of-the-art aquaponic greenhouse\, expansive organic gardens\, the barrel room and large collection of beehives while enjoying passed bites and harvest inspired cocktails\, all before a five-course chef inspired dinner that incorporates items gathered directly from The Sprouting Project. This monthly event will showcase both the creativity and culture of our chefs in a lush\, outdoor setting. \nThe evening will kick off with cocktails and light bites at 6 p.m. followed by a five-course dinner at 6:30 p.m. Seating is limited.
URL:https://www.ameliaisland.com/activity/february-sprouting-project-dinner-cocoa-2/
LOCATION:The Sprouting Project\, 39 Beach Lagoon Road\, Fernandina Beach\, FL\, 32034\, United States
ATTACH;FMTTYPE=image/jpeg:https://www.ameliaisland.com/wp-content/uploads/Sprouting-Project-Cocoa.jpeg
END:VEVENT
END:VCALENDAR