BEGIN:VCALENDAR
VERSION:2.0
PRODID:-//Amelia Island - ECPv6.8.0//NONSGML v1.0//EN
CALSCALE:GREGORIAN
METHOD:PUBLISH
X-WR-CALNAME:Amelia Island
X-ORIGINAL-URL:https://www.ameliaisland.com
X-WR-CALDESC:Events for Amelia Island
REFRESH-INTERVAL;VALUE=DURATION:PT1H
X-Robots-Tag:noindex
X-PUBLISHED-TTL:PT1H
BEGIN:VTIMEZONE
TZID:America/New_York
BEGIN:DAYLIGHT
TZOFFSETFROM:-0500
TZOFFSETTO:-0400
TZNAME:EDT
DTSTART:20230312T070000
END:DAYLIGHT
BEGIN:STANDARD
TZOFFSETFROM:-0400
TZOFFSETTO:-0500
TZNAME:EST
DTSTART:20231105T060000
END:STANDARD
BEGIN:DAYLIGHT
TZOFFSETFROM:-0500
TZOFFSETTO:-0400
TZNAME:EDT
DTSTART:20240310T070000
END:DAYLIGHT
BEGIN:STANDARD
TZOFFSETFROM:-0400
TZOFFSETTO:-0500
TZNAME:EST
DTSTART:20241103T060000
END:STANDARD
END:VTIMEZONE
BEGIN:VEVENT
DTSTART;TZID=America/New_York:20240810T180000
DTEND;TZID=America/New_York:20240810T203000
DTSTAMP:20260421T044120
CREATED:20240806T210433Z
LAST-MODIFIED:20240806T210433Z
UID:10011076-1723312800-1723321800@www.ameliaisland.com
SUMMARY:Dolphin Research Tour
DESCRIPTION:Join Marine Biologist and Naturalist Nick Williams on a citizen science dolphin tour across the beautiful Cumberland Sound. On this adventure you will see dolphins\, hear their calls on hydrophone\, learn about dolphins\, and participate in photo ID and behavioral video. \nAll data collected on the tour will go toward a scientific publication that is investigating dolphin communication. We are investigating to see if there is a particular call that correlates to a dolphin behavior unique to our island chain “the Sea Islands” where dolphin chase there fish on to land to catch it. This behavior is called strand feeding. \nPlease email nick.williams@ritzcarlton.com if interested. This tour is open to the public not just Ritz guests.
URL:https://www.ameliaisland.com/activity/dolphin-research-tour/
LOCATION:The Ritz-Carlton\, Amelia Island\, 4750 Amelia Island Parkway\, Amelia Island\, FL\, 32034\, United States
ATTACH;FMTTYPE=image/jpeg:https://www.ameliaisland.com/wp-content/uploads/Dolphin-Research-Tour.jpg
END:VEVENT
BEGIN:VEVENT
DTSTART;TZID=America/New_York:20240706T180000
DTEND;TZID=America/New_York:20240706T200000
DTSTAMP:20260421T044120
CREATED:20240605T234318Z
LAST-MODIFIED:20240605T234318Z
UID:10009846-1720288800-1720296000@www.ameliaisland.com
SUMMARY:Holy City Hogs Barbecue Party
DESCRIPTION:Get ready for the ultimate low country barbecue party. Join us for an evening of culinary delights featuring Tank Jackson’s slow-roasted whole hog masterpiece\, accompanied by a delectable assortment of sides\, ribs\, sausages\, seafood\, and local craft beer.
URL:https://www.ameliaisland.com/activity/holy-city-hogs-barbecue-party/
LOCATION:The Ritz-Carlton\, Amelia Island\, 4750 Amelia Island Parkway\, Amelia Island\, FL\, 32034\, United States
ATTACH;FMTTYPE=image/jpeg:https://www.ameliaisland.com/wp-content/uploads/2023-RCAI-Amelia-Island-Cookout-0611A-Deremer-Studios-LLC-large.jpg
END:VEVENT
BEGIN:VEVENT
DTSTART;TZID=America/New_York:20240705T113000
DTEND;TZID=America/New_York:20240705T130000
DTSTAMP:20260421T044120
CREATED:20240605T233718Z
LAST-MODIFIED:20240605T233718Z
UID:10009845-1720179000-1720184400@www.ameliaisland.com
SUMMARY:Holy City Hogs Pitmaster Tank Jackson Unlocks the Secrets of Slow Roast BBQ
DESCRIPTION:Master Pitmaster\, Tank Jackson joins resort Executive Chef Garrett Gooch to demonstrate slow roasting techniques featuring Tank’s specialty whole hog to be featured at the July 6th Barbecue Party. \nGenerous samples with local craft beer.
URL:https://www.ameliaisland.com/activity/holy-city-hogs-pitmaster-tank-jackson-unlocks-the-secrets-of-slow-roast-bbq/
LOCATION:The Ritz-Carlton\, Amelia Island\, 4750 Amelia Island Parkway\, Amelia Island\, FL\, 32034\, United States
ATTACH;FMTTYPE=image/jpeg:https://www.ameliaisland.com/wp-content/uploads/2023-RCAI-Amelia-Island-Cookout-0471A-Deremer-Studios-LLC-scaled.jpeg
END:VEVENT
BEGIN:VEVENT
DTSTART;TZID=America/New_York:20240704T180000
DTEND;TZID=America/New_York:20240704T220000
DTSTAMP:20260421T044120
CREATED:20240605T224226Z
LAST-MODIFIED:20240605T224310Z
UID:10009844-1720116000-1720130400@www.ameliaisland.com
SUMMARY:The 12th Annual Red\, White and Deep Blue Celebration
DESCRIPTION:Enjoy holiday festivities including lawn and carnival-style games as Ritz-Carlton Chefs craft a lavish buffet with classic barbecue\, local fish\, shellfish\, kids’ favorites\, and a decadent array of desserts; front row seats to dazzling oceanfront fireworks show at 9:15 p.m. \n 
URL:https://www.ameliaisland.com/activity/the-12th-annual-red-white-and-deep-blue-celebration/
LOCATION:The Ritz-Carlton\, Amelia Island\, 4750 Amelia Island Parkway\, Amelia Island\, FL\, 32034\, United States
ATTACH;FMTTYPE=image/jpeg:https://www.ameliaisland.com/wp-content/uploads/Ritz-Amelia-2014-4th-of-July-Party-scaled.jpeg
END:VEVENT
BEGIN:VEVENT
DTSTART;TZID=America/New_York:20240611T103000
DTEND;TZID=America/New_York:20240611T133000
DTSTAMP:20260421T044120
CREATED:20240404T123706Z
LAST-MODIFIED:20240404T123706Z
UID:10008752-1718101800-1718112600@www.ameliaisland.com
SUMMARY:RCAI Chefs Theater Presents: Amelia Island Barbeque with Chef Garrett
DESCRIPTION:Chef Garrett presents Amelia Island Barbeque\, incorporating local seafood in traditional barbecue styles. \nThe Chefs at The Ritz-Carlton\, Amelia Island are presenting a monthly cooking demonstration preparing and cooking a variety of cuisines. Small class sizes create an intimate environment in the gorgeous Salt dining room. After each demonstration\, students dine with a matched wine and return to the set for the next dish. The final demonstration is by the pastry chefs.
URL:https://www.ameliaisland.com/activity/rcai-chefs-theater-presents-amelia-island-barbeque-with-chef-garrett-2/
LOCATION:The Ritz-Carlton\, Amelia Island\, 4750 Amelia Island Parkway\, Amelia Island\, FL\, 32034\, United States
ATTACH;FMTTYPE=image/jpeg:https://www.ameliaisland.com/wp-content/uploads/RCAI-Chefs-Theatre-Logo.jpeg
END:VEVENT
BEGIN:VEVENT
DTSTART;TZID=America/New_York:20240521T103000
DTEND;TZID=America/New_York:20240521T133000
DTSTAMP:20260421T044120
CREATED:20240404T123136Z
LAST-MODIFIED:20240404T123136Z
UID:10008751-1716287400-1716298200@www.ameliaisland.com
SUMMARY:RCAI Chefs Theater Presents: Celebration of Spring Vegetables with Chef Wes
DESCRIPTION:Chef Wes presents A Celebration of Spring Vegetables\, celebrating fresh vegetables and local Amelia Island ingredients. \nThe Chefs at The Ritz-Carlton\, Amelia Island are presenting a monthly cooking demonstration preparing and cooking a variety of cuisines. Small class sizes create an intimate environment in the gorgeous Salt dining room. After each demonstration\, students dine with a matched wine and return to the set for the next dish. The final demonstration is by the pastry chefs. \n 
URL:https://www.ameliaisland.com/activity/rcai-chefs-theater-presents-celebration-of-spring-vegetables-with-chef-wes/
LOCATION:The Ritz-Carlton\, Amelia Island\, 4750 Amelia Island Parkway\, Amelia Island\, FL\, 32034\, United States
ATTACH;FMTTYPE=image/jpeg:https://www.ameliaisland.com/wp-content/uploads/RCAI-Chefs-Theatre-Logo.jpeg
END:VEVENT
BEGIN:VEVENT
DTSTART;TZID=America/New_York:20240409T103000
DTEND;TZID=America/New_York:20240409T133000
DTSTAMP:20260421T044120
CREATED:20240306T173425Z
LAST-MODIFIED:20240404T124210Z
UID:10006584-1712658600-1712669400@www.ameliaisland.com
SUMMARY:RCAI Chefs Theater Presents: Sushi Fusion with Chef Kevin
DESCRIPTION:Chef Kevin presents Sushi traditions with a modern twist. \nThe Chefs at The Ritz-Carlton\, Amelia Island are presenting a monthly cooking demonstration preparing and cooking a variety of cuisines. Small class sizes create an intimate environment in the gorgeous Salt dining room. After each demonstration\, students dine with a matched wine and return to the set for the next dish. The final demonstration is by the pastry chefs.
URL:https://www.ameliaisland.com/activity/rcai-chefs-theatre-presents-sushi-fusion-with-chef-kevin/
LOCATION:The Ritz-Carlton\, Amelia Island\, 4750 Amelia Island Parkway\, Amelia Island\, FL\, 32034\, United States
ATTACH;FMTTYPE=image/jpeg:https://www.ameliaisland.com/wp-content/uploads/RCAI-Chefs-Theatre-Logo.jpeg
END:VEVENT
BEGIN:VEVENT
DTSTART;TZID=America/New_York:20240331T110000
DTEND;TZID=America/New_York:20240331T150000
DTSTAMP:20260421T044120
CREATED:20240306T174612Z
LAST-MODIFIED:20240306T174612Z
UID:10007429-1711882800-1711897200@www.ameliaisland.com
SUMMARY:Easter Garden Brunch
DESCRIPTION:Set within the gorgeous Ritz-Carlton Ballroom\, enjoy a lavish Easter Garden Brunch amidst a fairy tale spring garden. \nEnjoy cuisine from chef action stations and magnificent displays of decadent culinary presentations. Elaborate offerings include a seafood display\, Prime Rib\, lamb\, smoked chicken\, local fish and traditional brunch favorites like Eggs Benedict. \nThe afternoon is brought to life with music and a visit from the Easter Bunny and Springtime Fairy.
URL:https://www.ameliaisland.com/activity/easter-garden-brunch/
LOCATION:The Ritz-Carlton\, Amelia Island\, 4750 Amelia Island Parkway\, Amelia Island\, FL\, 32034\, United States
ATTACH;FMTTYPE=image/jpeg:https://www.ameliaisland.com/wp-content/uploads/Easter-Garden-Brunch-Ritz-Carlton-Amelia-Island-scaled.jpeg
END:VEVENT
BEGIN:VEVENT
DTSTART;TZID=America/New_York:20240330T120000
DTEND;TZID=America/New_York:20240330T133000
DTSTAMP:20260421T044120
CREATED:20240306T174606Z
LAST-MODIFIED:20240306T174606Z
UID:10007428-1711800000-1711805400@www.ameliaisland.com
SUMMARY:Cottontail Tea Party
DESCRIPTION:This charming tradition presents the Easter Bunny and the Springtime Fairy at a magical tea. \nScrumptious petite sandwiches and sweets including scones\, cheesecake\, mousse and more. Children will enjoy getting their photo taken with the Easter Bunny and families will take home the keepsake photo.
URL:https://www.ameliaisland.com/activity/cottontail-tea-party/
LOCATION:The Ritz-Carlton\, Amelia Island\, 4750 Amelia Island Parkway\, Amelia Island\, FL\, 32034\, United States
ATTACH;FMTTYPE=image/jpeg:https://www.ameliaisland.com/wp-content/uploads/Easter-Bunny-Tea-Ritz-Carlton-Amelia-Island-scaled.jpeg
END:VEVENT
BEGIN:VEVENT
DTSTART;TZID=America/New_York:20240330T083000
DTEND;TZID=America/New_York:20240330T103000
DTSTAMP:20260421T044120
CREATED:20240306T174608Z
LAST-MODIFIED:20240306T174608Z
UID:10007430-1711787400-1711794600@www.ameliaisland.com
SUMMARY:Easter Bunny Breakfast
DESCRIPTION:Children will delight in breakfast with the Easter Bunny\, while indulging in a lavish buffet adorned with breakfast favorites. \nThis delicious buffet will include a pancake station with fun toppings\, scrambled eggs\, ham and cheese croissants and an array of delectable breakfast breads and pastries. Parents will also take home a keepsake photo that they can cherish forever.
URL:https://www.ameliaisland.com/activity/easter-bunny-breakfast/
LOCATION:The Ritz-Carlton\, Amelia Island\, 4750 Amelia Island Parkway\, Amelia Island\, FL\, 32034\, United States
ATTACH;FMTTYPE=image/jpeg:https://www.ameliaisland.com/wp-content/uploads/Easter-Bunny-Breakfast-Ritz-Carlton-Amelia-Island-scaled.jpeg
END:VEVENT
BEGIN:VEVENT
DTSTART;TZID=America/New_York:20240123T103000
DTEND;TZID=America/New_York:20240123T130000
DTSTAMP:20260421T044120
CREATED:20240306T173903Z
LAST-MODIFIED:20240306T173946Z
UID:10006580-1706005800-1706014800@www.ameliaisland.com
SUMMARY:RCAI Chefs Theater: After New Year's Brunch with Chef Shawn
DESCRIPTION:Chef Shawn presents After New Year’s Brunch. Showcasing brunch inspiration to get you out of the old and into the new.The Chefs at The Ritz-Carlton\, Amelia Island present a monthly cooking demonstration preparing and cooking a variety of cuisines. Small class sizes create an intimate environment in the gorgeous Salt dining room. After each demonstration\, students dine with a matched wine and return to the set for the next dish. The final demonstration is by the pastry chefs.
URL:https://www.ameliaisland.com/activity/rcai-chefs-theater-after-new-years-brunch-with-chef-shawn/
LOCATION:The Ritz-Carlton\, Amelia Island\, 4750 Amelia Island Parkway\, Amelia Island\, FL\, 32034\, United States
ATTACH;FMTTYPE=image/jpeg:https://www.ameliaisland.com/wp-content/uploads/Chefs-Theater-logo.jpeg
END:VEVENT
BEGIN:VEVENT
DTSTART;TZID=America/New_York:20231231T210000
DTEND;TZID=America/New_York:20240101T020000
DTSTAMP:20260421T044120
CREATED:20240306T173843Z
LAST-MODIFIED:20240306T173932Z
UID:10005771-1704056400-1704074400@www.ameliaisland.com
SUMMARY:The Ritz-Carlton\, Amelia Island New Year's Eve Black & White Gala 2023
DESCRIPTION:Champagne\, endless cocktails\, sumptuous food buffets\, exciting chefs’ action stations and masked intrigue are all a part the Black and White Gala at The Ritz-Carlton\, Amelia Island. \nDance the night away to live music and fireworks at the stroke of midnight. Dress in your finest black & white attire and don a festive mask or bring your own. Celebrate the New Year at Northern Florida’s most glamorous and beautiful beach resort from 9 p.m. until 2 a.m.
URL:https://www.ameliaisland.com/activity/the-ritz-carlton-amelia-island-new-years-eve-black-white-gala-2023/
LOCATION:The Ritz-Carlton\, Amelia Island\, 4750 Amelia Island Parkway\, Amelia Island\, FL\, 32034\, United States
ATTACH;FMTTYPE=image/jpeg:https://www.ameliaisland.com/wp-content/uploads/The-Ritz-Carlton-Amelia-Island-Champagne-Gala.jpeg
END:VEVENT
END:VCALENDAR