BEGIN:VCALENDAR
VERSION:2.0
PRODID:-//Amelia Island - ECPv6.8.0//NONSGML v1.0//EN
CALSCALE:GREGORIAN
METHOD:PUBLISH
X-ORIGINAL-URL:https://www.ameliaisland.com
X-WR-CALDESC:Events for Amelia Island
REFRESH-INTERVAL;VALUE=DURATION:PT1H
X-Robots-Tag:noindex
X-PUBLISHED-TTL:PT1H
BEGIN:VTIMEZONE
TZID:America/New_York
BEGIN:DAYLIGHT
TZOFFSETFROM:-0500
TZOFFSETTO:-0400
TZNAME:EDT
DTSTART:20230312T070000
END:DAYLIGHT
BEGIN:STANDARD
TZOFFSETFROM:-0400
TZOFFSETTO:-0500
TZNAME:EST
DTSTART:20231105T060000
END:STANDARD
BEGIN:DAYLIGHT
TZOFFSETFROM:-0500
TZOFFSETTO:-0400
TZNAME:EDT
DTSTART:20240310T070000
END:DAYLIGHT
BEGIN:STANDARD
TZOFFSETFROM:-0400
TZOFFSETTO:-0500
TZNAME:EST
DTSTART:20241103T060000
END:STANDARD
END:VTIMEZONE
BEGIN:VEVENT
DTSTART;TZID=America/New_York:20241214T180000
DTEND;TZID=America/New_York:20241214T210000
DTSTAMP:20260420T141400
CREATED:20240923T180301Z
LAST-MODIFIED:20241113T233513Z
UID:10011579-1734199200-1734210000@www.ameliaisland.com
SUMMARY:Dickens After Dark: Marley's Masquerade
DESCRIPTION:Join us for the exclusive Victorian masquerade at the historic Lesesne House on Centre Street in downtown Fernandina Beach!  This VIP\, 21+ soiree is sure to spark your inner Victorian high-society persona as you experience stilt walkers\, jugglers\, tarot cards readings\, and other live entertainment from Kristen Sparrow Circus\, and the incomparable Mama Blue. Take a tour of the historic Lesesne House\, or a spooky ghost tour from one of our Amelia Island Museum of History docents and be sure to take home a memory from the photo booth! \nNever the same evening year after year of guaranteed loads of fun\, gorgeous outfits\, great food\, and always a surprise or two! Don your best Victorian ensemble and don’t forget the mask as you dress to impress at Dickens After Dark: Marley’s Masquerade! \nYour Ticket Includes: \n\nHeavy hors d’oeuvres from 6:30-7:30 PM\nHosted beer & wine bar\nSpecialty entertainment including live music from Mama Blue\, Kristin Sparrow Circus performers\, and tarot card readings by Soulestial Sorcery\nTours of the historic Lesesne House\, one of the oldest historic homes in Fernandina Beach\, built in 1860 and restored by The Saltmarsh Hospitality Group\nHistoric Walking Ghost Tour led by the Amelia Island Museum of History\nDickens After Dark photo booth\n\nMust be 21 years or older (ID’s will be checked at the door.)  Costumes required.  Presented by Jacksonville International Airport. SOLD OUT FOR 2024! \nPlease note: no food or drink is allowed inside the Lesesne House because of its historic designation. Thank you for your cooperation.
URL:https://www.ameliaisland.com/activity/dickens-after-dark-marleys-masquerade/
LOCATION:The Lesesne House\, 415 Centre Street\, Fernandina Beach\, FL\, 32034\, United States
ATTACH;FMTTYPE=image/jpeg:https://www.ameliaisland.com/wp-content/uploads/Dickens-After-Dark.jpg
END:VEVENT
BEGIN:VEVENT
DTSTART;TZID=America/New_York:20231209T170000
DTEND;TZID=America/New_York:20231209T210000
DTSTAMP:20260420T141400
CREATED:20240306T174509Z
LAST-MODIFIED:20240306T174538Z
UID:10003385-1702141200-1702155600@www.ameliaisland.com
SUMMARY:Dickens After Dark
DESCRIPTION:Join us for the exclusive Victorian costume party of the holiday season! The historic Lesesne House on Centre Street in downtown Fernandina Beach is transformed for this VIP\, 21 and over soiree complete with stilt walkers\, jugglers\, and the amazing Fire & Ice Show by Kristen Sparrow Circus. You’ll also be entertained with live music from the incomparable Mama Blue. Never the same evening year after year\, we guarantee loads of fun\, gorgeous outfits\, great food\, and even a surprise or two! Be sure to don your best Victorian ensemble and dress to impress! See you at Dickens After Dark! \nYour Ticket Includes: \n\nHeavy hors d’oeuvres (passed & stations) from 5:30-7:00 PM\nHosted beer & wine bar\nSpecialty entertainment including live music from Mama Blue\, Kristin Sparrow Circus performers.\n​Tours of the historic Lesesne House\, one of the oldest historic homes in Fernandina Beach. The classic revival residence was built in 1860 and restored by The Saltmarsh Hospitality Group.\nHistoric Walking Ghost Tour led by the Amelia Island Museum of History.\n\nMust be 21 years or older\, ID’s will be checked at the door. \nPlease note: no food or drink is allowed inside the Lesesne House because of its historic designation. Thank you for your cooperation. \nGET YOUR TICKETS NOW!\n \nHistory of the Lesesne House\nThe Lesesne House\, also referred to as the “Crown Jewel of Centre Street\,” is one of the major points of interest in the historic district and has been listed in the National Register of Historic Places since in 1973. Formal dining rooms and parlors showcase a collection of museum-caliber artwork and antiques\, while a two-century-old Live Oak tree is the centerpiece of sunlit courtyards\, manicured lawns\, and an elegant carriage house. \nDickens After Dark Entertainment\nKristen Sparrow Circus will once again dazzle the audience with exclusive performances from Victorian attired stilt walkers\, talented jugglers\, and a Dickens-era Penny Farthing expert bike rider that you’ll never forget. Prepare to be amazed by the specialty Fire & Ice performance that will light up your life and leave you in awe. You won’t want to miss this! \nAdditionally\, Dickens After Dark attendees will experience a musical journey with Mama Blue\, who will have you busting your best dance moves. Known to put the “live” in live performance\, Mama Blue’s original music is inspired by Aretha Franklin\, Etta James\, Alicia Keys and Nina Simone as well as rock bands like Queen and The Rolling Stones. The best party of the year will also have the best music! \nEntertainment presented by Jacksonville International Airport.  
URL:https://www.ameliaisland.com/activity/dickens-after-dark/
LOCATION:The Lesesne House\, 415 Centre Street\, Fernandina Beach\, FL\, 32034\, United States
ATTACH;FMTTYPE=image/png:https://www.ameliaisland.com/wp-content/uploads/DickensAfterDarkLogo.png
END:VEVENT
END:VCALENDAR