BEGIN:VCALENDAR
VERSION:2.0
PRODID:-//Amelia Island - ECPv6.8.0//NONSGML v1.0//EN
CALSCALE:GREGORIAN
METHOD:PUBLISH
X-ORIGINAL-URL:https://www.ameliaisland.com
X-WR-CALDESC:Events for Amelia Island
REFRESH-INTERVAL;VALUE=DURATION:PT1H
X-Robots-Tag:noindex
X-PUBLISHED-TTL:PT1H
BEGIN:VTIMEZONE
TZID:America/New_York
BEGIN:DAYLIGHT
TZOFFSETFROM:-0500
TZOFFSETTO:-0400
TZNAME:EDT
DTSTART:20250309T070000
END:DAYLIGHT
BEGIN:STANDARD
TZOFFSETFROM:-0400
TZOFFSETTO:-0500
TZNAME:EST
DTSTART:20251102T060000
END:STANDARD
END:VTIMEZONE
BEGIN:VEVENT
DTSTART;TZID=America/New_York:20251220T103000
DTEND;TZID=America/New_York:20251220T113000
DTSTAMP:20260423T055727
CREATED:20240530T003130Z
LAST-MODIFIED:20240530T003130Z
UID:10009416-1766226600-1766230200@www.ameliaisland.com
SUMMARY:StoryTime with Ms. Dearsha
DESCRIPTION:Join us at the store for a magical StoryTime with Ms. Dearsha\, our beloved and very talented Director of Children’s Merchandise and Programming! \nStoryTime is every Saturday at 10:30 am in the store. No RSVP needed. Just come on in! \nDive into fantastical worlds\, meet dynamic characters\, and let your imagination soar! We can’t wait to see you!
URL:https://www.ameliaisland.com/activity/storytime-with-ms-dearsha/2025-12-20/
LOCATION:Story & Song Centre for Arts and Culture\, 1430 Park Avenue\, Fernandina Beach\, FL\, 32034
ATTACH;FMTTYPE=image/jpeg:https://www.ameliaisland.com/wp-content/uploads/Story-Song-family-books-shops.jpeg
END:VEVENT
BEGIN:VEVENT
DTSTART;TZID=America/New_York:20251217T170000
DTEND;TZID=America/New_York:20251217T190000
DTSTAMP:20260423T055727
CREATED:20240611T235936Z
LAST-MODIFIED:20240611T235936Z
UID:10009932-1765990800-1765998000@www.ameliaisland.com
SUMMARY:Cinema & Conversation
DESCRIPTION:On the 3rd Wednesday of the month\, join us to watch a film chosen for its meaningful theme\, and stay for a facilitated discussion after. \nFree and open to all.
URL:https://www.ameliaisland.com/activity/cinema-conversation/2025-12-17/
LOCATION:Story & Song Centre for Arts and Culture\, 1430 Park Avenue\, Fernandina Beach\, FL\, 32034
ATTACH;FMTTYPE=image/jpeg:https://www.ameliaisland.com/wp-content/uploads/Cinema-Conversation-story-song.jpeg
END:VEVENT
BEGIN:VEVENT
DTSTART;TZID=America/New_York:20251217T120000
DTEND;TZID=America/New_York:20251217T140000
DTSTAMP:20260423T055727
CREATED:20251124T152000Z
LAST-MODIFIED:20251124T152744Z
UID:10026398-1765972800-1765980000@www.ameliaisland.com
SUMMARY:Acoustic Guitar Music Jam
DESCRIPTION:Join other guitar players in an acoustic guitar jam.  \nIf you’re a beginner or an experienced musician\, bring your acoustic guitar and some songs that you want to play and join other guitar players in a relaxed setting on the patio courtyard. Songs of the 50s\, 60s and 70s and all genres. If you don’t want to join in – come listen. You might be prompted to join in at another time.
URL:https://www.ameliaisland.com/activity/acoustic-guitar-music-jam-6/2025-12-17/
LOCATION:Story & Song Centre for Arts and Culture\, 1430 Park Avenue\, Fernandina Beach\, FL\, 32034
ATTACH;FMTTYPE=image/jpeg:https://www.ameliaisland.com/wp-content/uploads/Acoustic-Guitar-Music-Jam-v2-2-dates.jpeg
END:VEVENT
BEGIN:VEVENT
DTSTART;TZID=America/New_York:20251216T153000
DTEND;TZID=America/New_York:20251216T163000
DTSTAMP:20260423T055727
CREATED:20240605T200210Z
LAST-MODIFIED:20240605T200210Z
UID:10009802-1765899000-1765902600@www.ameliaisland.com
SUMMARY:Poetry Canteen
DESCRIPTION:Join us the 3rd Tuesday of each month for Amelia Island’s Poet Laureate Nola Perez and friends as they gather to share their love of poetry\, reading their own works or favorites of others. There will be a five-minute “open mic” format to read your work! \nSee you there!
URL:https://www.ameliaisland.com/activity/poetry-canteen/2025-12-16/
LOCATION:Story & Song Centre for Arts and Culture\, 1430 Park Avenue\, Fernandina Beach\, FL\, 32034
ATTACH;FMTTYPE=image/jpeg:https://www.ameliaisland.com/wp-content/uploads/Story-Song-Poetry-Canteen.jpg
END:VEVENT
BEGIN:VEVENT
DTSTART;TZID=America/New_York:20251215T100000
DTEND;TZID=America/New_York:20251215T113000
DTSTAMP:20260423T055727
CREATED:20240611T235616Z
LAST-MODIFIED:20240611T235616Z
UID:10009872-1765792800-1765798200@www.ameliaisland.com
SUMMARY:Welcome Coffee with Women of Nassau
DESCRIPTION:New to Fernandina? Want to get involved in the community? \nAll women\, including new and current members\, are invited to join the Women of Nassau’s monthly coffee get-together at Story & Song. \nThis event is FREE with light refreshments. No RSVP needed. (3rd Monday of every month)
URL:https://www.ameliaisland.com/activity/welcome-coffee-with-women-of-nassau/2025-12-15/
LOCATION:Story & Song Centre for Arts and Culture\, 1430 Park Avenue\, Fernandina Beach\, FL\, 32034
ATTACH;FMTTYPE=image/jpeg:https://www.ameliaisland.com/wp-content/uploads/Women-of-Nassau-Story-Song.jpg
END:VEVENT
BEGIN:VEVENT
DTSTART;TZID=America/New_York:20251214T120000
DTEND;TZID=America/New_York:20251214T140000
DTSTAMP:20260423T055728
CREATED:20251124T151006Z
LAST-MODIFIED:20251124T152929Z
UID:10026399-1765713600-1765720800@www.ameliaisland.com
SUMMARY:Songs by the Sea
DESCRIPTION:Take a break by the sea with singer/songwriter Bill Ivins as he brings his signature “acoustic flashback” to our courtyard! Enjoy an afternoon of feel-good favorites and original tunes that transport you through time. \nGrab a delicious lunch from our bistro\, find a sunny seat\, and let the music carry you away. It’s casual\, it’s coastal\, and it’s all happening right here. \nCome tap your toes\, sing along\, and soak up the sounds of Songs by the Sea!
URL:https://www.ameliaisland.com/activity/songs-by-the-sea-5/2025-12-14/
LOCATION:Story & Song Centre for Arts and Culture\, 1430 Park Avenue\, Fernandina Beach\, FL\, 32034
ATTACH;FMTTYPE=image/jpeg:https://www.ameliaisland.com/wp-content/uploads/Bill-Ivins-1.jpg
END:VEVENT
BEGIN:VEVENT
DTSTART;TZID=America/New_York:20251213T170000
DTEND;TZID=America/New_York:20251213T190000
DTSTAMP:20260423T055728
CREATED:20251124T152615Z
LAST-MODIFIED:20251124T152615Z
UID:10026396-1765645200-1765652400@www.ameliaisland.com
SUMMARY:An Evening of Story & Song” with Two Crows for Comfort
DESCRIPTION:This two-time MCMA Roots Duo/Group of the Year from the prairie wonderland of Manitoba is known for their original music\, spot-on harmonies\, and funny stories that inspired their music. \n$25 per person • Cash bar available
URL:https://www.ameliaisland.com/activity/an-evening-of-story-song-with-two-crows-for-comfort/
LOCATION:Story & Song Centre for Arts and Culture\, 1430 Park Avenue\, Fernandina Beach\, FL\, 32034
ATTACH;FMTTYPE=image/jpeg:https://www.ameliaisland.com/wp-content/uploads/An-Evening-of-Story-Song-with-Two-Crows-for-Comfort.jpg
END:VEVENT
BEGIN:VEVENT
DTSTART;TZID=America/New_York:20251213T110000
DTEND;TZID=America/New_York:20251213T120000
DTSTAMP:20260423T055728
CREATED:20251124T153231Z
LAST-MODIFIED:20251124T153231Z
UID:10026400-1765623600-1765627200@www.ameliaisland.com
SUMMARY:Create\, Make & Gift! Holiday Art Adventure with Susan Dahl
DESCRIPTION:The holiday season is here! Join us for our second annual gift-making and wrapping workshop. There may even be a silly song or sing-a-long too! Plus a sweet treat and goody bag to take home. \nAge 5-12 • Class size limited to 12. RSVP required. \nReserve your seat via the link. \nSponsored by The Story & Song Foundation
URL:https://www.ameliaisland.com/activity/create-make-gift-holiday-art-adventure-with-susan-dahl/
LOCATION:Story & Song Centre for Arts and Culture\, 1430 Park Avenue\, Fernandina Beach\, FL\, 32034
ATTACH;FMTTYPE=image/jpeg:https://www.ameliaisland.com/wp-content/uploads/Create-Make-Gift-Holiday-Art-Adventure-with-Susan-Dahl.jpg
END:VEVENT
BEGIN:VEVENT
DTSTART;TZID=America/New_York:20251213T103000
DTEND;TZID=America/New_York:20251213T113000
DTSTAMP:20260423T055728
CREATED:20240530T003130Z
LAST-MODIFIED:20240530T003130Z
UID:10009415-1765621800-1765625400@www.ameliaisland.com
SUMMARY:StoryTime with Ms. Dearsha
DESCRIPTION:Join us at the store for a magical StoryTime with Ms. Dearsha\, our beloved and very talented Director of Children’s Merchandise and Programming! \nStoryTime is every Saturday at 10:30 am in the store. No RSVP needed. Just come on in! \nDive into fantastical worlds\, meet dynamic characters\, and let your imagination soar! We can’t wait to see you!
URL:https://www.ameliaisland.com/activity/storytime-with-ms-dearsha/2025-12-13/
LOCATION:Story & Song Centre for Arts and Culture\, 1430 Park Avenue\, Fernandina Beach\, FL\, 32034
ATTACH;FMTTYPE=image/jpeg:https://www.ameliaisland.com/wp-content/uploads/Story-Song-family-books-shops.jpeg
END:VEVENT
BEGIN:VEVENT
DTSTART;TZID=America/New_York:20251212T123000
DTEND;TZID=America/New_York:20251212T140000
DTSTAMP:20260423T055728
CREATED:20251124T153711Z
LAST-MODIFIED:20251124T153711Z
UID:10026401-1765542600-1765548000@www.ameliaisland.com
SUMMARY:Literary Luncheon: “Monster & The Daughter Who Loved Her”
DESCRIPTION:Luncheon with Author Linda Ford Ayres \nPsychotherapist Linda Ford Ayres was both victim and confidant of a severely emotionally disturbed mother. Rarely do we have the opportunity to experience mental illness from both points of view. Her incredible empathy combined with her rare capacity to contain a storm of conflicting emotions raging within her\, leave the reader in both shock and awe.\nMonster & The Daughter Who Loved Her opens with an incident that cannot help but leave one speechless. Using alternating chapters of her own voice and that of her mother’s\, Ayres’ fascinating trial-and-error life keeps the reader on the edge of her seat until the surprise ending where forgiveness\, like love\, arrives unexpectedly. \nLunch Menu: Thankful Salad with Turkey or without Turkey (Vegetarian): Mixed Greens\, Quinoa\, Pecans\, Pear\, Red Grapes\, Dried Cranberries\, & Pomegranate Arils\, Mini-Croissants\, Cranberry Crumble Pie Bar \nAbout the book:\nTom Ford\, well-known and beloved scenic artist\, father to Ayres and her younger sister\, and husband to his stunning\, kooky\, sadistic wife\, lived in a blissful state of denial as he rolled through his charmed life; until\, at age eighty-seven\, still working on the sets for Beauty and the Beast\, he was beaten over the head and left for dead two blocks from his home in a neighborhood that had never seen a violent crime. This is only one of the unsolved mysteries in this riveting\, harrowing\, yet ultimately\, inspirational tale.
URL:https://www.ameliaisland.com/activity/literary-luncheon-monster-the-daughter-who-loved-her/
LOCATION:Story & Song Centre for Arts and Culture\, 1430 Park Avenue\, Fernandina Beach\, FL\, 32034
ATTACH;FMTTYPE=image/jpeg:https://www.ameliaisland.com/wp-content/uploads/Monster-and-the-Daughter-who-Loved-Her.jpg
END:VEVENT
BEGIN:VEVENT
DTSTART;TZID=America/New_York:20251211T100000
DTEND;TZID=America/New_York:20251211T160000
DTSTAMP:20260423T055728
CREATED:20251124T154052Z
LAST-MODIFIED:20251124T154052Z
UID:10026402-1765447200-1765468800@www.ameliaisland.com
SUMMARY:Front Porch Beaders Trunk Show
DESCRIPTION:Find a stunning selection of all kinds of beaded jewelry hand-made by Front Porch Beaders.  \nA portion of proceeds will benefit a Jacksonville-based food distribution organization.
URL:https://www.ameliaisland.com/activity/front-porch-beaders-trunk-show-2/
LOCATION:Story & Song Centre for Arts and Culture\, 1430 Park Avenue\, Fernandina Beach\, FL\, 32034
ATTACH;FMTTYPE=image/jpeg:https://www.ameliaisland.com/wp-content/uploads/Front-Porch-Beaders-Trunk-Show.jpg
END:VEVENT
BEGIN:VEVENT
DTSTART;TZID=America/New_York:20251207T120000
DTEND;TZID=America/New_York:20251207T140000
DTSTAMP:20260423T055728
CREATED:20251124T152000Z
LAST-MODIFIED:20251124T152744Z
UID:10026397-1765108800-1765116000@www.ameliaisland.com
SUMMARY:Acoustic Guitar Music Jam
DESCRIPTION:Join other guitar players in an acoustic guitar jam.  \nIf you’re a beginner or an experienced musician\, bring your acoustic guitar and some songs that you want to play and join other guitar players in a relaxed setting on the patio courtyard. Songs of the 50s\, 60s and 70s and all genres. If you don’t want to join in – come listen. You might be prompted to join in at another time.
URL:https://www.ameliaisland.com/activity/acoustic-guitar-music-jam-6/2025-12-07/
LOCATION:Story & Song Centre for Arts and Culture\, 1430 Park Avenue\, Fernandina Beach\, FL\, 32034
ATTACH;FMTTYPE=image/jpeg:https://www.ameliaisland.com/wp-content/uploads/Acoustic-Guitar-Music-Jam-v2-2-dates.jpeg
END:VEVENT
BEGIN:VEVENT
DTSTART;TZID=America/New_York:20251206T170000
DTEND;TZID=America/New_York:20251206T190000
DTSTAMP:20260423T055728
CREATED:20251121T143619Z
LAST-MODIFIED:20251121T143619Z
UID:10026389-1765040400-1765047600@www.ameliaisland.com
SUMMARY:Les DeMerle Band "Jazz Spirit of Christmas" Show
DESCRIPTION:Celebrate the season with The Jazz Spirit Of Christmas Show featuring the Dynamic Les DeMerle Jazz Quartet with Bonnie Eisele-Vocals\, Doug Matthews-Keyboards\, Ajax McDonell-Sax and Clarinet and Special Guests. \nGroove with Les and the band as they perform Christmas classics including “Winter Wonderland”\, “Let It Snow”\, Bonnie’s sexy version of “Santa Baby”\, and a funky N’awlins original\, “Santa Claus Is Near”\, with Les’ Second Line drumming and more from their acclaimed recording\, “The Jazz Spirit Of Christmas”\, on Origin Records.\nSpecial guests will include one of Les’s young drum student prodigies playing “The Little Drummer Boy”. \nTickets are available online or by calling (904) 601-2118
URL:https://www.ameliaisland.com/activity/les-demerle-band-jazz-spirit-of-christmas-show-3/
LOCATION:Story & Song Centre for Arts and Culture\, 1430 Park Avenue\, Fernandina Beach\, FL\, 32034
ATTACH;FMTTYPE=image/jpeg:https://www.ameliaisland.com/wp-content/uploads/Les-DeMerle-Christmas.jpg
END:VEVENT
BEGIN:VEVENT
DTSTART;TZID=America/New_York:20251206T103000
DTEND;TZID=America/New_York:20251206T113000
DTSTAMP:20260423T055728
CREATED:20240530T003130Z
LAST-MODIFIED:20240530T003130Z
UID:10009414-1765017000-1765020600@www.ameliaisland.com
SUMMARY:StoryTime with Ms. Dearsha
DESCRIPTION:Join us at the store for a magical StoryTime with Ms. Dearsha\, our beloved and very talented Director of Children’s Merchandise and Programming! \nStoryTime is every Saturday at 10:30 am in the store. No RSVP needed. Just come on in! \nDive into fantastical worlds\, meet dynamic characters\, and let your imagination soar! We can’t wait to see you!
URL:https://www.ameliaisland.com/activity/storytime-with-ms-dearsha/2025-12-06/
LOCATION:Story & Song Centre for Arts and Culture\, 1430 Park Avenue\, Fernandina Beach\, FL\, 32034
ATTACH;FMTTYPE=image/jpeg:https://www.ameliaisland.com/wp-content/uploads/Story-Song-family-books-shops.jpeg
END:VEVENT
BEGIN:VEVENT
DTSTART;TZID=America/New_York:20251205T150000
DTEND;TZID=America/New_York:20251205T163000
DTSTAMP:20260423T055728
CREATED:20240530T003926Z
LAST-MODIFIED:20260201T153459Z
UID:10009614-1764946800-1764952200@www.ameliaisland.com
SUMMARY:Tea & Tales
DESCRIPTION:Join us for a delightful afternoon tea with captivating readings by actor Ron Kurtz on the FIRST FRIDAY of every month! \nIndulge in a scrumptious selection of sweet and savory treats crafted by the Story & Song bistro\, perfectly paired with enchanting stories.
URL:https://www.ameliaisland.com/activity/tea-tales/2025-12-05/
LOCATION:Story & Song Centre for Arts and Culture\, 1430 Park Avenue\, Fernandina Beach\, FL\, 32034
ATTACH;FMTTYPE=image/jpeg:https://www.ameliaisland.com/wp-content/uploads/Tea-Tales-Flyer-scaled.jpg
END:VEVENT
BEGIN:VEVENT
DTSTART;TZID=America/New_York:20251204T170000
DTEND;TZID=America/New_York:20251204T183000
DTSTAMP:20260423T055728
CREATED:20241107T132338Z
LAST-MODIFIED:20241107T132338Z
UID:10016228-1764867600-1764873000@www.ameliaisland.com
SUMMARY:Story & Song Book Group
DESCRIPTION:The Story & Song Fiction Book group meets on the 1st Thursday of every month. \nEnjoy Happy Hour prices for wine and craft beer and come enjoy the conversation! \nSee upcoming S&S Book Group selections on our website.
URL:https://www.ameliaisland.com/activity/story-song-book-group-2/2025-12-04/
LOCATION:Story & Song Centre for Arts and Culture\, 1430 Park Avenue\, Fernandina Beach\, FL\, 32034
ATTACH;FMTTYPE=image/jpeg:https://www.ameliaisland.com/wp-content/uploads/SS-Fiction-Book-Group-.jpeg
END:VEVENT
BEGIN:VEVENT
DTSTART;TZID=America/New_York:20251204T150000
DTEND;TZID=America/New_York:20251204T160000
DTSTAMP:20260423T055728
CREATED:20240530T214559Z
LAST-MODIFIED:20240530T214559Z
UID:10009674-1764860400-1764864000@www.ameliaisland.com
SUMMARY:Mindfulness & Meditation
DESCRIPTION:Valerie Brandt leads us in a FREE session of Yoga Nidra followed by the soothing sounds of her “singing crystal bowls.” \nIf you haven’t tried it\, but you’ve been feeling the need for calm and peace in your life\, please join us! Yoga Nidra is a meditation and conscious relaxation practice intended to induce total physical\, mental\, and emotional relaxation. \nThere’s enough room upstairs to allow us to maintain safe distances\, whether seated upright or stretched out on the carpet. Bring a mat if you’d like to stretch out on the carpet and a sweater or blanket\, too. \nNo RSVP required. Just come on in and start relaxing.
URL:https://www.ameliaisland.com/activity/mindfulness-meditation-2/2025-12-04/
LOCATION:Story & Song Centre for Arts and Culture\, 1430 Park Avenue\, Fernandina Beach\, FL\, 32034
ATTACH;FMTTYPE=image/jpeg:https://www.ameliaisland.com/wp-content/uploads/Yoga-Story-Song.jpeg
END:VEVENT
BEGIN:VEVENT
DTSTART;TZID=America/New_York:20251202T150000
DTEND;TZID=America/New_York:20251202T170000
DTSTAMP:20260423T055728
CREATED:20251013T204837Z
LAST-MODIFIED:20251124T154241Z
UID:10026403-1764687600-1764694800@www.ameliaisland.com
SUMMARY:Amelia Island Writers
DESCRIPTION:“Negotiating Book Contracts” with Jan Yager\, Ph.D.: What authors need to ask. You finally got that long awaited publishing deal\, now what? In this program learn what to ask and what to avoid in your book signing contract. This will be a panel discussion with attorneys. \nMark your calendar. Come early to network\, meet other members\, and get a refreshment. If you cannot join us and would like to share\, we encourage you to send your success or challenge to donnaleeoverly@gmail.com.
URL:https://www.ameliaisland.com/activity/amelia-island-writers-2/2025-12-02/
LOCATION:Story & Song Centre for Arts and Culture\, 1430 Park Avenue\, Fernandina Beach\, FL\, 32034
ATTACH;FMTTYPE=image/jpeg:https://www.ameliaisland.com/wp-content/uploads/Amelia-Island-Writers.jpg
END:VEVENT
BEGIN:VEVENT
DTSTART;TZID=America/New_York:20251130T140000
DTEND;TZID=America/New_York:20251130T150000
DTSTAMP:20260423T055728
CREATED:20251029T120353Z
LAST-MODIFIED:20251029T120353Z
UID:10026149-1764511200-1764514800@www.ameliaisland.com
SUMMARY:Author Event: “Christmas on Jekyll”
DESCRIPTION:Author event with Sandy Malone \nYou’ll want to visit our neighboring island to the north\, Jekyll Island\, after listening to nationally-known wedding planner Sandy Malone talk about the fifth book in her “Jekyll” series. She will also display some paintings by renowned artist Bill Hendrix related to the book.
URL:https://www.ameliaisland.com/activity/author-event-christmas-on-jekyll/
LOCATION:Story & Song Centre for Arts and Culture\, 1430 Park Avenue\, Fernandina Beach\, FL\, 32034
ATTACH;FMTTYPE=image/jpeg:https://www.ameliaisland.com/wp-content/uploads/Story-Song-Sandy-Malone.jpg
END:VEVENT
BEGIN:VEVENT
DTSTART;TZID=America/New_York:20251129T170000
DTEND;TZID=America/New_York:20251129T190000
DTSTAMP:20260423T055728
CREATED:20251029T120742Z
LAST-MODIFIED:20251029T120742Z
UID:10026150-1764435600-1764442800@www.ameliaisland.com
SUMMARY:Festival of Stories & Songs Preview
DESCRIPTION:Performer\, humorist\, and storyteller Walt Belcher regales us with stories about Florida wrangler Morgan Bonaparte “Bone” Mizell\, a lanky cowman who could out-ride\, out-shoot\, out-rope\, out-talk\,\, out-prank and out-drink anyone of his day.
URL:https://www.ameliaisland.com/activity/festival-of-stories-songs-preview/
LOCATION:Story & Song Centre for Arts and Culture\, 1430 Park Avenue\, Fernandina Beach\, FL\, 32034
ATTACH;FMTTYPE=image/jpeg:https://www.ameliaisland.com/wp-content/uploads/Story-Song-Walt-Belcher.jpg
END:VEVENT
BEGIN:VEVENT
DTSTART;TZID=America/New_York:20251129T120000
DTEND;TZID=America/New_York:20251129T140000
DTSTAMP:20260423T055728
CREATED:20241017T125209Z
LAST-MODIFIED:20241017T125209Z
UID:10016140-1764417600-1764424800@www.ameliaisland.com
SUMMARY:Island Art Association - Critique Group
DESCRIPTION:An open discussion and critique group meets on the last Saturday of each month at Story & Song Bookstore Bistro from 12:00 noon-2:00 pm. All mediums are welcome. Artists may bring works in progress to receive the group’s support and views. \nStory & Song’s Bistro offers a breakfast and lunch menu.
URL:https://www.ameliaisland.com/activity/island-art-association-critique-group/2025-11-29/
LOCATION:Story & Song Centre for Arts and Culture\, 1430 Park Avenue\, Fernandina Beach\, FL\, 32034
ATTACH;FMTTYPE=image/jpeg:https://www.ameliaisland.com/wp-content/uploads/Story-Song-.jpg
END:VEVENT
BEGIN:VEVENT
DTSTART;TZID=America/New_York:20251129T103000
DTEND;TZID=America/New_York:20251129T113000
DTSTAMP:20260423T055728
CREATED:20240530T003130Z
LAST-MODIFIED:20240530T003130Z
UID:10009413-1764412200-1764415800@www.ameliaisland.com
SUMMARY:StoryTime with Ms. Dearsha
DESCRIPTION:Join us at the store for a magical StoryTime with Ms. Dearsha\, our beloved and very talented Director of Children’s Merchandise and Programming! \nStoryTime is every Saturday at 10:30 am in the store. No RSVP needed. Just come on in! \nDive into fantastical worlds\, meet dynamic characters\, and let your imagination soar! We can’t wait to see you!
URL:https://www.ameliaisland.com/activity/storytime-with-ms-dearsha/2025-11-29/
LOCATION:Story & Song Centre for Arts and Culture\, 1430 Park Avenue\, Fernandina Beach\, FL\, 32034
ATTACH;FMTTYPE=image/jpeg:https://www.ameliaisland.com/wp-content/uploads/Story-Song-family-books-shops.jpeg
END:VEVENT
BEGIN:VEVENT
DTSTART;TZID=America/New_York:20251123T150000
DTEND;TZID=America/New_York:20251123T170000
DTSTAMP:20260423T055728
CREATED:20251029T121341Z
LAST-MODIFIED:20251029T121341Z
UID:10026151-1763910000-1763917200@www.ameliaisland.com
SUMMARY:The Jacksonville Symphony: Autumn Overture
DESCRIPTION:ARIAS (Amelia Residents In Action for the Symphony)presents: The String Quartet of The Jacksonville Symphony! \nJoin us for this Fundraiser supporting Music Education in Nassau Schools\, including bus transportation to Jacoby Symphony Hall and the Jacksonville Symphony. \nReception at 3 pm • Concert at 3:30 pm • Finger Foods served at intermission \nFor more information\, visit ariasnassau.org
URL:https://www.ameliaisland.com/activity/the-jacksonville-symphony-autumn-overture/
LOCATION:Story & Song Centre for Arts and Culture\, 1430 Park Avenue\, Fernandina Beach\, FL\, 32034
ATTACH;FMTTYPE=image/jpeg:https://www.ameliaisland.com/wp-content/uploads/Story-Song-ARIAS.jpg
END:VEVENT
BEGIN:VEVENT
DTSTART;TZID=America/New_York:20251122T170000
DTEND;TZID=America/New_York:20251122T190000
DTSTAMP:20260423T055728
CREATED:20251029T121907Z
LAST-MODIFIED:20251029T121907Z
UID:10026152-1763830800-1763838000@www.ameliaisland.com
SUMMARY:Serenade for the Soul
DESCRIPTION:Renowned harpist Rhett Barnwell specializes in sacred\, classical and meditative music. \nHe has given concerts throughout the U.S.\, Venice\, Rome and Florence\, Italy.
URL:https://www.ameliaisland.com/activity/serenade-for-the-soul/
LOCATION:Story & Song Centre for Arts and Culture\, 1430 Park Avenue\, Fernandina Beach\, FL\, 32034
ATTACH;FMTTYPE=image/jpeg:https://www.ameliaisland.com/wp-content/uploads/Story-Song-1.jpg
END:VEVENT
BEGIN:VEVENT
DTSTART;TZID=America/New_York:20251122T103000
DTEND;TZID=America/New_York:20251122T113000
DTSTAMP:20260423T055728
CREATED:20240530T003130Z
LAST-MODIFIED:20240530T003130Z
UID:10009412-1763807400-1763811000@www.ameliaisland.com
SUMMARY:StoryTime with Ms. Dearsha
DESCRIPTION:Join us at the store for a magical StoryTime with Ms. Dearsha\, our beloved and very talented Director of Children’s Merchandise and Programming! \nStoryTime is every Saturday at 10:30 am in the store. No RSVP needed. Just come on in! \nDive into fantastical worlds\, meet dynamic characters\, and let your imagination soar! We can’t wait to see you!
URL:https://www.ameliaisland.com/activity/storytime-with-ms-dearsha/2025-11-22/
LOCATION:Story & Song Centre for Arts and Culture\, 1430 Park Avenue\, Fernandina Beach\, FL\, 32034
ATTACH;FMTTYPE=image/jpeg:https://www.ameliaisland.com/wp-content/uploads/Story-Song-family-books-shops.jpeg
END:VEVENT
BEGIN:VEVENT
DTSTART;TZID=America/New_York:20251119T170000
DTEND;TZID=America/New_York:20251119T190000
DTSTAMP:20260423T055728
CREATED:20240611T235936Z
LAST-MODIFIED:20240611T235936Z
UID:10009931-1763571600-1763578800@www.ameliaisland.com
SUMMARY:Cinema & Conversation
DESCRIPTION:On the 3rd Wednesday of the month\, join us to watch a film chosen for its meaningful theme\, and stay for a facilitated discussion after. \nFree and open to all.
URL:https://www.ameliaisland.com/activity/cinema-conversation/2025-11-19/
LOCATION:Story & Song Centre for Arts and Culture\, 1430 Park Avenue\, Fernandina Beach\, FL\, 32034
ATTACH;FMTTYPE=image/jpeg:https://www.ameliaisland.com/wp-content/uploads/Cinema-Conversation-story-song.jpeg
END:VEVENT
BEGIN:VEVENT
DTSTART;TZID=America/New_York:20251118T153000
DTEND;TZID=America/New_York:20251118T163000
DTSTAMP:20260423T055728
CREATED:20240605T200210Z
LAST-MODIFIED:20240605T200210Z
UID:10009801-1763479800-1763483400@www.ameliaisland.com
SUMMARY:Poetry Canteen
DESCRIPTION:Join us the 3rd Tuesday of each month for Amelia Island’s Poet Laureate Nola Perez and friends as they gather to share their love of poetry\, reading their own works or favorites of others. There will be a five-minute “open mic” format to read your work! \nSee you there!
URL:https://www.ameliaisland.com/activity/poetry-canteen/2025-11-18/
LOCATION:Story & Song Centre for Arts and Culture\, 1430 Park Avenue\, Fernandina Beach\, FL\, 32034
ATTACH;FMTTYPE=image/jpeg:https://www.ameliaisland.com/wp-content/uploads/Story-Song-Poetry-Canteen.jpg
END:VEVENT
BEGIN:VEVENT
DTSTART;TZID=America/New_York:20251117T100000
DTEND;TZID=America/New_York:20251117T113000
DTSTAMP:20260423T055728
CREATED:20240611T235616Z
LAST-MODIFIED:20240611T235616Z
UID:10009871-1763373600-1763379000@www.ameliaisland.com
SUMMARY:Welcome Coffee with Women of Nassau
DESCRIPTION:New to Fernandina? Want to get involved in the community? \nAll women\, including new and current members\, are invited to join the Women of Nassau’s monthly coffee get-together at Story & Song. \nThis event is FREE with light refreshments. No RSVP needed. (3rd Monday of every month)
URL:https://www.ameliaisland.com/activity/welcome-coffee-with-women-of-nassau/2025-11-17/
LOCATION:Story & Song Centre for Arts and Culture\, 1430 Park Avenue\, Fernandina Beach\, FL\, 32034
ATTACH;FMTTYPE=image/jpeg:https://www.ameliaisland.com/wp-content/uploads/Women-of-Nassau-Story-Song.jpg
END:VEVENT
BEGIN:VEVENT
DTSTART;TZID=America/New_York:20251116T120000
DTEND;TZID=America/New_York:20251116T140000
DTSTAMP:20260423T055728
CREATED:20251013T184500Z
LAST-MODIFIED:20251013T184500Z
UID:10026068-1763294400-1763301600@www.ameliaisland.com
SUMMARY:Acoustic Guitar Music Jam
DESCRIPTION:Join other guitar players in an acoustic guitar jam. If you’re a beginner or an experienced musician\, bring your acoustic guitar and some songs that you want to play and join other guitar players in a relaxed setting on the patio courtyard. Songs of the 50s\, 60s and 70s and all genres.  \nIf you don’t want to join in – come listen. You might be prompted to join in at another time.
URL:https://www.ameliaisland.com/activity/acoustic-guitar-music-jam-4/2025-11-16/
LOCATION:Story & Song Centre for Arts and Culture\, 1430 Park Avenue\, Fernandina Beach\, FL\, 32034
ATTACH;FMTTYPE=image/jpeg:https://www.ameliaisland.com/wp-content/uploads/Story-Song-Acoustic-Guitar-Music-Jam-v2.jpg
END:VEVENT
BEGIN:VEVENT
DTSTART;TZID=America/New_York:20251115T170000
DTEND;TZID=America/New_York:20251115T190000
DTSTAMP:20260423T055728
CREATED:20251029T122443Z
LAST-MODIFIED:20251029T122443Z
UID:10026153-1763226000-1763233200@www.ameliaisland.com
SUMMARY:“An Evening of Story & Song” with Friction Farm
DESCRIPTION:For more than two decades\, husband and wife team of Aidan Quinn and Christine Stay has traveled the world singing songs filled with storytelling\, social commentary and humor. They’re known for writing songs inspired by books they’ve read.
URL:https://www.ameliaisland.com/activity/an-evening-of-story-song-with-friction-farm/
LOCATION:Story & Song Centre for Arts and Culture\, 1430 Park Avenue\, Fernandina Beach\, FL\, 32034
ATTACH;FMTTYPE=image/jpeg:https://www.ameliaisland.com/wp-content/uploads/An-Evening-of-Story-Song-with-Friction-Farm.jpg
END:VEVENT
END:VCALENDAR