BEGIN:VCALENDAR
VERSION:2.0
PRODID:-//Amelia Island - ECPv6.8.0//NONSGML v1.0//EN
CALSCALE:GREGORIAN
METHOD:PUBLISH
X-WR-CALNAME:Amelia Island
X-ORIGINAL-URL:https://www.ameliaisland.com
X-WR-CALDESC:Events for Amelia Island
REFRESH-INTERVAL;VALUE=DURATION:PT1H
X-Robots-Tag:noindex
X-PUBLISHED-TTL:PT1H
BEGIN:VTIMEZONE
TZID:America/New_York
BEGIN:DAYLIGHT
TZOFFSETFROM:-0500
TZOFFSETTO:-0400
TZNAME:EDT
DTSTART:20260308T070000
END:DAYLIGHT
BEGIN:STANDARD
TZOFFSETFROM:-0400
TZOFFSETTO:-0500
TZNAME:EST
DTSTART:20261101T060000
END:STANDARD
END:VTIMEZONE
BEGIN:VEVENT
DTSTART;TZID=America/New_York:20260829T103000
DTEND;TZID=America/New_York:20260829T113000
DTSTAMP:20260421T060550
CREATED:20240530T003130Z
LAST-MODIFIED:20240530T003130Z
UID:10009452-1787999400-1788003000@www.ameliaisland.com
SUMMARY:StoryTime with Ms. Dearsha
DESCRIPTION:Join us at the store for a magical StoryTime with Ms. Dearsha\, our beloved and very talented Director of Children’s Merchandise and Programming! \nStoryTime is every Saturday at 10:30 am in the store. No RSVP needed. Just come on in! \nDive into fantastical worlds\, meet dynamic characters\, and let your imagination soar! We can’t wait to see you!
URL:https://www.ameliaisland.com/activity/storytime-with-ms-dearsha/2026-08-29/
LOCATION:Story & Song Centre for Arts and Culture\, 1430 Park Avenue\, Fernandina Beach\, FL\, 32034
ATTACH;FMTTYPE=image/jpeg:https://www.ameliaisland.com/wp-content/uploads/Story-Song-family-books-shops.jpeg
END:VEVENT
BEGIN:VEVENT
DTSTART;TZID=America/New_York:20260829T120000
DTEND;TZID=America/New_York:20260829T140000
DTSTAMP:20260421T060550
CREATED:20241017T125209Z
LAST-MODIFIED:20241017T125209Z
UID:10016149-1788004800-1788012000@www.ameliaisland.com
SUMMARY:Island Art Association - Critique Group
DESCRIPTION:An open discussion and critique group meets on the last Saturday of each month at Story & Song Bookstore Bistro from 12:00 noon-2:00 pm. All mediums are welcome. Artists may bring works in progress to receive the group’s support and views. \nStory & Song’s Bistro offers a breakfast and lunch menu.
URL:https://www.ameliaisland.com/activity/island-art-association-critique-group/2026-08-29/
LOCATION:Story & Song Centre for Arts and Culture\, 1430 Park Avenue\, Fernandina Beach\, FL\, 32034
ATTACH;FMTTYPE=image/jpeg:https://www.ameliaisland.com/wp-content/uploads/Story-Song-.jpg
END:VEVENT
BEGIN:VEVENT
DTSTART;TZID=America/New_York:20260903T150000
DTEND;TZID=America/New_York:20260903T160000
DTSTAMP:20260421T060550
CREATED:20240530T214559Z
LAST-MODIFIED:20240530T214559Z
UID:10009683-1788447600-1788451200@www.ameliaisland.com
SUMMARY:Mindfulness & Meditation
DESCRIPTION:Valerie Brandt leads us in a FREE session of Yoga Nidra followed by the soothing sounds of her “singing crystal bowls.” \nIf you haven’t tried it\, but you’ve been feeling the need for calm and peace in your life\, please join us! Yoga Nidra is a meditation and conscious relaxation practice intended to induce total physical\, mental\, and emotional relaxation. \nThere’s enough room upstairs to allow us to maintain safe distances\, whether seated upright or stretched out on the carpet. Bring a mat if you’d like to stretch out on the carpet and a sweater or blanket\, too. \nNo RSVP required. Just come on in and start relaxing.
URL:https://www.ameliaisland.com/activity/mindfulness-meditation-2/2026-09-03/
LOCATION:Story & Song Centre for Arts and Culture\, 1430 Park Avenue\, Fernandina Beach\, FL\, 32034
ATTACH;FMTTYPE=image/jpeg:https://www.ameliaisland.com/wp-content/uploads/Yoga-Story-Song.jpeg
END:VEVENT
BEGIN:VEVENT
DTSTART;TZID=America/New_York:20260903T170000
DTEND;TZID=America/New_York:20260903T183000
DTSTAMP:20260421T060550
CREATED:20241107T132338Z
LAST-MODIFIED:20241107T132338Z
UID:10016237-1788454800-1788460200@www.ameliaisland.com
SUMMARY:Story & Song Book Group
DESCRIPTION:The Story & Song Fiction Book group meets on the 1st Thursday of every month. \nEnjoy Happy Hour prices for wine and craft beer and come enjoy the conversation! \nSee upcoming S&S Book Group selections on our website.
URL:https://www.ameliaisland.com/activity/story-song-book-group-2/2026-09-03/
LOCATION:Story & Song Centre for Arts and Culture\, 1430 Park Avenue\, Fernandina Beach\, FL\, 32034
ATTACH;FMTTYPE=image/jpeg:https://www.ameliaisland.com/wp-content/uploads/SS-Fiction-Book-Group-.jpeg
END:VEVENT
BEGIN:VEVENT
DTSTART;TZID=America/New_York:20260904T150000
DTEND;TZID=America/New_York:20260904T163000
DTSTAMP:20260421T060550
CREATED:20240530T003926Z
LAST-MODIFIED:20260201T153459Z
UID:10009623-1788534000-1788539400@www.ameliaisland.com
SUMMARY:Tea & Tales
DESCRIPTION:Join us for a delightful afternoon tea with captivating readings by actor Ron Kurtz on the FIRST FRIDAY of every month! \nIndulge in a scrumptious selection of sweet and savory treats crafted by the Story & Song bistro\, perfectly paired with enchanting stories.
URL:https://www.ameliaisland.com/activity/tea-tales/2026-09-04/
LOCATION:Story & Song Centre for Arts and Culture\, 1430 Park Avenue\, Fernandina Beach\, FL\, 32034
ATTACH;FMTTYPE=image/jpeg:https://www.ameliaisland.com/wp-content/uploads/Tea-Tales-Flyer-scaled.jpg
END:VEVENT
BEGIN:VEVENT
DTSTART;TZID=America/New_York:20260905T103000
DTEND;TZID=America/New_York:20260905T113000
DTSTAMP:20260421T060550
CREATED:20240530T003130Z
LAST-MODIFIED:20240530T003130Z
UID:10009453-1788604200-1788607800@www.ameliaisland.com
SUMMARY:StoryTime with Ms. Dearsha
DESCRIPTION:Join us at the store for a magical StoryTime with Ms. Dearsha\, our beloved and very talented Director of Children’s Merchandise and Programming! \nStoryTime is every Saturday at 10:30 am in the store. No RSVP needed. Just come on in! \nDive into fantastical worlds\, meet dynamic characters\, and let your imagination soar! We can’t wait to see you!
URL:https://www.ameliaisland.com/activity/storytime-with-ms-dearsha/2026-09-05/
LOCATION:Story & Song Centre for Arts and Culture\, 1430 Park Avenue\, Fernandina Beach\, FL\, 32034
ATTACH;FMTTYPE=image/jpeg:https://www.ameliaisland.com/wp-content/uploads/Story-Song-family-books-shops.jpeg
END:VEVENT
BEGIN:VEVENT
DTSTART;TZID=America/New_York:20260912T103000
DTEND;TZID=America/New_York:20260912T113000
DTSTAMP:20260421T060550
CREATED:20240530T003130Z
LAST-MODIFIED:20240530T003130Z
UID:10009454-1789209000-1789212600@www.ameliaisland.com
SUMMARY:StoryTime with Ms. Dearsha
DESCRIPTION:Join us at the store for a magical StoryTime with Ms. Dearsha\, our beloved and very talented Director of Children’s Merchandise and Programming! \nStoryTime is every Saturday at 10:30 am in the store. No RSVP needed. Just come on in! \nDive into fantastical worlds\, meet dynamic characters\, and let your imagination soar! We can’t wait to see you!
URL:https://www.ameliaisland.com/activity/storytime-with-ms-dearsha/2026-09-12/
LOCATION:Story & Song Centre for Arts and Culture\, 1430 Park Avenue\, Fernandina Beach\, FL\, 32034
ATTACH;FMTTYPE=image/jpeg:https://www.ameliaisland.com/wp-content/uploads/Story-Song-family-books-shops.jpeg
END:VEVENT
BEGIN:VEVENT
DTSTART;TZID=America/New_York:20260915T153000
DTEND;TZID=America/New_York:20260915T163000
DTSTAMP:20260421T060551
CREATED:20240605T200210Z
LAST-MODIFIED:20240605T200210Z
UID:10009811-1789486200-1789489800@www.ameliaisland.com
SUMMARY:Poetry Canteen
DESCRIPTION:Join us the 3rd Tuesday of each month for Amelia Island’s Poet Laureate Nola Perez and friends as they gather to share their love of poetry\, reading their own works or favorites of others. There will be a five-minute “open mic” format to read your work! \nSee you there!
URL:https://www.ameliaisland.com/activity/poetry-canteen/2026-09-15/
LOCATION:Story & Song Centre for Arts and Culture\, 1430 Park Avenue\, Fernandina Beach\, FL\, 32034
ATTACH;FMTTYPE=image/jpeg:https://www.ameliaisland.com/wp-content/uploads/Story-Song-Poetry-Canteen.jpg
END:VEVENT
BEGIN:VEVENT
DTSTART;TZID=America/New_York:20260916T170000
DTEND;TZID=America/New_York:20260916T190000
DTSTAMP:20260421T060551
CREATED:20240611T235936Z
LAST-MODIFIED:20240611T235936Z
UID:10009941-1789578000-1789585200@www.ameliaisland.com
SUMMARY:Cinema & Conversation
DESCRIPTION:On the 3rd Wednesday of the month\, join us to watch a film chosen for its meaningful theme\, and stay for a facilitated discussion after. \nFree and open to all.
URL:https://www.ameliaisland.com/activity/cinema-conversation/2026-09-16/
LOCATION:Story & Song Centre for Arts and Culture\, 1430 Park Avenue\, Fernandina Beach\, FL\, 32034
ATTACH;FMTTYPE=image/jpeg:https://www.ameliaisland.com/wp-content/uploads/Cinema-Conversation-story-song.jpeg
END:VEVENT
BEGIN:VEVENT
DTSTART;TZID=America/New_York:20260919T103000
DTEND;TZID=America/New_York:20260919T113000
DTSTAMP:20260421T060551
CREATED:20240530T003130Z
LAST-MODIFIED:20240530T003130Z
UID:10009455-1789813800-1789817400@www.ameliaisland.com
SUMMARY:StoryTime with Ms. Dearsha
DESCRIPTION:Join us at the store for a magical StoryTime with Ms. Dearsha\, our beloved and very talented Director of Children’s Merchandise and Programming! \nStoryTime is every Saturday at 10:30 am in the store. No RSVP needed. Just come on in! \nDive into fantastical worlds\, meet dynamic characters\, and let your imagination soar! We can’t wait to see you!
URL:https://www.ameliaisland.com/activity/storytime-with-ms-dearsha/2026-09-19/
LOCATION:Story & Song Centre for Arts and Culture\, 1430 Park Avenue\, Fernandina Beach\, FL\, 32034
ATTACH;FMTTYPE=image/jpeg:https://www.ameliaisland.com/wp-content/uploads/Story-Song-family-books-shops.jpeg
END:VEVENT
BEGIN:VEVENT
DTSTART;TZID=America/New_York:20260921T100000
DTEND;TZID=America/New_York:20260921T113000
DTSTAMP:20260421T060551
CREATED:20240611T235616Z
LAST-MODIFIED:20240611T235616Z
UID:10009881-1789984800-1789990200@www.ameliaisland.com
SUMMARY:Welcome Coffee with Women of Nassau
DESCRIPTION:New to Fernandina? Want to get involved in the community? \nAll women\, including new and current members\, are invited to join the Women of Nassau’s monthly coffee get-together at Story & Song. \nThis event is FREE with light refreshments. No RSVP needed. (3rd Monday of every month)
URL:https://www.ameliaisland.com/activity/welcome-coffee-with-women-of-nassau/2026-09-21/
LOCATION:Story & Song Centre for Arts and Culture\, 1430 Park Avenue\, Fernandina Beach\, FL\, 32034
ATTACH;FMTTYPE=image/jpeg:https://www.ameliaisland.com/wp-content/uploads/Women-of-Nassau-Story-Song.jpg
END:VEVENT
BEGIN:VEVENT
DTSTART;TZID=America/New_York:20260926T103000
DTEND;TZID=America/New_York:20260926T113000
DTSTAMP:20260421T060551
CREATED:20240530T003130Z
LAST-MODIFIED:20240530T003130Z
UID:10009456-1790418600-1790422200@www.ameliaisland.com
SUMMARY:StoryTime with Ms. Dearsha
DESCRIPTION:Join us at the store for a magical StoryTime with Ms. Dearsha\, our beloved and very talented Director of Children’s Merchandise and Programming! \nStoryTime is every Saturday at 10:30 am in the store. No RSVP needed. Just come on in! \nDive into fantastical worlds\, meet dynamic characters\, and let your imagination soar! We can’t wait to see you!
URL:https://www.ameliaisland.com/activity/storytime-with-ms-dearsha/2026-09-26/
LOCATION:Story & Song Centre for Arts and Culture\, 1430 Park Avenue\, Fernandina Beach\, FL\, 32034
ATTACH;FMTTYPE=image/jpeg:https://www.ameliaisland.com/wp-content/uploads/Story-Song-family-books-shops.jpeg
END:VEVENT
BEGIN:VEVENT
DTSTART;TZID=America/New_York:20260926T120000
DTEND;TZID=America/New_York:20260926T140000
DTSTAMP:20260421T060551
CREATED:20241017T125209Z
LAST-MODIFIED:20241017T125209Z
UID:10016150-1790424000-1790431200@www.ameliaisland.com
SUMMARY:Island Art Association - Critique Group
DESCRIPTION:An open discussion and critique group meets on the last Saturday of each month at Story & Song Bookstore Bistro from 12:00 noon-2:00 pm. All mediums are welcome. Artists may bring works in progress to receive the group’s support and views. \nStory & Song’s Bistro offers a breakfast and lunch menu.
URL:https://www.ameliaisland.com/activity/island-art-association-critique-group/2026-09-26/
LOCATION:Story & Song Centre for Arts and Culture\, 1430 Park Avenue\, Fernandina Beach\, FL\, 32034
ATTACH;FMTTYPE=image/jpeg:https://www.ameliaisland.com/wp-content/uploads/Story-Song-.jpg
END:VEVENT
BEGIN:VEVENT
DTSTART;TZID=America/New_York:20261001T150000
DTEND;TZID=America/New_York:20261001T160000
DTSTAMP:20260421T060551
CREATED:20240530T214559Z
LAST-MODIFIED:20240530T214559Z
UID:10009684-1790866800-1790870400@www.ameliaisland.com
SUMMARY:Mindfulness & Meditation
DESCRIPTION:Valerie Brandt leads us in a FREE session of Yoga Nidra followed by the soothing sounds of her “singing crystal bowls.” \nIf you haven’t tried it\, but you’ve been feeling the need for calm and peace in your life\, please join us! Yoga Nidra is a meditation and conscious relaxation practice intended to induce total physical\, mental\, and emotional relaxation. \nThere’s enough room upstairs to allow us to maintain safe distances\, whether seated upright or stretched out on the carpet. Bring a mat if you’d like to stretch out on the carpet and a sweater or blanket\, too. \nNo RSVP required. Just come on in and start relaxing.
URL:https://www.ameliaisland.com/activity/mindfulness-meditation-2/2026-10-01/
LOCATION:Story & Song Centre for Arts and Culture\, 1430 Park Avenue\, Fernandina Beach\, FL\, 32034
ATTACH;FMTTYPE=image/jpeg:https://www.ameliaisland.com/wp-content/uploads/Yoga-Story-Song.jpeg
END:VEVENT
BEGIN:VEVENT
DTSTART;TZID=America/New_York:20261001T170000
DTEND;TZID=America/New_York:20261001T183000
DTSTAMP:20260421T060551
CREATED:20241107T132338Z
LAST-MODIFIED:20241107T132338Z
UID:10016238-1790874000-1790879400@www.ameliaisland.com
SUMMARY:Story & Song Book Group
DESCRIPTION:The Story & Song Fiction Book group meets on the 1st Thursday of every month. \nEnjoy Happy Hour prices for wine and craft beer and come enjoy the conversation! \nSee upcoming S&S Book Group selections on our website.
URL:https://www.ameliaisland.com/activity/story-song-book-group-2/2026-10-01/
LOCATION:Story & Song Centre for Arts and Culture\, 1430 Park Avenue\, Fernandina Beach\, FL\, 32034
ATTACH;FMTTYPE=image/jpeg:https://www.ameliaisland.com/wp-content/uploads/SS-Fiction-Book-Group-.jpeg
END:VEVENT
BEGIN:VEVENT
DTSTART;TZID=America/New_York:20261002T150000
DTEND;TZID=America/New_York:20261002T163000
DTSTAMP:20260421T060551
CREATED:20240530T003926Z
LAST-MODIFIED:20260201T153459Z
UID:10009624-1790953200-1790958600@www.ameliaisland.com
SUMMARY:Tea & Tales
DESCRIPTION:Join us for a delightful afternoon tea with captivating readings by actor Ron Kurtz on the FIRST FRIDAY of every month! \nIndulge in a scrumptious selection of sweet and savory treats crafted by the Story & Song bistro\, perfectly paired with enchanting stories.
URL:https://www.ameliaisland.com/activity/tea-tales/2026-10-02/
LOCATION:Story & Song Centre for Arts and Culture\, 1430 Park Avenue\, Fernandina Beach\, FL\, 32034
ATTACH;FMTTYPE=image/jpeg:https://www.ameliaisland.com/wp-content/uploads/Tea-Tales-Flyer-scaled.jpg
END:VEVENT
BEGIN:VEVENT
DTSTART;TZID=America/New_York:20261003T103000
DTEND;TZID=America/New_York:20261003T113000
DTSTAMP:20260421T060551
CREATED:20240530T003130Z
LAST-MODIFIED:20240530T003130Z
UID:10009457-1791023400-1791027000@www.ameliaisland.com
SUMMARY:StoryTime with Ms. Dearsha
DESCRIPTION:Join us at the store for a magical StoryTime with Ms. Dearsha\, our beloved and very talented Director of Children’s Merchandise and Programming! \nStoryTime is every Saturday at 10:30 am in the store. No RSVP needed. Just come on in! \nDive into fantastical worlds\, meet dynamic characters\, and let your imagination soar! We can’t wait to see you!
URL:https://www.ameliaisland.com/activity/storytime-with-ms-dearsha/2026-10-03/
LOCATION:Story & Song Centre for Arts and Culture\, 1430 Park Avenue\, Fernandina Beach\, FL\, 32034
ATTACH;FMTTYPE=image/jpeg:https://www.ameliaisland.com/wp-content/uploads/Story-Song-family-books-shops.jpeg
END:VEVENT
BEGIN:VEVENT
DTSTART;TZID=America/New_York:20261010T103000
DTEND;TZID=America/New_York:20261010T113000
DTSTAMP:20260421T060551
CREATED:20240530T003130Z
LAST-MODIFIED:20240530T003130Z
UID:10009458-1791628200-1791631800@www.ameliaisland.com
SUMMARY:StoryTime with Ms. Dearsha
DESCRIPTION:Join us at the store for a magical StoryTime with Ms. Dearsha\, our beloved and very talented Director of Children’s Merchandise and Programming! \nStoryTime is every Saturday at 10:30 am in the store. No RSVP needed. Just come on in! \nDive into fantastical worlds\, meet dynamic characters\, and let your imagination soar! We can’t wait to see you!
URL:https://www.ameliaisland.com/activity/storytime-with-ms-dearsha/2026-10-10/
LOCATION:Story & Song Centre for Arts and Culture\, 1430 Park Avenue\, Fernandina Beach\, FL\, 32034
ATTACH;FMTTYPE=image/jpeg:https://www.ameliaisland.com/wp-content/uploads/Story-Song-family-books-shops.jpeg
END:VEVENT
BEGIN:VEVENT
DTSTART;TZID=America/New_York:20261017T103000
DTEND;TZID=America/New_York:20261017T113000
DTSTAMP:20260421T060551
CREATED:20240530T003130Z
LAST-MODIFIED:20240530T003130Z
UID:10009459-1792233000-1792236600@www.ameliaisland.com
SUMMARY:StoryTime with Ms. Dearsha
DESCRIPTION:Join us at the store for a magical StoryTime with Ms. Dearsha\, our beloved and very talented Director of Children’s Merchandise and Programming! \nStoryTime is every Saturday at 10:30 am in the store. No RSVP needed. Just come on in! \nDive into fantastical worlds\, meet dynamic characters\, and let your imagination soar! We can’t wait to see you!
URL:https://www.ameliaisland.com/activity/storytime-with-ms-dearsha/2026-10-17/
LOCATION:Story & Song Centre for Arts and Culture\, 1430 Park Avenue\, Fernandina Beach\, FL\, 32034
ATTACH;FMTTYPE=image/jpeg:https://www.ameliaisland.com/wp-content/uploads/Story-Song-family-books-shops.jpeg
END:VEVENT
BEGIN:VEVENT
DTSTART;TZID=America/New_York:20261019T100000
DTEND;TZID=America/New_York:20261019T113000
DTSTAMP:20260421T060551
CREATED:20240611T235616Z
LAST-MODIFIED:20240611T235616Z
UID:10009882-1792404000-1792409400@www.ameliaisland.com
SUMMARY:Welcome Coffee with Women of Nassau
DESCRIPTION:New to Fernandina? Want to get involved in the community? \nAll women\, including new and current members\, are invited to join the Women of Nassau’s monthly coffee get-together at Story & Song. \nThis event is FREE with light refreshments. No RSVP needed. (3rd Monday of every month)
URL:https://www.ameliaisland.com/activity/welcome-coffee-with-women-of-nassau/2026-10-19/
LOCATION:Story & Song Centre for Arts and Culture\, 1430 Park Avenue\, Fernandina Beach\, FL\, 32034
ATTACH;FMTTYPE=image/jpeg:https://www.ameliaisland.com/wp-content/uploads/Women-of-Nassau-Story-Song.jpg
END:VEVENT
BEGIN:VEVENT
DTSTART;TZID=America/New_York:20261020T153000
DTEND;TZID=America/New_York:20261020T163000
DTSTAMP:20260421T060551
CREATED:20240605T200210Z
LAST-MODIFIED:20240605T200210Z
UID:10009812-1792510200-1792513800@www.ameliaisland.com
SUMMARY:Poetry Canteen
DESCRIPTION:Join us the 3rd Tuesday of each month for Amelia Island’s Poet Laureate Nola Perez and friends as they gather to share their love of poetry\, reading their own works or favorites of others. There will be a five-minute “open mic” format to read your work! \nSee you there!
URL:https://www.ameliaisland.com/activity/poetry-canteen/2026-10-20/
LOCATION:Story & Song Centre for Arts and Culture\, 1430 Park Avenue\, Fernandina Beach\, FL\, 32034
ATTACH;FMTTYPE=image/jpeg:https://www.ameliaisland.com/wp-content/uploads/Story-Song-Poetry-Canteen.jpg
END:VEVENT
BEGIN:VEVENT
DTSTART;TZID=America/New_York:20261021T170000
DTEND;TZID=America/New_York:20261021T190000
DTSTAMP:20260421T060551
CREATED:20240611T235936Z
LAST-MODIFIED:20240611T235936Z
UID:10009942-1792602000-1792609200@www.ameliaisland.com
SUMMARY:Cinema & Conversation
DESCRIPTION:On the 3rd Wednesday of the month\, join us to watch a film chosen for its meaningful theme\, and stay for a facilitated discussion after. \nFree and open to all.
URL:https://www.ameliaisland.com/activity/cinema-conversation/2026-10-21/
LOCATION:Story & Song Centre for Arts and Culture\, 1430 Park Avenue\, Fernandina Beach\, FL\, 32034
ATTACH;FMTTYPE=image/jpeg:https://www.ameliaisland.com/wp-content/uploads/Cinema-Conversation-story-song.jpeg
END:VEVENT
BEGIN:VEVENT
DTSTART;TZID=America/New_York:20261024T103000
DTEND;TZID=America/New_York:20261024T113000
DTSTAMP:20260421T060551
CREATED:20240530T003130Z
LAST-MODIFIED:20240530T003130Z
UID:10009460-1792837800-1792841400@www.ameliaisland.com
SUMMARY:StoryTime with Ms. Dearsha
DESCRIPTION:Join us at the store for a magical StoryTime with Ms. Dearsha\, our beloved and very talented Director of Children’s Merchandise and Programming! \nStoryTime is every Saturday at 10:30 am in the store. No RSVP needed. Just come on in! \nDive into fantastical worlds\, meet dynamic characters\, and let your imagination soar! We can’t wait to see you!
URL:https://www.ameliaisland.com/activity/storytime-with-ms-dearsha/2026-10-24/
LOCATION:Story & Song Centre for Arts and Culture\, 1430 Park Avenue\, Fernandina Beach\, FL\, 32034
ATTACH;FMTTYPE=image/jpeg:https://www.ameliaisland.com/wp-content/uploads/Story-Song-family-books-shops.jpeg
END:VEVENT
BEGIN:VEVENT
DTSTART;TZID=America/New_York:20261031T103000
DTEND;TZID=America/New_York:20261031T113000
DTSTAMP:20260421T060551
CREATED:20240530T003130Z
LAST-MODIFIED:20240530T003130Z
UID:10009461-1793442600-1793446200@www.ameliaisland.com
SUMMARY:StoryTime with Ms. Dearsha
DESCRIPTION:Join us at the store for a magical StoryTime with Ms. Dearsha\, our beloved and very talented Director of Children’s Merchandise and Programming! \nStoryTime is every Saturday at 10:30 am in the store. No RSVP needed. Just come on in! \nDive into fantastical worlds\, meet dynamic characters\, and let your imagination soar! We can’t wait to see you!
URL:https://www.ameliaisland.com/activity/storytime-with-ms-dearsha/2026-10-31/
LOCATION:Story & Song Centre for Arts and Culture\, 1430 Park Avenue\, Fernandina Beach\, FL\, 32034
ATTACH;FMTTYPE=image/jpeg:https://www.ameliaisland.com/wp-content/uploads/Story-Song-family-books-shops.jpeg
END:VEVENT
BEGIN:VEVENT
DTSTART;TZID=America/New_York:20261031T120000
DTEND;TZID=America/New_York:20261031T140000
DTSTAMP:20260421T060551
CREATED:20241017T125209Z
LAST-MODIFIED:20241017T125209Z
UID:10016151-1793448000-1793455200@www.ameliaisland.com
SUMMARY:Island Art Association - Critique Group
DESCRIPTION:An open discussion and critique group meets on the last Saturday of each month at Story & Song Bookstore Bistro from 12:00 noon-2:00 pm. All mediums are welcome. Artists may bring works in progress to receive the group’s support and views. \nStory & Song’s Bistro offers a breakfast and lunch menu.
URL:https://www.ameliaisland.com/activity/island-art-association-critique-group/2026-10-31/
LOCATION:Story & Song Centre for Arts and Culture\, 1430 Park Avenue\, Fernandina Beach\, FL\, 32034
ATTACH;FMTTYPE=image/jpeg:https://www.ameliaisland.com/wp-content/uploads/Story-Song-.jpg
END:VEVENT
BEGIN:VEVENT
DTSTART;TZID=America/New_York:20261105T150000
DTEND;TZID=America/New_York:20261105T160000
DTSTAMP:20260421T060551
CREATED:20240530T214559Z
LAST-MODIFIED:20240530T214559Z
UID:10009685-1793890800-1793894400@www.ameliaisland.com
SUMMARY:Mindfulness & Meditation
DESCRIPTION:Valerie Brandt leads us in a FREE session of Yoga Nidra followed by the soothing sounds of her “singing crystal bowls.” \nIf you haven’t tried it\, but you’ve been feeling the need for calm and peace in your life\, please join us! Yoga Nidra is a meditation and conscious relaxation practice intended to induce total physical\, mental\, and emotional relaxation. \nThere’s enough room upstairs to allow us to maintain safe distances\, whether seated upright or stretched out on the carpet. Bring a mat if you’d like to stretch out on the carpet and a sweater or blanket\, too. \nNo RSVP required. Just come on in and start relaxing.
URL:https://www.ameliaisland.com/activity/mindfulness-meditation-2/2026-11-05/
LOCATION:Story & Song Centre for Arts and Culture\, 1430 Park Avenue\, Fernandina Beach\, FL\, 32034
ATTACH;FMTTYPE=image/jpeg:https://www.ameliaisland.com/wp-content/uploads/Yoga-Story-Song.jpeg
END:VEVENT
BEGIN:VEVENT
DTSTART;TZID=America/New_York:20261105T170000
DTEND;TZID=America/New_York:20261105T183000
DTSTAMP:20260421T060551
CREATED:20241107T132338Z
LAST-MODIFIED:20241107T132338Z
UID:10016239-1793898000-1793903400@www.ameliaisland.com
SUMMARY:Story & Song Book Group
DESCRIPTION:The Story & Song Fiction Book group meets on the 1st Thursday of every month. \nEnjoy Happy Hour prices for wine and craft beer and come enjoy the conversation! \nSee upcoming S&S Book Group selections on our website.
URL:https://www.ameliaisland.com/activity/story-song-book-group-2/2026-11-05/
LOCATION:Story & Song Centre for Arts and Culture\, 1430 Park Avenue\, Fernandina Beach\, FL\, 32034
ATTACH;FMTTYPE=image/jpeg:https://www.ameliaisland.com/wp-content/uploads/SS-Fiction-Book-Group-.jpeg
END:VEVENT
BEGIN:VEVENT
DTSTART;TZID=America/New_York:20261106T150000
DTEND;TZID=America/New_York:20261106T163000
DTSTAMP:20260421T060551
CREATED:20240530T003926Z
LAST-MODIFIED:20260201T153459Z
UID:10009625-1793977200-1793982600@www.ameliaisland.com
SUMMARY:Tea & Tales
DESCRIPTION:Join us for a delightful afternoon tea with captivating readings by actor Ron Kurtz on the FIRST FRIDAY of every month! \nIndulge in a scrumptious selection of sweet and savory treats crafted by the Story & Song bistro\, perfectly paired with enchanting stories.
URL:https://www.ameliaisland.com/activity/tea-tales/2026-11-06/
LOCATION:Story & Song Centre for Arts and Culture\, 1430 Park Avenue\, Fernandina Beach\, FL\, 32034
ATTACH;FMTTYPE=image/jpeg:https://www.ameliaisland.com/wp-content/uploads/Tea-Tales-Flyer-scaled.jpg
END:VEVENT
BEGIN:VEVENT
DTSTART;TZID=America/New_York:20261107T103000
DTEND;TZID=America/New_York:20261107T113000
DTSTAMP:20260421T060551
CREATED:20240530T003130Z
LAST-MODIFIED:20240530T003130Z
UID:10009462-1794047400-1794051000@www.ameliaisland.com
SUMMARY:StoryTime with Ms. Dearsha
DESCRIPTION:Join us at the store for a magical StoryTime with Ms. Dearsha\, our beloved and very talented Director of Children’s Merchandise and Programming! \nStoryTime is every Saturday at 10:30 am in the store. No RSVP needed. Just come on in! \nDive into fantastical worlds\, meet dynamic characters\, and let your imagination soar! We can’t wait to see you!
URL:https://www.ameliaisland.com/activity/storytime-with-ms-dearsha/2026-11-07/
LOCATION:Story & Song Centre for Arts and Culture\, 1430 Park Avenue\, Fernandina Beach\, FL\, 32034
ATTACH;FMTTYPE=image/jpeg:https://www.ameliaisland.com/wp-content/uploads/Story-Song-family-books-shops.jpeg
END:VEVENT
BEGIN:VEVENT
DTSTART;TZID=America/New_York:20261114T103000
DTEND;TZID=America/New_York:20261114T113000
DTSTAMP:20260421T060551
CREATED:20240530T003130Z
LAST-MODIFIED:20240530T003130Z
UID:10009463-1794652200-1794655800@www.ameliaisland.com
SUMMARY:StoryTime with Ms. Dearsha
DESCRIPTION:Join us at the store for a magical StoryTime with Ms. Dearsha\, our beloved and very talented Director of Children’s Merchandise and Programming! \nStoryTime is every Saturday at 10:30 am in the store. No RSVP needed. Just come on in! \nDive into fantastical worlds\, meet dynamic characters\, and let your imagination soar! We can’t wait to see you!
URL:https://www.ameliaisland.com/activity/storytime-with-ms-dearsha/2026-11-14/
LOCATION:Story & Song Centre for Arts and Culture\, 1430 Park Avenue\, Fernandina Beach\, FL\, 32034
ATTACH;FMTTYPE=image/jpeg:https://www.ameliaisland.com/wp-content/uploads/Story-Song-family-books-shops.jpeg
END:VEVENT
END:VCALENDAR