BEGIN:VCALENDAR
VERSION:2.0
PRODID:-//Amelia Island - ECPv6.8.0//NONSGML v1.0//EN
CALSCALE:GREGORIAN
METHOD:PUBLISH
X-WR-CALNAME:Amelia Island
X-ORIGINAL-URL:https://www.ameliaisland.com
X-WR-CALDESC:Events for Amelia Island
REFRESH-INTERVAL;VALUE=DURATION:PT1H
X-Robots-Tag:noindex
X-PUBLISHED-TTL:PT1H
BEGIN:VTIMEZONE
TZID:America/New_York
BEGIN:DAYLIGHT
TZOFFSETFROM:-0500
TZOFFSETTO:-0400
TZNAME:EDT
DTSTART:20250309T070000
END:DAYLIGHT
BEGIN:STANDARD
TZOFFSETFROM:-0400
TZOFFSETTO:-0500
TZNAME:EST
DTSTART:20251102T060000
END:STANDARD
END:VTIMEZONE
BEGIN:VEVENT
DTSTART;TZID=America/New_York:20250318T100000
DTEND;TZID=America/New_York:20250318T170000
DTSTAMP:20260425T000327
CREATED:20250224T192735Z
LAST-MODIFIED:20250224T192735Z
UID:10018843-1742292000-1742317200@www.ameliaisland.com
SUMMARY:"Lovely Looks at Nature" solo photography show
DESCRIPTION:Donna Lovely’s nature photos from our region and beyond are on display at the Story & Song Center for Arts & Culture now through April 30.
URL:https://www.ameliaisland.com/activity/lovely-looks-at-nature-solo-photography-show/2025-03-18/
LOCATION:Story & Song Centre for Arts and Culture\, 1430 Park Avenue\, Fernandina Beach\, FL\, 32034
ATTACH;FMTTYPE=image/jpeg:https://www.ameliaisland.com/wp-content/uploads/Dancing-Waves_5294©DonnaLovelyPhotos.com-wmk-.jpg
END:VEVENT
BEGIN:VEVENT
DTSTART;TZID=America/New_York:20250317T100000
DTEND;TZID=America/New_York:20250317T170000
DTSTAMP:20260425T000327
CREATED:20250224T192735Z
LAST-MODIFIED:20250224T192735Z
UID:10018842-1742205600-1742230800@www.ameliaisland.com
SUMMARY:"Lovely Looks at Nature" solo photography show
DESCRIPTION:Donna Lovely’s nature photos from our region and beyond are on display at the Story & Song Center for Arts & Culture now through April 30.
URL:https://www.ameliaisland.com/activity/lovely-looks-at-nature-solo-photography-show/2025-03-17/
LOCATION:Story & Song Centre for Arts and Culture\, 1430 Park Avenue\, Fernandina Beach\, FL\, 32034
ATTACH;FMTTYPE=image/jpeg:https://www.ameliaisland.com/wp-content/uploads/Dancing-Waves_5294©DonnaLovelyPhotos.com-wmk-.jpg
END:VEVENT
BEGIN:VEVENT
DTSTART;TZID=America/New_York:20250317T100000
DTEND;TZID=America/New_York:20250317T113000
DTSTAMP:20260425T000327
CREATED:20240611T235616Z
LAST-MODIFIED:20240611T235616Z
UID:10009863-1742205600-1742211000@www.ameliaisland.com
SUMMARY:Welcome Coffee with Women of Nassau
DESCRIPTION:New to Fernandina? Want to get involved in the community? \nAll women\, including new and current members\, are invited to join the Women of Nassau’s monthly coffee get-together at Story & Song. \nThis event is FREE with light refreshments. No RSVP needed. (3rd Monday of every month)
URL:https://www.ameliaisland.com/activity/welcome-coffee-with-women-of-nassau/2025-03-17/
LOCATION:Story & Song Centre for Arts and Culture\, 1430 Park Avenue\, Fernandina Beach\, FL\, 32034
ATTACH;FMTTYPE=image/jpeg:https://www.ameliaisland.com/wp-content/uploads/Women-of-Nassau-Story-Song.jpg
END:VEVENT
BEGIN:VEVENT
DTSTART;TZID=America/New_York:20250316T150000
DTEND;TZID=America/New_York:20250316T163000
DTSTAMP:20260425T000327
CREATED:20240910T200506Z
LAST-MODIFIED:20240910T200506Z
UID:10011484-1742137200-1742142600@www.ameliaisland.com
SUMMARY:Amelia Island Opera Concert Series: Broadway Babies II
DESCRIPTION:Back by popular demand! Join Amelia Island Opera for an encore performance of Broadway Babies\, featuring the sensational voice of GRAMMY Award-winning vocalist Gabriel Preisser\, alongside “irresistible” baritone Nathan Stark and Amelia Island Opera co-founders and local favorites John Tibbets and Victoria Isernia. Accompanied by the talented pianist Michael Giuliani\, you’ll enjoy the unhinged antics of three handsome baritones and one knockout mezzo in a one-of-a-kind concert filled with laughter\, charm\, and extraordinary vocal performances! \nWhether you’re a Broadway aficionado or just looking for a night of exceptional entertainment\, this performance promises to be an unforgettable experience. \nWine and beer will be available for purchase. Cash only. You will receive an email confirmation from Story & Song after you purchase your tickets. You do not need to print this confirmation\, but can simply give your name at the door.
URL:https://www.ameliaisland.com/activity/amelia-island-opera-concert-series-broadway-babies-ii/2025-03-16/
LOCATION:Story & Song Centre for Arts and Culture\, 1430 Park Avenue\, Fernandina Beach\, FL\, 32034
ATTACH;FMTTYPE=image/jpeg:https://www.ameliaisland.com/wp-content/uploads/Amelia-island-Opera-Broadway-Babies.jpeg
END:VEVENT
BEGIN:VEVENT
DTSTART;TZID=America/New_York:20250316T100000
DTEND;TZID=America/New_York:20250316T170000
DTSTAMP:20260425T000327
CREATED:20250224T192735Z
LAST-MODIFIED:20250224T192735Z
UID:10018841-1742119200-1742144400@www.ameliaisland.com
SUMMARY:"Lovely Looks at Nature" solo photography show
DESCRIPTION:Donna Lovely’s nature photos from our region and beyond are on display at the Story & Song Center for Arts & Culture now through April 30.
URL:https://www.ameliaisland.com/activity/lovely-looks-at-nature-solo-photography-show/2025-03-16/
LOCATION:Story & Song Centre for Arts and Culture\, 1430 Park Avenue\, Fernandina Beach\, FL\, 32034
ATTACH;FMTTYPE=image/jpeg:https://www.ameliaisland.com/wp-content/uploads/Dancing-Waves_5294©DonnaLovelyPhotos.com-wmk-.jpg
END:VEVENT
BEGIN:VEVENT
DTSTART;TZID=America/New_York:20250315T170000
DTEND;TZID=America/New_York:20250315T183000
DTSTAMP:20260425T000327
CREATED:20240910T200506Z
LAST-MODIFIED:20240910T200506Z
UID:10011483-1742058000-1742063400@www.ameliaisland.com
SUMMARY:Amelia Island Opera Concert Series: Broadway Babies II
DESCRIPTION:Back by popular demand! Join Amelia Island Opera for an encore performance of Broadway Babies\, featuring the sensational voice of GRAMMY Award-winning vocalist Gabriel Preisser\, alongside “irresistible” baritone Nathan Stark and Amelia Island Opera co-founders and local favorites John Tibbets and Victoria Isernia. Accompanied by the talented pianist Michael Giuliani\, you’ll enjoy the unhinged antics of three handsome baritones and one knockout mezzo in a one-of-a-kind concert filled with laughter\, charm\, and extraordinary vocal performances! \nWhether you’re a Broadway aficionado or just looking for a night of exceptional entertainment\, this performance promises to be an unforgettable experience. \nWine and beer will be available for purchase. Cash only. You will receive an email confirmation from Story & Song after you purchase your tickets. You do not need to print this confirmation\, but can simply give your name at the door.
URL:https://www.ameliaisland.com/activity/amelia-island-opera-concert-series-broadway-babies-ii/2025-03-15/
LOCATION:Story & Song Centre for Arts and Culture\, 1430 Park Avenue\, Fernandina Beach\, FL\, 32034
ATTACH;FMTTYPE=image/jpeg:https://www.ameliaisland.com/wp-content/uploads/Amelia-island-Opera-Broadway-Babies.jpeg
END:VEVENT
BEGIN:VEVENT
DTSTART;TZID=America/New_York:20250315T103000
DTEND;TZID=America/New_York:20250315T113000
DTSTAMP:20260425T000327
CREATED:20240530T003130Z
LAST-MODIFIED:20240530T003130Z
UID:10009376-1742034600-1742038200@www.ameliaisland.com
SUMMARY:StoryTime with Ms. Dearsha
DESCRIPTION:Join us at the store for a magical StoryTime with Ms. Dearsha\, our beloved and very talented Director of Children’s Merchandise and Programming! \nStoryTime is every Saturday at 10:30 am in the store. No RSVP needed. Just come on in! \nDive into fantastical worlds\, meet dynamic characters\, and let your imagination soar! We can’t wait to see you!
URL:https://www.ameliaisland.com/activity/storytime-with-ms-dearsha/2025-03-15/
LOCATION:Story & Song Centre for Arts and Culture\, 1430 Park Avenue\, Fernandina Beach\, FL\, 32034
ATTACH;FMTTYPE=image/jpeg:https://www.ameliaisland.com/wp-content/uploads/Story-Song-family-books-shops.jpeg
END:VEVENT
BEGIN:VEVENT
DTSTART;TZID=America/New_York:20250315T100000
DTEND;TZID=America/New_York:20250315T170000
DTSTAMP:20260425T000327
CREATED:20250224T192735Z
LAST-MODIFIED:20250224T192735Z
UID:10018840-1742032800-1742058000@www.ameliaisland.com
SUMMARY:"Lovely Looks at Nature" solo photography show
DESCRIPTION:Donna Lovely’s nature photos from our region and beyond are on display at the Story & Song Center for Arts & Culture now through April 30.
URL:https://www.ameliaisland.com/activity/lovely-looks-at-nature-solo-photography-show/2025-03-15/
LOCATION:Story & Song Centre for Arts and Culture\, 1430 Park Avenue\, Fernandina Beach\, FL\, 32034
ATTACH;FMTTYPE=image/jpeg:https://www.ameliaisland.com/wp-content/uploads/Dancing-Waves_5294©DonnaLovelyPhotos.com-wmk-.jpg
END:VEVENT
BEGIN:VEVENT
DTSTART;TZID=America/New_York:20250314T100000
DTEND;TZID=America/New_York:20250314T170000
DTSTAMP:20260425T000327
CREATED:20250224T192735Z
LAST-MODIFIED:20250224T192735Z
UID:10018839-1741946400-1741971600@www.ameliaisland.com
SUMMARY:"Lovely Looks at Nature" solo photography show
DESCRIPTION:Donna Lovely’s nature photos from our region and beyond are on display at the Story & Song Center for Arts & Culture now through April 30.
URL:https://www.ameliaisland.com/activity/lovely-looks-at-nature-solo-photography-show/2025-03-14/
LOCATION:Story & Song Centre for Arts and Culture\, 1430 Park Avenue\, Fernandina Beach\, FL\, 32034
ATTACH;FMTTYPE=image/jpeg:https://www.ameliaisland.com/wp-content/uploads/Dancing-Waves_5294©DonnaLovelyPhotos.com-wmk-.jpg
END:VEVENT
BEGIN:VEVENT
DTSTART;TZID=America/New_York:20250313T100000
DTEND;TZID=America/New_York:20250313T170000
DTSTAMP:20260425T000327
CREATED:20250224T192735Z
LAST-MODIFIED:20250224T192735Z
UID:10018838-1741860000-1741885200@www.ameliaisland.com
SUMMARY:"Lovely Looks at Nature" solo photography show
DESCRIPTION:Donna Lovely’s nature photos from our region and beyond are on display at the Story & Song Center for Arts & Culture now through April 30.
URL:https://www.ameliaisland.com/activity/lovely-looks-at-nature-solo-photography-show/2025-03-13/
LOCATION:Story & Song Centre for Arts and Culture\, 1430 Park Avenue\, Fernandina Beach\, FL\, 32034
ATTACH;FMTTYPE=image/jpeg:https://www.ameliaisland.com/wp-content/uploads/Dancing-Waves_5294©DonnaLovelyPhotos.com-wmk-.jpg
END:VEVENT
BEGIN:VEVENT
DTSTART;TZID=America/New_York:20250312T100000
DTEND;TZID=America/New_York:20250312T170000
DTSTAMP:20260425T000327
CREATED:20250224T192735Z
LAST-MODIFIED:20250224T192735Z
UID:10018837-1741773600-1741798800@www.ameliaisland.com
SUMMARY:"Lovely Looks at Nature" solo photography show
DESCRIPTION:Donna Lovely’s nature photos from our region and beyond are on display at the Story & Song Center for Arts & Culture now through April 30.
URL:https://www.ameliaisland.com/activity/lovely-looks-at-nature-solo-photography-show/2025-03-12/
LOCATION:Story & Song Centre for Arts and Culture\, 1430 Park Avenue\, Fernandina Beach\, FL\, 32034
ATTACH;FMTTYPE=image/jpeg:https://www.ameliaisland.com/wp-content/uploads/Dancing-Waves_5294©DonnaLovelyPhotos.com-wmk-.jpg
END:VEVENT
BEGIN:VEVENT
DTSTART;TZID=America/New_York:20250311T153000
DTEND;TZID=America/New_York:20250311T163000
DTSTAMP:20260425T000327
CREATED:20250212T011928Z
LAST-MODIFIED:20250212T012155Z
UID:10018770-1741707000-1741710600@www.ameliaisland.com
SUMMARY:Tuesdays with TED
DESCRIPTION:On the 2nd Tuesday of the month\, enjoy great community conversation facilitated by a local personality over a topic of interest following a brief TED talk.
URL:https://www.ameliaisland.com/activity/tuesdays-with-ted/2025-03-11/
LOCATION:Story & Song Centre for Arts and Culture\, 1430 Park Avenue\, Fernandina Beach\, FL\, 32034
ATTACH;FMTTYPE=image/jpeg:https://www.ameliaisland.com/wp-content/uploads/TED-Talks.jpg
END:VEVENT
BEGIN:VEVENT
DTSTART;TZID=America/New_York:20250311T100000
DTEND;TZID=America/New_York:20250311T170000
DTSTAMP:20260425T000327
CREATED:20250224T192735Z
LAST-MODIFIED:20250224T192735Z
UID:10018836-1741687200-1741712400@www.ameliaisland.com
SUMMARY:"Lovely Looks at Nature" solo photography show
DESCRIPTION:Donna Lovely’s nature photos from our region and beyond are on display at the Story & Song Center for Arts & Culture now through April 30.
URL:https://www.ameliaisland.com/activity/lovely-looks-at-nature-solo-photography-show/2025-03-11/
LOCATION:Story & Song Centre for Arts and Culture\, 1430 Park Avenue\, Fernandina Beach\, FL\, 32034
ATTACH;FMTTYPE=image/jpeg:https://www.ameliaisland.com/wp-content/uploads/Dancing-Waves_5294©DonnaLovelyPhotos.com-wmk-.jpg
END:VEVENT
BEGIN:VEVENT
DTSTART;TZID=America/New_York:20250310T110000
DTEND;TZID=America/New_York:20250310T120000
DTSTAMP:20260425T000327
CREATED:20250212T011500Z
LAST-MODIFIED:20250326T201250Z
UID:10018761-1741604400-1741608000@www.ameliaisland.com
SUMMARY:NAMI Neighborhood Book Club
DESCRIPTION:Neighborhood book club is held the 2nd Monday every month \nMarch 10: “The Handmaid’s Tale” by Margaret Atwood. Facilitated by Laura Kujawski. \nApril 14: “The Fury” by Alex Michaelides. Facilitated by Evelyn McDonald. \nMay 12: “The Wind Knows My Name” by Isabel Allende. Facilitated by Shelly Hirshberg. \nJune 9: Facilitated by Lynn White. Book TBD; candidate: “Quiet” by Susan Cain. \nJuly – no meeting \nAugust 11: “The Good Father” by Noah Hawley. Facilitated by Eileen Herman. \nSeptember 8: “While You Were Out” by Meg Kissinger. Facilitated by Robin Pullen. \nOctober 13: Facilitated by Cathy Gladden. Book TBD. \nNovember 10: Facilitated by Cathy DeCou. Book TBD. \nAll selections are available at Story & Song or available for on-line purchase by selecting the book link.
URL:https://www.ameliaisland.com/activity/nami-neighborhood-book-club/2025-03-10/
LOCATION:Story & Song Centre for Arts and Culture\, 1430 Park Avenue\, Fernandina Beach\, FL\, 32034
ATTACH;FMTTYPE=image/jpeg:https://www.ameliaisland.com/wp-content/uploads/Story-Song-.jpg
END:VEVENT
BEGIN:VEVENT
DTSTART;TZID=America/New_York:20250310T100000
DTEND;TZID=America/New_York:20250310T170000
DTSTAMP:20260425T000327
CREATED:20250224T192735Z
LAST-MODIFIED:20250224T192735Z
UID:10018835-1741600800-1741626000@www.ameliaisland.com
SUMMARY:"Lovely Looks at Nature" solo photography show
DESCRIPTION:Donna Lovely’s nature photos from our region and beyond are on display at the Story & Song Center for Arts & Culture now through April 30.
URL:https://www.ameliaisland.com/activity/lovely-looks-at-nature-solo-photography-show/2025-03-10/
LOCATION:Story & Song Centre for Arts and Culture\, 1430 Park Avenue\, Fernandina Beach\, FL\, 32034
ATTACH;FMTTYPE=image/jpeg:https://www.ameliaisland.com/wp-content/uploads/Dancing-Waves_5294©DonnaLovelyPhotos.com-wmk-.jpg
END:VEVENT
BEGIN:VEVENT
DTSTART;TZID=America/New_York:20250309T100000
DTEND;TZID=America/New_York:20250309T170000
DTSTAMP:20260425T000327
CREATED:20250224T192735Z
LAST-MODIFIED:20250224T192735Z
UID:10018834-1741514400-1741539600@www.ameliaisland.com
SUMMARY:"Lovely Looks at Nature" solo photography show
DESCRIPTION:Donna Lovely’s nature photos from our region and beyond are on display at the Story & Song Center for Arts & Culture now through April 30.
URL:https://www.ameliaisland.com/activity/lovely-looks-at-nature-solo-photography-show/2025-03-09/
LOCATION:Story & Song Centre for Arts and Culture\, 1430 Park Avenue\, Fernandina Beach\, FL\, 32034
ATTACH;FMTTYPE=image/jpeg:https://www.ameliaisland.com/wp-content/uploads/Dancing-Waves_5294©DonnaLovelyPhotos.com-wmk-.jpg
END:VEVENT
BEGIN:VEVENT
DTSTART;TZID=America/New_York:20250308T170000
DTEND;TZID=America/New_York:20250308T190000
DTSTAMP:20260425T000327
CREATED:20250212T005200Z
LAST-MODIFIED:20250212T005200Z
UID:10018760-1741453200-1741460400@www.ameliaisland.com
SUMMARY:“Gypsy Jazz”
DESCRIPTION:World-renowned violinist Tim Kliphuis and masterful guitarist Jimmy Grant team up for an electrifying evening\, bringing the legendary sounds of Django Reinhardt and Stéphane Grappelli to life! \nPrepare to be transported by dazzling improvisations\, fiery rhythms\, and the timeless magic of gypsy jazz.
URL:https://www.ameliaisland.com/activity/gypsy-jazz/
LOCATION:Story & Song Centre for Arts and Culture\, 1430 Park Avenue\, Fernandina Beach\, FL\, 32034
ATTACH;FMTTYPE=image/jpeg:https://www.ameliaisland.com/wp-content/uploads/Gypsy-Jazz-v1.jpg
END:VEVENT
BEGIN:VEVENT
DTSTART;TZID=America/New_York:20250308T103000
DTEND;TZID=America/New_York:20250308T113000
DTSTAMP:20260425T000327
CREATED:20240530T003130Z
LAST-MODIFIED:20240530T003130Z
UID:10009375-1741429800-1741433400@www.ameliaisland.com
SUMMARY:StoryTime with Ms. Dearsha
DESCRIPTION:Join us at the store for a magical StoryTime with Ms. Dearsha\, our beloved and very talented Director of Children’s Merchandise and Programming! \nStoryTime is every Saturday at 10:30 am in the store. No RSVP needed. Just come on in! \nDive into fantastical worlds\, meet dynamic characters\, and let your imagination soar! We can’t wait to see you!
URL:https://www.ameliaisland.com/activity/storytime-with-ms-dearsha/2025-03-08/
LOCATION:Story & Song Centre for Arts and Culture\, 1430 Park Avenue\, Fernandina Beach\, FL\, 32034
ATTACH;FMTTYPE=image/jpeg:https://www.ameliaisland.com/wp-content/uploads/Story-Song-family-books-shops.jpeg
END:VEVENT
BEGIN:VEVENT
DTSTART;TZID=America/New_York:20250308T100000
DTEND;TZID=America/New_York:20250308T170000
DTSTAMP:20260425T000327
CREATED:20250224T192735Z
LAST-MODIFIED:20250224T192735Z
UID:10018833-1741428000-1741453200@www.ameliaisland.com
SUMMARY:"Lovely Looks at Nature" solo photography show
DESCRIPTION:Donna Lovely’s nature photos from our region and beyond are on display at the Story & Song Center for Arts & Culture now through April 30.
URL:https://www.ameliaisland.com/activity/lovely-looks-at-nature-solo-photography-show/2025-03-08/
LOCATION:Story & Song Centre for Arts and Culture\, 1430 Park Avenue\, Fernandina Beach\, FL\, 32034
ATTACH;FMTTYPE=image/jpeg:https://www.ameliaisland.com/wp-content/uploads/Dancing-Waves_5294©DonnaLovelyPhotos.com-wmk-.jpg
END:VEVENT
BEGIN:VEVENT
DTSTART;TZID=America/New_York:20250307T150000
DTEND;TZID=America/New_York:20250307T163000
DTSTAMP:20260425T000327
CREATED:20240530T003926Z
LAST-MODIFIED:20260201T153459Z
UID:10009605-1741359600-1741365000@www.ameliaisland.com
SUMMARY:Tea & Tales
DESCRIPTION:Join us for a delightful afternoon tea with captivating readings by actor Ron Kurtz on the FIRST FRIDAY of every month! \nIndulge in a scrumptious selection of sweet and savory treats crafted by the Story & Song bistro\, perfectly paired with enchanting stories.
URL:https://www.ameliaisland.com/activity/tea-tales/2025-03-07/
LOCATION:Story & Song Centre for Arts and Culture\, 1430 Park Avenue\, Fernandina Beach\, FL\, 32034
ATTACH;FMTTYPE=image/jpeg:https://www.ameliaisland.com/wp-content/uploads/Tea-Tales-Flyer-scaled.jpg
END:VEVENT
BEGIN:VEVENT
DTSTART;TZID=America/New_York:20250307T100000
DTEND;TZID=America/New_York:20250307T170000
DTSTAMP:20260425T000327
CREATED:20250224T192735Z
LAST-MODIFIED:20250224T192735Z
UID:10018832-1741341600-1741366800@www.ameliaisland.com
SUMMARY:"Lovely Looks at Nature" solo photography show
DESCRIPTION:Donna Lovely’s nature photos from our region and beyond are on display at the Story & Song Center for Arts & Culture now through April 30.
URL:https://www.ameliaisland.com/activity/lovely-looks-at-nature-solo-photography-show/2025-03-07/
LOCATION:Story & Song Centre for Arts and Culture\, 1430 Park Avenue\, Fernandina Beach\, FL\, 32034
ATTACH;FMTTYPE=image/jpeg:https://www.ameliaisland.com/wp-content/uploads/Dancing-Waves_5294©DonnaLovelyPhotos.com-wmk-.jpg
END:VEVENT
BEGIN:VEVENT
DTSTART;TZID=America/New_York:20250306T170000
DTEND;TZID=America/New_York:20250306T183000
DTSTAMP:20260425T000327
CREATED:20241107T132338Z
LAST-MODIFIED:20241107T132338Z
UID:10016219-1741280400-1741285800@www.ameliaisland.com
SUMMARY:Story & Song Book Group
DESCRIPTION:The Story & Song Fiction Book group meets on the 1st Thursday of every month. \nEnjoy Happy Hour prices for wine and craft beer and come enjoy the conversation! \nSee upcoming S&S Book Group selections on our website.
URL:https://www.ameliaisland.com/activity/story-song-book-group-2/2025-03-06/
LOCATION:Story & Song Centre for Arts and Culture\, 1430 Park Avenue\, Fernandina Beach\, FL\, 32034
ATTACH;FMTTYPE=image/jpeg:https://www.ameliaisland.com/wp-content/uploads/SS-Fiction-Book-Group-.jpeg
END:VEVENT
BEGIN:VEVENT
DTSTART;TZID=America/New_York:20250306T150000
DTEND;TZID=America/New_York:20250306T160000
DTSTAMP:20260425T000327
CREATED:20240530T214559Z
LAST-MODIFIED:20240530T214559Z
UID:10009665-1741273200-1741276800@www.ameliaisland.com
SUMMARY:Mindfulness & Meditation
DESCRIPTION:Valerie Brandt leads us in a FREE session of Yoga Nidra followed by the soothing sounds of her “singing crystal bowls.” \nIf you haven’t tried it\, but you’ve been feeling the need for calm and peace in your life\, please join us! Yoga Nidra is a meditation and conscious relaxation practice intended to induce total physical\, mental\, and emotional relaxation. \nThere’s enough room upstairs to allow us to maintain safe distances\, whether seated upright or stretched out on the carpet. Bring a mat if you’d like to stretch out on the carpet and a sweater or blanket\, too. \nNo RSVP required. Just come on in and start relaxing.
URL:https://www.ameliaisland.com/activity/mindfulness-meditation-2/2025-03-06/
LOCATION:Story & Song Centre for Arts and Culture\, 1430 Park Avenue\, Fernandina Beach\, FL\, 32034
ATTACH;FMTTYPE=image/jpeg:https://www.ameliaisland.com/wp-content/uploads/Yoga-Story-Song.jpeg
END:VEVENT
BEGIN:VEVENT
DTSTART;TZID=America/New_York:20250306T100000
DTEND;TZID=America/New_York:20250306T170000
DTSTAMP:20260425T000327
CREATED:20250224T192735Z
LAST-MODIFIED:20250224T192735Z
UID:10018831-1741255200-1741280400@www.ameliaisland.com
SUMMARY:"Lovely Looks at Nature" solo photography show
DESCRIPTION:Donna Lovely’s nature photos from our region and beyond are on display at the Story & Song Center for Arts & Culture now through April 30.
URL:https://www.ameliaisland.com/activity/lovely-looks-at-nature-solo-photography-show/2025-03-06/
LOCATION:Story & Song Centre for Arts and Culture\, 1430 Park Avenue\, Fernandina Beach\, FL\, 32034
ATTACH;FMTTYPE=image/jpeg:https://www.ameliaisland.com/wp-content/uploads/Dancing-Waves_5294©DonnaLovelyPhotos.com-wmk-.jpg
END:VEVENT
BEGIN:VEVENT
DTSTART;TZID=America/New_York:20250305T100000
DTEND;TZID=America/New_York:20250305T170000
DTSTAMP:20260425T000327
CREATED:20250224T192735Z
LAST-MODIFIED:20250224T192735Z
UID:10018830-1741168800-1741194000@www.ameliaisland.com
SUMMARY:"Lovely Looks at Nature" solo photography show
DESCRIPTION:Donna Lovely’s nature photos from our region and beyond are on display at the Story & Song Center for Arts & Culture now through April 30.
URL:https://www.ameliaisland.com/activity/lovely-looks-at-nature-solo-photography-show/2025-03-05/
LOCATION:Story & Song Centre for Arts and Culture\, 1430 Park Avenue\, Fernandina Beach\, FL\, 32034
ATTACH;FMTTYPE=image/jpeg:https://www.ameliaisland.com/wp-content/uploads/Dancing-Waves_5294©DonnaLovelyPhotos.com-wmk-.jpg
END:VEVENT
BEGIN:VEVENT
DTSTART;TZID=America/New_York:20250304T160000
DTEND;TZID=America/New_York:20250304T180000
DTSTAMP:20260425T000327
CREATED:20250212T013715Z
LAST-MODIFIED:20250212T013715Z
UID:10018779-1741104000-1741111200@www.ameliaisland.com
SUMMARY:The Artist’s Studio: “Donna Lovely”
DESCRIPTION:The Artist’s Studio Series is a conversation with artists about inspiration and the creative process. How do artists see? What motivates them to begin a new work? Why do artists need art? Why do we? \nDonna Lovely is a fine art and freelance photographer with an eye of a painter. Her award-winning photographs are widely published and exhibited in both the United States and Europe and her work is featured in numerous collections\, including the prestigious permanent collections of the Orlando Museum of Art and Tampa Museum of Art. She has been showcased in 40 one-woman shows. Her work featured at Story & Song are available for purchase. \nTickets: $20 includes program\, glass of wine and appetizers.
URL:https://www.ameliaisland.com/activity/the-artists-studio-donna-lovely/
LOCATION:Story & Song Centre for Arts and Culture\, 1430 Park Avenue\, Fernandina Beach\, FL\, 32034
ATTACH;FMTTYPE=image/jpeg:https://www.ameliaisland.com/wp-content/uploads/Donna-Lovely-Artist-Studio-v5.jpg
END:VEVENT
BEGIN:VEVENT
DTSTART;TZID=America/New_York:20250304T100000
DTEND;TZID=America/New_York:20250304T170000
DTSTAMP:20260425T000327
CREATED:20250224T192735Z
LAST-MODIFIED:20250224T192735Z
UID:10018829-1741082400-1741107600@www.ameliaisland.com
SUMMARY:"Lovely Looks at Nature" solo photography show
DESCRIPTION:Donna Lovely’s nature photos from our region and beyond are on display at the Story & Song Center for Arts & Culture now through April 30.
URL:https://www.ameliaisland.com/activity/lovely-looks-at-nature-solo-photography-show/2025-03-04/
LOCATION:Story & Song Centre for Arts and Culture\, 1430 Park Avenue\, Fernandina Beach\, FL\, 32034
ATTACH;FMTTYPE=image/jpeg:https://www.ameliaisland.com/wp-content/uploads/Dancing-Waves_5294©DonnaLovelyPhotos.com-wmk-.jpg
END:VEVENT
BEGIN:VEVENT
DTSTART;TZID=America/New_York:20250303T103000
DTEND;TZID=America/New_York:20250303T140000
DTSTAMP:20260425T000327
CREATED:20250212T021052Z
LAST-MODIFIED:20250212T021052Z
UID:10018791-1740997800-1741010400@www.ameliaisland.com
SUMMARY:Workshop with Syd Hap: Create a Story Box
DESCRIPTION:Create a Story Box: A Mixed Media Mosaic Experience \nSyd Hap offers unique art making workshops in an inspiring and nurturing environment. Whether you are an experienced artist looking to acquire a new skill or you are using art materials for the first time\, Syd will help you fulfill your creative vision. All supplies are ABUNDANTLY provided! \nLow-fired clay tiles\, which are created during the workshop will be embellished with stamped words\, messages\, images and bronzing powders. Combine these with found objects\, bits of mirror and glass to complete your own STORY BOX. \n• Workshop enrollment limited to 12. \n• $95 includes instruction\, materials and lunch (Choice of Ina’s Chicken Salad* or Little Paris Bookshop Quiche*).
URL:https://www.ameliaisland.com/activity/workshop-with-syd-hap-create-a-story-box/
LOCATION:Story & Song Centre for Arts and Culture\, 1430 Park Avenue\, Fernandina Beach\, FL\, 32034
ATTACH;FMTTYPE=image/jpeg:https://www.ameliaisland.com/wp-content/uploads/Create-a-Story-Box-Workshop-w-Syd-Hap-v1.jpg
END:VEVENT
BEGIN:VEVENT
DTSTART;TZID=America/New_York:20250303T100000
DTEND;TZID=America/New_York:20250303T170000
DTSTAMP:20260425T000327
CREATED:20250224T192735Z
LAST-MODIFIED:20250224T192735Z
UID:10018828-1740996000-1741021200@www.ameliaisland.com
SUMMARY:"Lovely Looks at Nature" solo photography show
DESCRIPTION:Donna Lovely’s nature photos from our region and beyond are on display at the Story & Song Center for Arts & Culture now through April 30.
URL:https://www.ameliaisland.com/activity/lovely-looks-at-nature-solo-photography-show/2025-03-03/
LOCATION:Story & Song Centre for Arts and Culture\, 1430 Park Avenue\, Fernandina Beach\, FL\, 32034
ATTACH;FMTTYPE=image/jpeg:https://www.ameliaisland.com/wp-content/uploads/Dancing-Waves_5294©DonnaLovelyPhotos.com-wmk-.jpg
END:VEVENT
BEGIN:VEVENT
DTSTART;TZID=America/New_York:20250302T100000
DTEND;TZID=America/New_York:20250302T170000
DTSTAMP:20260425T000327
CREATED:20250224T192735Z
LAST-MODIFIED:20250224T192735Z
UID:10018827-1740909600-1740934800@www.ameliaisland.com
SUMMARY:"Lovely Looks at Nature" solo photography show
DESCRIPTION:Donna Lovely’s nature photos from our region and beyond are on display at the Story & Song Center for Arts & Culture now through April 30.
URL:https://www.ameliaisland.com/activity/lovely-looks-at-nature-solo-photography-show/2025-03-02/
LOCATION:Story & Song Centre for Arts and Culture\, 1430 Park Avenue\, Fernandina Beach\, FL\, 32034
ATTACH;FMTTYPE=image/jpeg:https://www.ameliaisland.com/wp-content/uploads/Dancing-Waves_5294©DonnaLovelyPhotos.com-wmk-.jpg
END:VEVENT
END:VCALENDAR