BEGIN:VCALENDAR
VERSION:2.0
PRODID:-//Amelia Island - ECPv6.8.0//NONSGML v1.0//EN
CALSCALE:GREGORIAN
METHOD:PUBLISH
X-WR-CALNAME:Amelia Island
X-ORIGINAL-URL:https://www.ameliaisland.com
X-WR-CALDESC:Events for Amelia Island
REFRESH-INTERVAL;VALUE=DURATION:PT1H
X-Robots-Tag:noindex
X-PUBLISHED-TTL:PT1H
BEGIN:VTIMEZONE
TZID:America/New_York
BEGIN:DAYLIGHT
TZOFFSETFROM:-0500
TZOFFSETTO:-0400
TZNAME:EDT
DTSTART:20250309T070000
END:DAYLIGHT
BEGIN:STANDARD
TZOFFSETFROM:-0400
TZOFFSETTO:-0500
TZNAME:EST
DTSTART:20251102T060000
END:STANDARD
END:VTIMEZONE
BEGIN:VEVENT
DTSTART;TZID=America/New_York:20250402T100000
DTEND;TZID=America/New_York:20250402T170000
DTSTAMP:20260424T183856
CREATED:20250224T192735Z
LAST-MODIFIED:20250224T192735Z
UID:10018858-1743588000-1743613200@www.ameliaisland.com
SUMMARY:"Lovely Looks at Nature" solo photography show
DESCRIPTION:Donna Lovely’s nature photos from our region and beyond are on display at the Story & Song Center for Arts & Culture now through April 30.
URL:https://www.ameliaisland.com/activity/lovely-looks-at-nature-solo-photography-show/2025-04-02/
LOCATION:Story & Song Centre for Arts and Culture\, 1430 Park Avenue\, Fernandina Beach\, FL\, 32034
ATTACH;FMTTYPE=image/jpeg:https://www.ameliaisland.com/wp-content/uploads/Dancing-Waves_5294©DonnaLovelyPhotos.com-wmk-.jpg
END:VEVENT
BEGIN:VEVENT
DTSTART;TZID=America/New_York:20250401T100000
DTEND;TZID=America/New_York:20250401T170000
DTSTAMP:20260424T183856
CREATED:20250224T192735Z
LAST-MODIFIED:20250224T192735Z
UID:10018857-1743501600-1743526800@www.ameliaisland.com
SUMMARY:"Lovely Looks at Nature" solo photography show
DESCRIPTION:Donna Lovely’s nature photos from our region and beyond are on display at the Story & Song Center for Arts & Culture now through April 30.
URL:https://www.ameliaisland.com/activity/lovely-looks-at-nature-solo-photography-show/2025-04-01/
LOCATION:Story & Song Centre for Arts and Culture\, 1430 Park Avenue\, Fernandina Beach\, FL\, 32034
ATTACH;FMTTYPE=image/jpeg:https://www.ameliaisland.com/wp-content/uploads/Dancing-Waves_5294©DonnaLovelyPhotos.com-wmk-.jpg
END:VEVENT
BEGIN:VEVENT
DTSTART;TZID=America/New_York:20250331T100000
DTEND;TZID=America/New_York:20250331T170000
DTSTAMP:20260424T183856
CREATED:20250224T192735Z
LAST-MODIFIED:20250224T192735Z
UID:10018856-1743415200-1743440400@www.ameliaisland.com
SUMMARY:"Lovely Looks at Nature" solo photography show
DESCRIPTION:Donna Lovely’s nature photos from our region and beyond are on display at the Story & Song Center for Arts & Culture now through April 30.
URL:https://www.ameliaisland.com/activity/lovely-looks-at-nature-solo-photography-show/2025-03-31/
LOCATION:Story & Song Centre for Arts and Culture\, 1430 Park Avenue\, Fernandina Beach\, FL\, 32034
ATTACH;FMTTYPE=image/jpeg:https://www.ameliaisland.com/wp-content/uploads/Dancing-Waves_5294©DonnaLovelyPhotos.com-wmk-.jpg
END:VEVENT
BEGIN:VEVENT
DTSTART;TZID=America/New_York:20250330T100000
DTEND;TZID=America/New_York:20250330T170000
DTSTAMP:20260424T183856
CREATED:20250224T192735Z
LAST-MODIFIED:20250224T192735Z
UID:10018855-1743328800-1743354000@www.ameliaisland.com
SUMMARY:"Lovely Looks at Nature" solo photography show
DESCRIPTION:Donna Lovely’s nature photos from our region and beyond are on display at the Story & Song Center for Arts & Culture now through April 30.
URL:https://www.ameliaisland.com/activity/lovely-looks-at-nature-solo-photography-show/2025-03-30/
LOCATION:Story & Song Centre for Arts and Culture\, 1430 Park Avenue\, Fernandina Beach\, FL\, 32034
ATTACH;FMTTYPE=image/jpeg:https://www.ameliaisland.com/wp-content/uploads/Dancing-Waves_5294©DonnaLovelyPhotos.com-wmk-.jpg
END:VEVENT
BEGIN:VEVENT
DTSTART;TZID=America/New_York:20250329T150000
DTEND;TZID=America/New_York:20250329T160000
DTSTAMP:20260424T183856
CREATED:20250306T211932Z
LAST-MODIFIED:20250306T211932Z
UID:10019038-1743260400-1743264000@www.ameliaisland.com
SUMMARY:“Unique Eats & Eateries of Savannah”
DESCRIPTION:Enjoy “Unique Eats & Eateries of Savannah” with Rebekah Lingenfelser\, a Five-star chef and TV personality\, as she introduces us to Savannah’s ever-evolving food scene. \nLooking for the best Irish Pub? The best place for local Savannah seafood or Savannah-style BBQ? Her latest book answers these questions and introduces you to the friendly faces behind the food. \nThis program is complimentary\, but please RSVP. \nThe book “Unique Eats & Eateries of Savannah” will be available for sale at the program. \nIf you can’t attend\, order your book online here.
URL:https://www.ameliaisland.com/activity/unique-eats-eateries-of-savannah/
LOCATION:Story & Song Centre for Arts and Culture\, 1430 Park Avenue\, Fernandina Beach\, FL\, 32034
ATTACH;FMTTYPE=image/jpeg:https://www.ameliaisland.com/wp-content/uploads/Rebeka-Lingenfelser.jpg
END:VEVENT
BEGIN:VEVENT
DTSTART;TZID=America/New_York:20250329T120000
DTEND;TZID=America/New_York:20250329T140000
DTSTAMP:20260424T183856
CREATED:20241017T125209Z
LAST-MODIFIED:20241017T125209Z
UID:10016132-1743249600-1743256800@www.ameliaisland.com
SUMMARY:Island Art Association - Critique Group
DESCRIPTION:An open discussion and critique group meets on the last Saturday of each month at Story & Song Bookstore Bistro from 12:00 noon-2:00 pm. All mediums are welcome. Artists may bring works in progress to receive the group’s support and views. \nStory & Song’s Bistro offers a breakfast and lunch menu.
URL:https://www.ameliaisland.com/activity/island-art-association-critique-group/2025-03-29/
LOCATION:Story & Song Centre for Arts and Culture\, 1430 Park Avenue\, Fernandina Beach\, FL\, 32034
ATTACH;FMTTYPE=image/jpeg:https://www.ameliaisland.com/wp-content/uploads/Story-Song-.jpg
END:VEVENT
BEGIN:VEVENT
DTSTART;TZID=America/New_York:20250329T103000
DTEND;TZID=America/New_York:20250329T113000
DTSTAMP:20260424T183856
CREATED:20240530T003130Z
LAST-MODIFIED:20240530T003130Z
UID:10009378-1743244200-1743247800@www.ameliaisland.com
SUMMARY:StoryTime with Ms. Dearsha
DESCRIPTION:Join us at the store for a magical StoryTime with Ms. Dearsha\, our beloved and very talented Director of Children’s Merchandise and Programming! \nStoryTime is every Saturday at 10:30 am in the store. No RSVP needed. Just come on in! \nDive into fantastical worlds\, meet dynamic characters\, and let your imagination soar! We can’t wait to see you!
URL:https://www.ameliaisland.com/activity/storytime-with-ms-dearsha/2025-03-29/
LOCATION:Story & Song Centre for Arts and Culture\, 1430 Park Avenue\, Fernandina Beach\, FL\, 32034
ATTACH;FMTTYPE=image/jpeg:https://www.ameliaisland.com/wp-content/uploads/Story-Song-family-books-shops.jpeg
END:VEVENT
BEGIN:VEVENT
DTSTART;TZID=America/New_York:20250329T100000
DTEND;TZID=America/New_York:20250329T170000
DTSTAMP:20260424T183856
CREATED:20250224T192735Z
LAST-MODIFIED:20250224T192735Z
UID:10018854-1743242400-1743267600@www.ameliaisland.com
SUMMARY:"Lovely Looks at Nature" solo photography show
DESCRIPTION:Donna Lovely’s nature photos from our region and beyond are on display at the Story & Song Center for Arts & Culture now through April 30.
URL:https://www.ameliaisland.com/activity/lovely-looks-at-nature-solo-photography-show/2025-03-29/
LOCATION:Story & Song Centre for Arts and Culture\, 1430 Park Avenue\, Fernandina Beach\, FL\, 32034
ATTACH;FMTTYPE=image/jpeg:https://www.ameliaisland.com/wp-content/uploads/Dancing-Waves_5294©DonnaLovelyPhotos.com-wmk-.jpg
END:VEVENT
BEGIN:VEVENT
DTSTART;TZID=America/New_York:20250328T100000
DTEND;TZID=America/New_York:20250328T170000
DTSTAMP:20260424T183856
CREATED:20250224T192735Z
LAST-MODIFIED:20250224T192735Z
UID:10018853-1743156000-1743181200@www.ameliaisland.com
SUMMARY:"Lovely Looks at Nature" solo photography show
DESCRIPTION:Donna Lovely’s nature photos from our region and beyond are on display at the Story & Song Center for Arts & Culture now through April 30.
URL:https://www.ameliaisland.com/activity/lovely-looks-at-nature-solo-photography-show/2025-03-28/
LOCATION:Story & Song Centre for Arts and Culture\, 1430 Park Avenue\, Fernandina Beach\, FL\, 32034
ATTACH;FMTTYPE=image/jpeg:https://www.ameliaisland.com/wp-content/uploads/Dancing-Waves_5294©DonnaLovelyPhotos.com-wmk-.jpg
END:VEVENT
BEGIN:VEVENT
DTSTART;TZID=America/New_York:20250327T100000
DTEND;TZID=America/New_York:20250327T170000
DTSTAMP:20260424T183856
CREATED:20250224T192735Z
LAST-MODIFIED:20250224T192735Z
UID:10018852-1743069600-1743094800@www.ameliaisland.com
SUMMARY:"Lovely Looks at Nature" solo photography show
DESCRIPTION:Donna Lovely’s nature photos from our region and beyond are on display at the Story & Song Center for Arts & Culture now through April 30.
URL:https://www.ameliaisland.com/activity/lovely-looks-at-nature-solo-photography-show/2025-03-27/
LOCATION:Story & Song Centre for Arts and Culture\, 1430 Park Avenue\, Fernandina Beach\, FL\, 32034
ATTACH;FMTTYPE=image/jpeg:https://www.ameliaisland.com/wp-content/uploads/Dancing-Waves_5294©DonnaLovelyPhotos.com-wmk-.jpg
END:VEVENT
BEGIN:VEVENT
DTSTART;TZID=America/New_York:20250326T100000
DTEND;TZID=America/New_York:20250326T170000
DTSTAMP:20260424T183856
CREATED:20250224T192735Z
LAST-MODIFIED:20250224T192735Z
UID:10018851-1742983200-1743008400@www.ameliaisland.com
SUMMARY:"Lovely Looks at Nature" solo photography show
DESCRIPTION:Donna Lovely’s nature photos from our region and beyond are on display at the Story & Song Center for Arts & Culture now through April 30.
URL:https://www.ameliaisland.com/activity/lovely-looks-at-nature-solo-photography-show/2025-03-26/
LOCATION:Story & Song Centre for Arts and Culture\, 1430 Park Avenue\, Fernandina Beach\, FL\, 32034
ATTACH;FMTTYPE=image/jpeg:https://www.ameliaisland.com/wp-content/uploads/Dancing-Waves_5294©DonnaLovelyPhotos.com-wmk-.jpg
END:VEVENT
BEGIN:VEVENT
DTSTART;TZID=America/New_York:20250325T150000
DTEND;TZID=America/New_York:20250325T170000
DTSTAMP:20260424T183856
CREATED:20250306T211658Z
LAST-MODIFIED:20250306T211658Z
UID:10019037-1742914800-1742922000@www.ameliaisland.com
SUMMARY:Amelia Island Writers “Voices of Diversity with Multicultural Authors”
DESCRIPTION:Enjoy a panel discussion\, facilitated by Donna Overly. Guests include: \n1. Dr. Beverly Davis\, co-author of Life on American Beach: Voices from Within.\n2. Tara Lynn Masih\, a National Jewish Book Award Finalist and winner of a Julia Ward Howe Award and a Florida Book Award for her acclaimed novel My Real Name Is Hanna\, set in WWII Ukraine.\n3. Dr. Ardain Isma\, master storyteller who crafts a narrative that resonates with finesse\, elegance\, and vivid imagery.\n4. DonnaLee Overly\, a past critical-care nurse and artist who is an award-winning author of The KNOT SERIES- contemporary women’s fiction novels that give a voice to social issues.
URL:https://www.ameliaisland.com/activity/amelia-island-writers-voices-of-diversity-with-multicultural-authors/
LOCATION:Story & Song Centre for Arts and Culture\, 1430 Park Avenue\, Fernandina Beach\, FL\, 32034
ATTACH;FMTTYPE=image/jpeg:https://www.ameliaisland.com/wp-content/uploads/Amelia-Island-Writers-v2.jpg
END:VEVENT
BEGIN:VEVENT
DTSTART;TZID=America/New_York:20250325T100000
DTEND;TZID=America/New_York:20250325T170000
DTSTAMP:20260424T183856
CREATED:20250224T192735Z
LAST-MODIFIED:20250224T192735Z
UID:10018850-1742896800-1742922000@www.ameliaisland.com
SUMMARY:"Lovely Looks at Nature" solo photography show
DESCRIPTION:Donna Lovely’s nature photos from our region and beyond are on display at the Story & Song Center for Arts & Culture now through April 30.
URL:https://www.ameliaisland.com/activity/lovely-looks-at-nature-solo-photography-show/2025-03-25/
LOCATION:Story & Song Centre for Arts and Culture\, 1430 Park Avenue\, Fernandina Beach\, FL\, 32034
ATTACH;FMTTYPE=image/jpeg:https://www.ameliaisland.com/wp-content/uploads/Dancing-Waves_5294©DonnaLovelyPhotos.com-wmk-.jpg
END:VEVENT
BEGIN:VEVENT
DTSTART;TZID=America/New_York:20250324T100000
DTEND;TZID=America/New_York:20250324T170000
DTSTAMP:20260424T183856
CREATED:20250224T192735Z
LAST-MODIFIED:20250224T192735Z
UID:10018849-1742810400-1742835600@www.ameliaisland.com
SUMMARY:"Lovely Looks at Nature" solo photography show
DESCRIPTION:Donna Lovely’s nature photos from our region and beyond are on display at the Story & Song Center for Arts & Culture now through April 30.
URL:https://www.ameliaisland.com/activity/lovely-looks-at-nature-solo-photography-show/2025-03-24/
LOCATION:Story & Song Centre for Arts and Culture\, 1430 Park Avenue\, Fernandina Beach\, FL\, 32034
ATTACH;FMTTYPE=image/jpeg:https://www.ameliaisland.com/wp-content/uploads/Dancing-Waves_5294©DonnaLovelyPhotos.com-wmk-.jpg
END:VEVENT
BEGIN:VEVENT
DTSTART;TZID=America/New_York:20250323T100000
DTEND;TZID=America/New_York:20250323T170000
DTSTAMP:20260424T183856
CREATED:20250224T192735Z
LAST-MODIFIED:20250224T192735Z
UID:10018848-1742724000-1742749200@www.ameliaisland.com
SUMMARY:"Lovely Looks at Nature" solo photography show
DESCRIPTION:Donna Lovely’s nature photos from our region and beyond are on display at the Story & Song Center for Arts & Culture now through April 30.
URL:https://www.ameliaisland.com/activity/lovely-looks-at-nature-solo-photography-show/2025-03-23/
LOCATION:Story & Song Centre for Arts and Culture\, 1430 Park Avenue\, Fernandina Beach\, FL\, 32034
ATTACH;FMTTYPE=image/jpeg:https://www.ameliaisland.com/wp-content/uploads/Dancing-Waves_5294©DonnaLovelyPhotos.com-wmk-.jpg
END:VEVENT
BEGIN:VEVENT
DTSTART;TZID=America/New_York:20250322T170000
DTEND;TZID=America/New_York:20250322T190000
DTSTAMP:20260424T183856
CREATED:20250306T210950Z
LAST-MODIFIED:20250306T210950Z
UID:10019036-1742662800-1742670000@www.ameliaisland.com
SUMMARY:“An Evening of Story & Song” with Rupert Wates
DESCRIPTION:Winner of over 50 songwriting awards\, British-born singer-songwriter Rupert Wates brings his soulful melodies\, rich storytelling\, and a touch of jazz\, vaudeville\, and cabaret to the stage! Prepare to be moved\, mesmerized\, and maybe even a little enchanted as Wates weaves beautifully crafted songs into a night of unforgettable music. \nCash bar available—because great music pairs best with your favorite drink! \nDon’t miss this one-of-a-kind musical experience.
URL:https://www.ameliaisland.com/activity/an-evening-of-story-song-with-rupert-wates/
LOCATION:Story & Song Centre for Arts and Culture\, 1430 Park Avenue\, Fernandina Beach\, FL\, 32034
ATTACH;FMTTYPE=image/jpeg:https://www.ameliaisland.com/wp-content/uploads/Rupert-Wates-Social-v1.jpg
END:VEVENT
BEGIN:VEVENT
DTSTART;TZID=America/New_York:20250322T103000
DTEND;TZID=America/New_York:20250322T113000
DTSTAMP:20260424T183856
CREATED:20240530T003130Z
LAST-MODIFIED:20240530T003130Z
UID:10009377-1742639400-1742643000@www.ameliaisland.com
SUMMARY:StoryTime with Ms. Dearsha
DESCRIPTION:Join us at the store for a magical StoryTime with Ms. Dearsha\, our beloved and very talented Director of Children’s Merchandise and Programming! \nStoryTime is every Saturday at 10:30 am in the store. No RSVP needed. Just come on in! \nDive into fantastical worlds\, meet dynamic characters\, and let your imagination soar! We can’t wait to see you!
URL:https://www.ameliaisland.com/activity/storytime-with-ms-dearsha/2025-03-22/
LOCATION:Story & Song Centre for Arts and Culture\, 1430 Park Avenue\, Fernandina Beach\, FL\, 32034
ATTACH;FMTTYPE=image/jpeg:https://www.ameliaisland.com/wp-content/uploads/Story-Song-family-books-shops.jpeg
END:VEVENT
BEGIN:VEVENT
DTSTART;TZID=America/New_York:20250322T100000
DTEND;TZID=America/New_York:20250322T170000
DTSTAMP:20260424T183856
CREATED:20250224T192735Z
LAST-MODIFIED:20250224T192735Z
UID:10018847-1742637600-1742662800@www.ameliaisland.com
SUMMARY:"Lovely Looks at Nature" solo photography show
DESCRIPTION:Donna Lovely’s nature photos from our region and beyond are on display at the Story & Song Center for Arts & Culture now through April 30.
URL:https://www.ameliaisland.com/activity/lovely-looks-at-nature-solo-photography-show/2025-03-22/
LOCATION:Story & Song Centre for Arts and Culture\, 1430 Park Avenue\, Fernandina Beach\, FL\, 32034
ATTACH;FMTTYPE=image/jpeg:https://www.ameliaisland.com/wp-content/uploads/Dancing-Waves_5294©DonnaLovelyPhotos.com-wmk-.jpg
END:VEVENT
BEGIN:VEVENT
DTSTART;TZID=America/New_York:20250321T100000
DTEND;TZID=America/New_York:20250321T170000
DTSTAMP:20260424T183856
CREATED:20250224T192735Z
LAST-MODIFIED:20250224T192735Z
UID:10018846-1742551200-1742576400@www.ameliaisland.com
SUMMARY:"Lovely Looks at Nature" solo photography show
DESCRIPTION:Donna Lovely’s nature photos from our region and beyond are on display at the Story & Song Center for Arts & Culture now through April 30.
URL:https://www.ameliaisland.com/activity/lovely-looks-at-nature-solo-photography-show/2025-03-21/
LOCATION:Story & Song Centre for Arts and Culture\, 1430 Park Avenue\, Fernandina Beach\, FL\, 32034
ATTACH;FMTTYPE=image/jpeg:https://www.ameliaisland.com/wp-content/uploads/Dancing-Waves_5294©DonnaLovelyPhotos.com-wmk-.jpg
END:VEVENT
BEGIN:VEVENT
DTSTART;TZID=America/New_York:20250320T100000
DTEND;TZID=America/New_York:20250320T170000
DTSTAMP:20260424T183856
CREATED:20250224T192735Z
LAST-MODIFIED:20250224T192735Z
UID:10018845-1742464800-1742490000@www.ameliaisland.com
SUMMARY:"Lovely Looks at Nature" solo photography show
DESCRIPTION:Donna Lovely’s nature photos from our region and beyond are on display at the Story & Song Center for Arts & Culture now through April 30.
URL:https://www.ameliaisland.com/activity/lovely-looks-at-nature-solo-photography-show/2025-03-20/
LOCATION:Story & Song Centre for Arts and Culture\, 1430 Park Avenue\, Fernandina Beach\, FL\, 32034
ATTACH;FMTTYPE=image/jpeg:https://www.ameliaisland.com/wp-content/uploads/Dancing-Waves_5294©DonnaLovelyPhotos.com-wmk-.jpg
END:VEVENT
BEGIN:VEVENT
DTSTART;TZID=America/New_York:20250319T170000
DTEND;TZID=America/New_York:20250319T190000
DTSTAMP:20260424T183856
CREATED:20240611T235936Z
LAST-MODIFIED:20240611T235936Z
UID:10009923-1742403600-1742410800@www.ameliaisland.com
SUMMARY:Cinema & Conversation
DESCRIPTION:On the 3rd Wednesday of the month\, join us to watch a film chosen for its meaningful theme\, and stay for a facilitated discussion after. \nFree and open to all.
URL:https://www.ameliaisland.com/activity/cinema-conversation/2025-03-19/
LOCATION:Story & Song Centre for Arts and Culture\, 1430 Park Avenue\, Fernandina Beach\, FL\, 32034
ATTACH;FMTTYPE=image/jpeg:https://www.ameliaisland.com/wp-content/uploads/Cinema-Conversation-story-song.jpeg
END:VEVENT
BEGIN:VEVENT
DTSTART;TZID=America/New_York:20250319T150000
DTEND;TZID=America/New_York:20250319T160000
DTSTAMP:20260424T183856
CREATED:20250306T210402Z
LAST-MODIFIED:20250306T210402Z
UID:10019035-1742396400-1742400000@www.ameliaisland.com
SUMMARY:Sonofarious presents “Songs\, Stories\, & Conversation”
DESCRIPTION:Newcomers Classical Music Group welcomes Sonofarious\, a sextet of two flutes\, keyboard\, bass guitar\, lever harp\, guitalele and sometimes glockenspiel and hand drum. Listen to music from the late medieval period to freshly drafted original work. \nIn this program we will explore what makes each of their instruments special and how our intrepid composer/arranger blends them and us into something beautiful and coherent. We will cover a few centuries of musical ground. \nFun and Free!\nComplimentary – Please RSVP
URL:https://www.ameliaisland.com/activity/sonofarious-presents-songs-stories-conversation/
LOCATION:Story & Song Centre for Arts and Culture\, 1430 Park Avenue\, Fernandina Beach\, FL\, 32034
ATTACH;FMTTYPE=image/jpeg:https://www.ameliaisland.com/wp-content/uploads/Sonofarious-at-New-Vision-9-15-24-Beach-Background-Added.jpg
END:VEVENT
BEGIN:VEVENT
DTSTART;TZID=America/New_York:20250319T100000
DTEND;TZID=America/New_York:20250319T170000
DTSTAMP:20260424T183856
CREATED:20250224T192735Z
LAST-MODIFIED:20250224T192735Z
UID:10018844-1742378400-1742403600@www.ameliaisland.com
SUMMARY:"Lovely Looks at Nature" solo photography show
DESCRIPTION:Donna Lovely’s nature photos from our region and beyond are on display at the Story & Song Center for Arts & Culture now through April 30.
URL:https://www.ameliaisland.com/activity/lovely-looks-at-nature-solo-photography-show/2025-03-19/
LOCATION:Story & Song Centre for Arts and Culture\, 1430 Park Avenue\, Fernandina Beach\, FL\, 32034
ATTACH;FMTTYPE=image/jpeg:https://www.ameliaisland.com/wp-content/uploads/Dancing-Waves_5294©DonnaLovelyPhotos.com-wmk-.jpg
END:VEVENT
BEGIN:VEVENT
DTSTART;TZID=America/New_York:20250318T153000
DTEND;TZID=America/New_York:20250318T163000
DTSTAMP:20260424T183856
CREATED:20240605T200210Z
LAST-MODIFIED:20240605T200210Z
UID:10009793-1742311800-1742315400@www.ameliaisland.com
SUMMARY:Poetry Canteen
DESCRIPTION:Join us the 3rd Tuesday of each month for Amelia Island’s Poet Laureate Nola Perez and friends as they gather to share their love of poetry\, reading their own works or favorites of others. There will be a five-minute “open mic” format to read your work! \nSee you there!
URL:https://www.ameliaisland.com/activity/poetry-canteen/2025-03-18/
LOCATION:Story & Song Centre for Arts and Culture\, 1430 Park Avenue\, Fernandina Beach\, FL\, 32034
ATTACH;FMTTYPE=image/jpeg:https://www.ameliaisland.com/wp-content/uploads/Story-Song-Poetry-Canteen.jpg
END:VEVENT
BEGIN:VEVENT
DTSTART;TZID=America/New_York:20250318T100000
DTEND;TZID=America/New_York:20250318T170000
DTSTAMP:20260424T183857
CREATED:20250224T192735Z
LAST-MODIFIED:20250224T192735Z
UID:10018843-1742292000-1742317200@www.ameliaisland.com
SUMMARY:"Lovely Looks at Nature" solo photography show
DESCRIPTION:Donna Lovely’s nature photos from our region and beyond are on display at the Story & Song Center for Arts & Culture now through April 30.
URL:https://www.ameliaisland.com/activity/lovely-looks-at-nature-solo-photography-show/2025-03-18/
LOCATION:Story & Song Centre for Arts and Culture\, 1430 Park Avenue\, Fernandina Beach\, FL\, 32034
ATTACH;FMTTYPE=image/jpeg:https://www.ameliaisland.com/wp-content/uploads/Dancing-Waves_5294©DonnaLovelyPhotos.com-wmk-.jpg
END:VEVENT
BEGIN:VEVENT
DTSTART;TZID=America/New_York:20250317T100000
DTEND;TZID=America/New_York:20250317T170000
DTSTAMP:20260424T183857
CREATED:20250224T192735Z
LAST-MODIFIED:20250224T192735Z
UID:10018842-1742205600-1742230800@www.ameliaisland.com
SUMMARY:"Lovely Looks at Nature" solo photography show
DESCRIPTION:Donna Lovely’s nature photos from our region and beyond are on display at the Story & Song Center for Arts & Culture now through April 30.
URL:https://www.ameliaisland.com/activity/lovely-looks-at-nature-solo-photography-show/2025-03-17/
LOCATION:Story & Song Centre for Arts and Culture\, 1430 Park Avenue\, Fernandina Beach\, FL\, 32034
ATTACH;FMTTYPE=image/jpeg:https://www.ameliaisland.com/wp-content/uploads/Dancing-Waves_5294©DonnaLovelyPhotos.com-wmk-.jpg
END:VEVENT
BEGIN:VEVENT
DTSTART;TZID=America/New_York:20250317T100000
DTEND;TZID=America/New_York:20250317T113000
DTSTAMP:20260424T183857
CREATED:20240611T235616Z
LAST-MODIFIED:20240611T235616Z
UID:10009863-1742205600-1742211000@www.ameliaisland.com
SUMMARY:Welcome Coffee with Women of Nassau
DESCRIPTION:New to Fernandina? Want to get involved in the community? \nAll women\, including new and current members\, are invited to join the Women of Nassau’s monthly coffee get-together at Story & Song. \nThis event is FREE with light refreshments. No RSVP needed. (3rd Monday of every month)
URL:https://www.ameliaisland.com/activity/welcome-coffee-with-women-of-nassau/2025-03-17/
LOCATION:Story & Song Centre for Arts and Culture\, 1430 Park Avenue\, Fernandina Beach\, FL\, 32034
ATTACH;FMTTYPE=image/jpeg:https://www.ameliaisland.com/wp-content/uploads/Women-of-Nassau-Story-Song.jpg
END:VEVENT
BEGIN:VEVENT
DTSTART;TZID=America/New_York:20250316T150000
DTEND;TZID=America/New_York:20250316T163000
DTSTAMP:20260424T183857
CREATED:20240910T200506Z
LAST-MODIFIED:20240910T200506Z
UID:10011484-1742137200-1742142600@www.ameliaisland.com
SUMMARY:Amelia Island Opera Concert Series: Broadway Babies II
DESCRIPTION:Back by popular demand! Join Amelia Island Opera for an encore performance of Broadway Babies\, featuring the sensational voice of GRAMMY Award-winning vocalist Gabriel Preisser\, alongside “irresistible” baritone Nathan Stark and Amelia Island Opera co-founders and local favorites John Tibbets and Victoria Isernia. Accompanied by the talented pianist Michael Giuliani\, you’ll enjoy the unhinged antics of three handsome baritones and one knockout mezzo in a one-of-a-kind concert filled with laughter\, charm\, and extraordinary vocal performances! \nWhether you’re a Broadway aficionado or just looking for a night of exceptional entertainment\, this performance promises to be an unforgettable experience. \nWine and beer will be available for purchase. Cash only. You will receive an email confirmation from Story & Song after you purchase your tickets. You do not need to print this confirmation\, but can simply give your name at the door.
URL:https://www.ameliaisland.com/activity/amelia-island-opera-concert-series-broadway-babies-ii/2025-03-16/
LOCATION:Story & Song Centre for Arts and Culture\, 1430 Park Avenue\, Fernandina Beach\, FL\, 32034
ATTACH;FMTTYPE=image/jpeg:https://www.ameliaisland.com/wp-content/uploads/Amelia-island-Opera-Broadway-Babies.jpeg
END:VEVENT
BEGIN:VEVENT
DTSTART;TZID=America/New_York:20250316T100000
DTEND;TZID=America/New_York:20250316T170000
DTSTAMP:20260424T183857
CREATED:20250224T192735Z
LAST-MODIFIED:20250224T192735Z
UID:10018841-1742119200-1742144400@www.ameliaisland.com
SUMMARY:"Lovely Looks at Nature" solo photography show
DESCRIPTION:Donna Lovely’s nature photos from our region and beyond are on display at the Story & Song Center for Arts & Culture now through April 30.
URL:https://www.ameliaisland.com/activity/lovely-looks-at-nature-solo-photography-show/2025-03-16/
LOCATION:Story & Song Centre for Arts and Culture\, 1430 Park Avenue\, Fernandina Beach\, FL\, 32034
ATTACH;FMTTYPE=image/jpeg:https://www.ameliaisland.com/wp-content/uploads/Dancing-Waves_5294©DonnaLovelyPhotos.com-wmk-.jpg
END:VEVENT
BEGIN:VEVENT
DTSTART;TZID=America/New_York:20250315T170000
DTEND;TZID=America/New_York:20250315T183000
DTSTAMP:20260424T183857
CREATED:20240910T200506Z
LAST-MODIFIED:20240910T200506Z
UID:10011483-1742058000-1742063400@www.ameliaisland.com
SUMMARY:Amelia Island Opera Concert Series: Broadway Babies II
DESCRIPTION:Back by popular demand! Join Amelia Island Opera for an encore performance of Broadway Babies\, featuring the sensational voice of GRAMMY Award-winning vocalist Gabriel Preisser\, alongside “irresistible” baritone Nathan Stark and Amelia Island Opera co-founders and local favorites John Tibbets and Victoria Isernia. Accompanied by the talented pianist Michael Giuliani\, you’ll enjoy the unhinged antics of three handsome baritones and one knockout mezzo in a one-of-a-kind concert filled with laughter\, charm\, and extraordinary vocal performances! \nWhether you’re a Broadway aficionado or just looking for a night of exceptional entertainment\, this performance promises to be an unforgettable experience. \nWine and beer will be available for purchase. Cash only. You will receive an email confirmation from Story & Song after you purchase your tickets. You do not need to print this confirmation\, but can simply give your name at the door.
URL:https://www.ameliaisland.com/activity/amelia-island-opera-concert-series-broadway-babies-ii/2025-03-15/
LOCATION:Story & Song Centre for Arts and Culture\, 1430 Park Avenue\, Fernandina Beach\, FL\, 32034
ATTACH;FMTTYPE=image/jpeg:https://www.ameliaisland.com/wp-content/uploads/Amelia-island-Opera-Broadway-Babies.jpeg
END:VEVENT
END:VCALENDAR