BEGIN:VCALENDAR
VERSION:2.0
PRODID:-//Amelia Island - ECPv6.8.0//NONSGML v1.0//EN
CALSCALE:GREGORIAN
METHOD:PUBLISH
X-ORIGINAL-URL:https://www.ameliaisland.com
X-WR-CALDESC:Events for Amelia Island
REFRESH-INTERVAL;VALUE=DURATION:PT1H
X-Robots-Tag:noindex
X-PUBLISHED-TTL:PT1H
BEGIN:VTIMEZONE
TZID:America/New_York
BEGIN:DAYLIGHT
TZOFFSETFROM:-0500
TZOFFSETTO:-0400
TZNAME:EDT
DTSTART:20250309T070000
END:DAYLIGHT
BEGIN:STANDARD
TZOFFSETFROM:-0400
TZOFFSETTO:-0500
TZNAME:EST
DTSTART:20251102T060000
END:STANDARD
END:VTIMEZONE
BEGIN:VEVENT
DTSTART;TZID=America/New_York:20250508T123000
DTEND;TZID=America/New_York:20250508T140000
DTSTAMP:20260424T102908
CREATED:20250414T213611Z
LAST-MODIFIED:20250414T214120Z
UID:10021703-1746707400-1746712800@www.ameliaisland.com
SUMMARY:Literary Luncheon with Sarah Penner
DESCRIPTION:Join us for a magical afternoon with acclaimed author Sarah Penner as she shares insights into her latest novel\, The Amalfi Curse—a bewitching tale of sunken treasure\, forbidden love\, and ancient magic along Italy’s Amalfi Coast. \nEnjoy a delicious lunch\, great company\, and a captivating conversation with one of today’s most imaginative storytellers. \nSeating is limited—reserve your spot today!
URL:https://www.ameliaisland.com/activity/literary-luncheon-with-sarah-penner/
LOCATION:Story & Song Centre for Arts and Culture\, 1430 Park Avenue\, Fernandina Beach\, FL\, 32034
ATTACH;FMTTYPE=image/jpeg:https://www.ameliaisland.com/wp-content/uploads/Literary-Luncheon-w-Sarah-Penner-v2.jpg
END:VEVENT
BEGIN:VEVENT
DTSTART;TZID=America/New_York:20250504T140000
DTEND;TZID=America/New_York:20250504T150000
DTSTAMP:20260424T102908
CREATED:20250414T162857Z
LAST-MODIFIED:20250414T162857Z
UID:10021701-1746367200-1746370800@www.ameliaisland.com
SUMMARY:Opera Student Recital
DESCRIPTION:Join us for a lovely afternoon of song as the students of acclaimed operatic performer Victoria Isernia take the stage for an enchanting recital. \nExperience the power\, beauty\, and emotion of opera through the voices of tomorrow’s stars. \nFree Admission – RSVP Required \nDon’t miss this inspiring showcase of talent!
URL:https://www.ameliaisland.com/activity/opera-student-recital/
LOCATION:Story & Song Centre for Arts and Culture\, 1430 Park Avenue\, Fernandina Beach\, FL\, 32034
ATTACH;FMTTYPE=image/jpeg:https://www.ameliaisland.com/wp-content/uploads/Opera-Student-Recital-v1-1.jpg
END:VEVENT
BEGIN:VEVENT
DTSTART;TZID=America/New_York:20250503T103000
DTEND;TZID=America/New_York:20250503T113000
DTSTAMP:20260424T102908
CREATED:20240530T003130Z
LAST-MODIFIED:20240530T003130Z
UID:10009383-1746268200-1746271800@www.ameliaisland.com
SUMMARY:StoryTime with Ms. Dearsha
DESCRIPTION:Join us at the store for a magical StoryTime with Ms. Dearsha\, our beloved and very talented Director of Children’s Merchandise and Programming! \nStoryTime is every Saturday at 10:30 am in the store. No RSVP needed. Just come on in! \nDive into fantastical worlds\, meet dynamic characters\, and let your imagination soar! We can’t wait to see you!
URL:https://www.ameliaisland.com/activity/storytime-with-ms-dearsha/2025-05-03/
LOCATION:Story & Song Centre for Arts and Culture\, 1430 Park Avenue\, Fernandina Beach\, FL\, 32034
ATTACH;FMTTYPE=image/jpeg:https://www.ameliaisland.com/wp-content/uploads/Story-Song-family-books-shops.jpeg
END:VEVENT
BEGIN:VEVENT
DTSTART;TZID=America/New_York:20250502T150000
DTEND;TZID=America/New_York:20250502T163000
DTSTAMP:20260424T102908
CREATED:20240530T003926Z
LAST-MODIFIED:20260201T153459Z
UID:10009607-1746198000-1746203400@www.ameliaisland.com
SUMMARY:Tea & Tales
DESCRIPTION:Join us for a delightful afternoon tea with captivating readings by actor Ron Kurtz on the FIRST FRIDAY of every month! \nIndulge in a scrumptious selection of sweet and savory treats crafted by the Story & Song bistro\, perfectly paired with enchanting stories.
URL:https://www.ameliaisland.com/activity/tea-tales/2025-05-02/
LOCATION:Story & Song Centre for Arts and Culture\, 1430 Park Avenue\, Fernandina Beach\, FL\, 32034
ATTACH;FMTTYPE=image/jpeg:https://www.ameliaisland.com/wp-content/uploads/Tea-Tales-Flyer-scaled.jpg
END:VEVENT
BEGIN:VEVENT
DTSTART;TZID=America/New_York:20250501T170000
DTEND;TZID=America/New_York:20250501T183000
DTSTAMP:20260424T102908
CREATED:20241107T132338Z
LAST-MODIFIED:20241107T132338Z
UID:10016221-1746118800-1746124200@www.ameliaisland.com
SUMMARY:Story & Song Book Group
DESCRIPTION:The Story & Song Fiction Book group meets on the 1st Thursday of every month. \nEnjoy Happy Hour prices for wine and craft beer and come enjoy the conversation! \nSee upcoming S&S Book Group selections on our website.
URL:https://www.ameliaisland.com/activity/story-song-book-group-2/2025-05-01/
LOCATION:Story & Song Centre for Arts and Culture\, 1430 Park Avenue\, Fernandina Beach\, FL\, 32034
ATTACH;FMTTYPE=image/jpeg:https://www.ameliaisland.com/wp-content/uploads/SS-Fiction-Book-Group-.jpeg
END:VEVENT
BEGIN:VEVENT
DTSTART;TZID=America/New_York:20250501T150000
DTEND;TZID=America/New_York:20250501T160000
DTSTAMP:20260424T102908
CREATED:20240530T214559Z
LAST-MODIFIED:20240530T214559Z
UID:10009667-1746111600-1746115200@www.ameliaisland.com
SUMMARY:Mindfulness & Meditation
DESCRIPTION:Valerie Brandt leads us in a FREE session of Yoga Nidra followed by the soothing sounds of her “singing crystal bowls.” \nIf you haven’t tried it\, but you’ve been feeling the need for calm and peace in your life\, please join us! Yoga Nidra is a meditation and conscious relaxation practice intended to induce total physical\, mental\, and emotional relaxation. \nThere’s enough room upstairs to allow us to maintain safe distances\, whether seated upright or stretched out on the carpet. Bring a mat if you’d like to stretch out on the carpet and a sweater or blanket\, too. \nNo RSVP required. Just come on in and start relaxing.
URL:https://www.ameliaisland.com/activity/mindfulness-meditation-2/2025-05-01/
LOCATION:Story & Song Centre for Arts and Culture\, 1430 Park Avenue\, Fernandina Beach\, FL\, 32034
ATTACH;FMTTYPE=image/jpeg:https://www.ameliaisland.com/wp-content/uploads/Yoga-Story-Song.jpeg
END:VEVENT
BEGIN:VEVENT
DTSTART;TZID=America/New_York:20250430T100000
DTEND;TZID=America/New_York:20250430T170000
DTSTAMP:20260424T102908
CREATED:20250224T192735Z
LAST-MODIFIED:20250224T192735Z
UID:10018886-1746007200-1746032400@www.ameliaisland.com
SUMMARY:"Lovely Looks at Nature" solo photography show
DESCRIPTION:Donna Lovely’s nature photos from our region and beyond are on display at the Story & Song Center for Arts & Culture now through April 30.
URL:https://www.ameliaisland.com/activity/lovely-looks-at-nature-solo-photography-show/2025-04-30/
LOCATION:Story & Song Centre for Arts and Culture\, 1430 Park Avenue\, Fernandina Beach\, FL\, 32034
ATTACH;FMTTYPE=image/jpeg:https://www.ameliaisland.com/wp-content/uploads/Dancing-Waves_5294©DonnaLovelyPhotos.com-wmk-.jpg
END:VEVENT
BEGIN:VEVENT
DTSTART;TZID=America/New_York:20250429T100000
DTEND;TZID=America/New_York:20250429T170000
DTSTAMP:20260424T102908
CREATED:20250224T192735Z
LAST-MODIFIED:20250224T192735Z
UID:10018885-1745920800-1745946000@www.ameliaisland.com
SUMMARY:"Lovely Looks at Nature" solo photography show
DESCRIPTION:Donna Lovely’s nature photos from our region and beyond are on display at the Story & Song Center for Arts & Culture now through April 30.
URL:https://www.ameliaisland.com/activity/lovely-looks-at-nature-solo-photography-show/2025-04-29/
LOCATION:Story & Song Centre for Arts and Culture\, 1430 Park Avenue\, Fernandina Beach\, FL\, 32034
ATTACH;FMTTYPE=image/jpeg:https://www.ameliaisland.com/wp-content/uploads/Dancing-Waves_5294©DonnaLovelyPhotos.com-wmk-.jpg
END:VEVENT
BEGIN:VEVENT
DTSTART;TZID=America/New_York:20250428T100000
DTEND;TZID=America/New_York:20250428T170000
DTSTAMP:20260424T102908
CREATED:20250224T192735Z
LAST-MODIFIED:20250224T192735Z
UID:10018884-1745834400-1745859600@www.ameliaisland.com
SUMMARY:"Lovely Looks at Nature" solo photography show
DESCRIPTION:Donna Lovely’s nature photos from our region and beyond are on display at the Story & Song Center for Arts & Culture now through April 30.
URL:https://www.ameliaisland.com/activity/lovely-looks-at-nature-solo-photography-show/2025-04-28/
LOCATION:Story & Song Centre for Arts and Culture\, 1430 Park Avenue\, Fernandina Beach\, FL\, 32034
ATTACH;FMTTYPE=image/jpeg:https://www.ameliaisland.com/wp-content/uploads/Dancing-Waves_5294©DonnaLovelyPhotos.com-wmk-.jpg
END:VEVENT
BEGIN:VEVENT
DTSTART;TZID=America/New_York:20250427T150000
DTEND;TZID=America/New_York:20250427T170000
DTSTAMP:20260424T102908
CREATED:20250326T193524Z
LAST-MODIFIED:20250326T193541Z
UID:10021388-1745766000-1745773200@www.ameliaisland.com
SUMMARY:“A Mad\, Mad Wonderland”
DESCRIPTION:Back by popular demand! Jason Woods (Bing!\, A Christmas Carol) returns to Story & Song\, bringing every zany character of Wonderland to life in a one-man theatrical adventure! \nFrom the anxious White Rabbit to the volatile Queen of Hearts\, and even a Cheshire Cat who might sound suspiciously like Jack Nicholson\, Jason’s masterful storytelling and spot-on impressions will leave you spellbound. \nWhen the Queen of Hearts’ song mysteriously vanishes\, Alice must navigate the chaos of Wonderland—and its peculiar inhabitants—to save the White Rabbit from a chocolate-dipped doom! Along the way\, she rediscovers the magic she thought she’d outgrown. \nBest for adults and children 8 & up. \nCash bar available. \nReserve your seat now and don’t be late for this very important date!
URL:https://www.ameliaisland.com/activity/a-mad-mad-wonderland/
LOCATION:Story & Song Centre for Arts and Culture\, 1430 Park Avenue\, Fernandina Beach\, FL\, 32034
ATTACH;FMTTYPE=image/jpeg:https://www.ameliaisland.com/wp-content/uploads/Jason-Woods-A-Mad-Mad-Wonderland-v1.jpg
END:VEVENT
BEGIN:VEVENT
DTSTART;TZID=America/New_York:20250427T100000
DTEND;TZID=America/New_York:20250427T170000
DTSTAMP:20260424T102908
CREATED:20250224T192735Z
LAST-MODIFIED:20250224T192735Z
UID:10018883-1745748000-1745773200@www.ameliaisland.com
SUMMARY:"Lovely Looks at Nature" solo photography show
DESCRIPTION:Donna Lovely’s nature photos from our region and beyond are on display at the Story & Song Center for Arts & Culture now through April 30.
URL:https://www.ameliaisland.com/activity/lovely-looks-at-nature-solo-photography-show/2025-04-27/
LOCATION:Story & Song Centre for Arts and Culture\, 1430 Park Avenue\, Fernandina Beach\, FL\, 32034
ATTACH;FMTTYPE=image/jpeg:https://www.ameliaisland.com/wp-content/uploads/Dancing-Waves_5294©DonnaLovelyPhotos.com-wmk-.jpg
END:VEVENT
BEGIN:VEVENT
DTSTART;TZID=America/New_York:20250426T120000
DTEND;TZID=America/New_York:20250426T140000
DTSTAMP:20260424T102908
CREATED:20241017T125209Z
LAST-MODIFIED:20241017T125209Z
UID:10016133-1745668800-1745676000@www.ameliaisland.com
SUMMARY:Island Art Association - Critique Group
DESCRIPTION:An open discussion and critique group meets on the last Saturday of each month at Story & Song Bookstore Bistro from 12:00 noon-2:00 pm. All mediums are welcome. Artists may bring works in progress to receive the group’s support and views. \nStory & Song’s Bistro offers a breakfast and lunch menu.
URL:https://www.ameliaisland.com/activity/island-art-association-critique-group/2025-04-26/
LOCATION:Story & Song Centre for Arts and Culture\, 1430 Park Avenue\, Fernandina Beach\, FL\, 32034
ATTACH;FMTTYPE=image/jpeg:https://www.ameliaisland.com/wp-content/uploads/Story-Song-.jpg
END:VEVENT
BEGIN:VEVENT
DTSTART;TZID=America/New_York:20250426T103000
DTEND;TZID=America/New_York:20250426T113000
DTSTAMP:20260424T102908
CREATED:20240530T003130Z
LAST-MODIFIED:20240530T003130Z
UID:10009382-1745663400-1745667000@www.ameliaisland.com
SUMMARY:StoryTime with Ms. Dearsha
DESCRIPTION:Join us at the store for a magical StoryTime with Ms. Dearsha\, our beloved and very talented Director of Children’s Merchandise and Programming! \nStoryTime is every Saturday at 10:30 am in the store. No RSVP needed. Just come on in! \nDive into fantastical worlds\, meet dynamic characters\, and let your imagination soar! We can’t wait to see you!
URL:https://www.ameliaisland.com/activity/storytime-with-ms-dearsha/2025-04-26/
LOCATION:Story & Song Centre for Arts and Culture\, 1430 Park Avenue\, Fernandina Beach\, FL\, 32034
ATTACH;FMTTYPE=image/jpeg:https://www.ameliaisland.com/wp-content/uploads/Story-Song-family-books-shops.jpeg
END:VEVENT
BEGIN:VEVENT
DTSTART;TZID=America/New_York:20250426T100000
DTEND;TZID=America/New_York:20250426T170000
DTSTAMP:20260424T102908
CREATED:20250224T192735Z
LAST-MODIFIED:20250224T192735Z
UID:10018882-1745661600-1745686800@www.ameliaisland.com
SUMMARY:"Lovely Looks at Nature" solo photography show
DESCRIPTION:Donna Lovely’s nature photos from our region and beyond are on display at the Story & Song Center for Arts & Culture now through April 30.
URL:https://www.ameliaisland.com/activity/lovely-looks-at-nature-solo-photography-show/2025-04-26/
LOCATION:Story & Song Centre for Arts and Culture\, 1430 Park Avenue\, Fernandina Beach\, FL\, 32034
ATTACH;FMTTYPE=image/jpeg:https://www.ameliaisland.com/wp-content/uploads/Dancing-Waves_5294©DonnaLovelyPhotos.com-wmk-.jpg
END:VEVENT
BEGIN:VEVENT
DTSTART;TZID=America/New_York:20250425T100000
DTEND;TZID=America/New_York:20250425T170000
DTSTAMP:20260424T102908
CREATED:20250224T192735Z
LAST-MODIFIED:20250224T192735Z
UID:10018881-1745575200-1745600400@www.ameliaisland.com
SUMMARY:"Lovely Looks at Nature" solo photography show
DESCRIPTION:Donna Lovely’s nature photos from our region and beyond are on display at the Story & Song Center for Arts & Culture now through April 30.
URL:https://www.ameliaisland.com/activity/lovely-looks-at-nature-solo-photography-show/2025-04-25/
LOCATION:Story & Song Centre for Arts and Culture\, 1430 Park Avenue\, Fernandina Beach\, FL\, 32034
ATTACH;FMTTYPE=image/jpeg:https://www.ameliaisland.com/wp-content/uploads/Dancing-Waves_5294©DonnaLovelyPhotos.com-wmk-.jpg
END:VEVENT
BEGIN:VEVENT
DTSTART;TZID=America/New_York:20250424T100000
DTEND;TZID=America/New_York:20250424T170000
DTSTAMP:20260424T102908
CREATED:20250224T192735Z
LAST-MODIFIED:20250224T192735Z
UID:10018880-1745488800-1745514000@www.ameliaisland.com
SUMMARY:"Lovely Looks at Nature" solo photography show
DESCRIPTION:Donna Lovely’s nature photos from our region and beyond are on display at the Story & Song Center for Arts & Culture now through April 30.
URL:https://www.ameliaisland.com/activity/lovely-looks-at-nature-solo-photography-show/2025-04-24/
LOCATION:Story & Song Centre for Arts and Culture\, 1430 Park Avenue\, Fernandina Beach\, FL\, 32034
ATTACH;FMTTYPE=image/jpeg:https://www.ameliaisland.com/wp-content/uploads/Dancing-Waves_5294©DonnaLovelyPhotos.com-wmk-.jpg
END:VEVENT
BEGIN:VEVENT
DTSTART;TZID=America/New_York:20250423T100000
DTEND;TZID=America/New_York:20250423T170000
DTSTAMP:20260424T102908
CREATED:20250224T192735Z
LAST-MODIFIED:20250224T192735Z
UID:10018879-1745402400-1745427600@www.ameliaisland.com
SUMMARY:"Lovely Looks at Nature" solo photography show
DESCRIPTION:Donna Lovely’s nature photos from our region and beyond are on display at the Story & Song Center for Arts & Culture now through April 30.
URL:https://www.ameliaisland.com/activity/lovely-looks-at-nature-solo-photography-show/2025-04-23/
LOCATION:Story & Song Centre for Arts and Culture\, 1430 Park Avenue\, Fernandina Beach\, FL\, 32034
ATTACH;FMTTYPE=image/jpeg:https://www.ameliaisland.com/wp-content/uploads/Dancing-Waves_5294©DonnaLovelyPhotos.com-wmk-.jpg
END:VEVENT
BEGIN:VEVENT
DTSTART;TZID=America/New_York:20250422T100000
DTEND;TZID=America/New_York:20250422T170000
DTSTAMP:20260424T102908
CREATED:20250224T192735Z
LAST-MODIFIED:20250224T192735Z
UID:10018878-1745316000-1745341200@www.ameliaisland.com
SUMMARY:"Lovely Looks at Nature" solo photography show
DESCRIPTION:Donna Lovely’s nature photos from our region and beyond are on display at the Story & Song Center for Arts & Culture now through April 30.
URL:https://www.ameliaisland.com/activity/lovely-looks-at-nature-solo-photography-show/2025-04-22/
LOCATION:Story & Song Centre for Arts and Culture\, 1430 Park Avenue\, Fernandina Beach\, FL\, 32034
ATTACH;FMTTYPE=image/jpeg:https://www.ameliaisland.com/wp-content/uploads/Dancing-Waves_5294©DonnaLovelyPhotos.com-wmk-.jpg
END:VEVENT
BEGIN:VEVENT
DTSTART;TZID=America/New_York:20250421T100000
DTEND;TZID=America/New_York:20250421T170000
DTSTAMP:20260424T102908
CREATED:20250224T192735Z
LAST-MODIFIED:20250224T192735Z
UID:10018877-1745229600-1745254800@www.ameliaisland.com
SUMMARY:"Lovely Looks at Nature" solo photography show
DESCRIPTION:Donna Lovely’s nature photos from our region and beyond are on display at the Story & Song Center for Arts & Culture now through April 30.
URL:https://www.ameliaisland.com/activity/lovely-looks-at-nature-solo-photography-show/2025-04-21/
LOCATION:Story & Song Centre for Arts and Culture\, 1430 Park Avenue\, Fernandina Beach\, FL\, 32034
ATTACH;FMTTYPE=image/jpeg:https://www.ameliaisland.com/wp-content/uploads/Dancing-Waves_5294©DonnaLovelyPhotos.com-wmk-.jpg
END:VEVENT
BEGIN:VEVENT
DTSTART;TZID=America/New_York:20250421T100000
DTEND;TZID=America/New_York:20250421T113000
DTSTAMP:20260424T102908
CREATED:20240611T235616Z
LAST-MODIFIED:20240611T235616Z
UID:10009864-1745229600-1745235000@www.ameliaisland.com
SUMMARY:Welcome Coffee with Women of Nassau
DESCRIPTION:New to Fernandina? Want to get involved in the community? \nAll women\, including new and current members\, are invited to join the Women of Nassau’s monthly coffee get-together at Story & Song. \nThis event is FREE with light refreshments. No RSVP needed. (3rd Monday of every month)
URL:https://www.ameliaisland.com/activity/welcome-coffee-with-women-of-nassau/2025-04-21/
LOCATION:Story & Song Centre for Arts and Culture\, 1430 Park Avenue\, Fernandina Beach\, FL\, 32034
ATTACH;FMTTYPE=image/jpeg:https://www.ameliaisland.com/wp-content/uploads/Women-of-Nassau-Story-Song.jpg
END:VEVENT
BEGIN:VEVENT
DTSTART;TZID=America/New_York:20250420T100000
DTEND;TZID=America/New_York:20250420T170000
DTSTAMP:20260424T102908
CREATED:20250224T192735Z
LAST-MODIFIED:20250224T192735Z
UID:10018876-1745143200-1745168400@www.ameliaisland.com
SUMMARY:"Lovely Looks at Nature" solo photography show
DESCRIPTION:Donna Lovely’s nature photos from our region and beyond are on display at the Story & Song Center for Arts & Culture now through April 30.
URL:https://www.ameliaisland.com/activity/lovely-looks-at-nature-solo-photography-show/2025-04-20/
LOCATION:Story & Song Centre for Arts and Culture\, 1430 Park Avenue\, Fernandina Beach\, FL\, 32034
ATTACH;FMTTYPE=image/jpeg:https://www.ameliaisland.com/wp-content/uploads/Dancing-Waves_5294©DonnaLovelyPhotos.com-wmk-.jpg
END:VEVENT
BEGIN:VEVENT
DTSTART;TZID=America/New_York:20250419T170000
DTEND;TZID=America/New_York:20250419T190000
DTSTAMP:20260424T102908
CREATED:20250326T195018Z
LAST-MODIFIED:20250326T195018Z
UID:10021508-1745082000-1745089200@www.ameliaisland.com
SUMMARY:“An Evening of Story & Song” with Ben Bedford & Vanessa Lively
DESCRIPTION:Join us for a captivating night of music and storytelling! Named one of the 50 most significant folk singer-songwriters of the past 50 years\, Ben Bedford brings his vivid\, original songs to life—both through music and visual art. Sharing the stage is the talented Vanessa Lively\, making this an unforgettable evening of artistry and song. \nCash bar available \nReserve your seat now and don’t miss this extraordinary musical experience!
URL:https://www.ameliaisland.com/activity/an-evening-of-story-song-with-ben-bedford-vanessa-lively/
LOCATION:Story & Song Centre for Arts and Culture\, 1430 Park Avenue\, Fernandina Beach\, FL\, 32034
ATTACH;FMTTYPE=image/jpeg:https://www.ameliaisland.com/wp-content/uploads/Story-Song-Ben-Bedford-Vanessa-Lively-v1.jpg
END:VEVENT
BEGIN:VEVENT
DTSTART;TZID=America/New_York:20250419T103000
DTEND;TZID=America/New_York:20250419T113000
DTSTAMP:20260424T102908
CREATED:20240530T003130Z
LAST-MODIFIED:20240530T003130Z
UID:10009381-1745058600-1745062200@www.ameliaisland.com
SUMMARY:StoryTime with Ms. Dearsha
DESCRIPTION:Join us at the store for a magical StoryTime with Ms. Dearsha\, our beloved and very talented Director of Children’s Merchandise and Programming! \nStoryTime is every Saturday at 10:30 am in the store. No RSVP needed. Just come on in! \nDive into fantastical worlds\, meet dynamic characters\, and let your imagination soar! We can’t wait to see you!
URL:https://www.ameliaisland.com/activity/storytime-with-ms-dearsha/2025-04-19/
LOCATION:Story & Song Centre for Arts and Culture\, 1430 Park Avenue\, Fernandina Beach\, FL\, 32034
ATTACH;FMTTYPE=image/jpeg:https://www.ameliaisland.com/wp-content/uploads/Story-Song-family-books-shops.jpeg
END:VEVENT
BEGIN:VEVENT
DTSTART;TZID=America/New_York:20250419T100000
DTEND;TZID=America/New_York:20250419T170000
DTSTAMP:20260424T102908
CREATED:20250224T192735Z
LAST-MODIFIED:20250224T192735Z
UID:10018875-1745056800-1745082000@www.ameliaisland.com
SUMMARY:"Lovely Looks at Nature" solo photography show
DESCRIPTION:Donna Lovely’s nature photos from our region and beyond are on display at the Story & Song Center for Arts & Culture now through April 30.
URL:https://www.ameliaisland.com/activity/lovely-looks-at-nature-solo-photography-show/2025-04-19/
LOCATION:Story & Song Centre for Arts and Culture\, 1430 Park Avenue\, Fernandina Beach\, FL\, 32034
ATTACH;FMTTYPE=image/jpeg:https://www.ameliaisland.com/wp-content/uploads/Dancing-Waves_5294©DonnaLovelyPhotos.com-wmk-.jpg
END:VEVENT
BEGIN:VEVENT
DTSTART;TZID=America/New_York:20250418T153000
DTEND;TZID=America/New_York:20250418T163000
DTSTAMP:20260424T102908
CREATED:20250326T200104Z
LAST-MODIFIED:20250326T200104Z
UID:10021569-1744990200-1744993800@www.ameliaisland.com
SUMMARY:Spring Wings Workshop with Susan Dahl
DESCRIPTION:Kids! Celebrate Earth Day with Creativity! \nJoin us for a fun\, hands-on workshop where children craft whimsical birds from found and recycled materials! \nClass size is limited to 12 – RSVP required! \nReserve your seat today! \nSponsored by The Story & Song Foundation \nLet’s turn everyday objects into imaginative works of art!
URL:https://www.ameliaisland.com/activity/spring-wings-workshop-with-susan-dahl/
LOCATION:Story & Song Centre for Arts and Culture\, 1430 Park Avenue\, Fernandina Beach\, FL\, 32034
ATTACH;FMTTYPE=image/jpeg:https://www.ameliaisland.com/wp-content/uploads/Story-Song-Spring-Wings-Workshop-v1.jpg
END:VEVENT
BEGIN:VEVENT
DTSTART;TZID=America/New_York:20250418T100000
DTEND;TZID=America/New_York:20250418T170000
DTSTAMP:20260424T102908
CREATED:20250224T192735Z
LAST-MODIFIED:20250224T192735Z
UID:10018874-1744970400-1744995600@www.ameliaisland.com
SUMMARY:"Lovely Looks at Nature" solo photography show
DESCRIPTION:Donna Lovely’s nature photos from our region and beyond are on display at the Story & Song Center for Arts & Culture now through April 30.
URL:https://www.ameliaisland.com/activity/lovely-looks-at-nature-solo-photography-show/2025-04-18/
LOCATION:Story & Song Centre for Arts and Culture\, 1430 Park Avenue\, Fernandina Beach\, FL\, 32034
ATTACH;FMTTYPE=image/jpeg:https://www.ameliaisland.com/wp-content/uploads/Dancing-Waves_5294©DonnaLovelyPhotos.com-wmk-.jpg
END:VEVENT
BEGIN:VEVENT
DTSTART;TZID=America/New_York:20250417T100000
DTEND;TZID=America/New_York:20250417T170000
DTSTAMP:20260424T102908
CREATED:20250224T192735Z
LAST-MODIFIED:20250224T192735Z
UID:10018873-1744884000-1744909200@www.ameliaisland.com
SUMMARY:"Lovely Looks at Nature" solo photography show
DESCRIPTION:Donna Lovely’s nature photos from our region and beyond are on display at the Story & Song Center for Arts & Culture now through April 30.
URL:https://www.ameliaisland.com/activity/lovely-looks-at-nature-solo-photography-show/2025-04-17/
LOCATION:Story & Song Centre for Arts and Culture\, 1430 Park Avenue\, Fernandina Beach\, FL\, 32034
ATTACH;FMTTYPE=image/jpeg:https://www.ameliaisland.com/wp-content/uploads/Dancing-Waves_5294©DonnaLovelyPhotos.com-wmk-.jpg
END:VEVENT
BEGIN:VEVENT
DTSTART;TZID=America/New_York:20250416T170000
DTEND;TZID=America/New_York:20250416T190000
DTSTAMP:20260424T102908
CREATED:20240611T235936Z
LAST-MODIFIED:20240611T235936Z
UID:10009924-1744822800-1744830000@www.ameliaisland.com
SUMMARY:Cinema & Conversation
DESCRIPTION:On the 3rd Wednesday of the month\, join us to watch a film chosen for its meaningful theme\, and stay for a facilitated discussion after. \nFree and open to all.
URL:https://www.ameliaisland.com/activity/cinema-conversation/2025-04-16/
LOCATION:Story & Song Centre for Arts and Culture\, 1430 Park Avenue\, Fernandina Beach\, FL\, 32034
ATTACH;FMTTYPE=image/jpeg:https://www.ameliaisland.com/wp-content/uploads/Cinema-Conversation-story-song.jpeg
END:VEVENT
BEGIN:VEVENT
DTSTART;TZID=America/New_York:20250416T100000
DTEND;TZID=America/New_York:20250416T170000
DTSTAMP:20260424T102908
CREATED:20250224T192735Z
LAST-MODIFIED:20250224T192735Z
UID:10018872-1744797600-1744822800@www.ameliaisland.com
SUMMARY:"Lovely Looks at Nature" solo photography show
DESCRIPTION:Donna Lovely’s nature photos from our region and beyond are on display at the Story & Song Center for Arts & Culture now through April 30.
URL:https://www.ameliaisland.com/activity/lovely-looks-at-nature-solo-photography-show/2025-04-16/
LOCATION:Story & Song Centre for Arts and Culture\, 1430 Park Avenue\, Fernandina Beach\, FL\, 32034
ATTACH;FMTTYPE=image/jpeg:https://www.ameliaisland.com/wp-content/uploads/Dancing-Waves_5294©DonnaLovelyPhotos.com-wmk-.jpg
END:VEVENT
BEGIN:VEVENT
DTSTART;TZID=America/New_York:20250415T153000
DTEND;TZID=America/New_York:20250415T163000
DTSTAMP:20260424T102908
CREATED:20240605T200210Z
LAST-MODIFIED:20240605T200210Z
UID:10009794-1744731000-1744734600@www.ameliaisland.com
SUMMARY:Poetry Canteen
DESCRIPTION:Join us the 3rd Tuesday of each month for Amelia Island’s Poet Laureate Nola Perez and friends as they gather to share their love of poetry\, reading their own works or favorites of others. There will be a five-minute “open mic” format to read your work! \nSee you there!
URL:https://www.ameliaisland.com/activity/poetry-canteen/2025-04-15/
LOCATION:Story & Song Centre for Arts and Culture\, 1430 Park Avenue\, Fernandina Beach\, FL\, 32034
ATTACH;FMTTYPE=image/jpeg:https://www.ameliaisland.com/wp-content/uploads/Story-Song-Poetry-Canteen.jpg
END:VEVENT
END:VCALENDAR