BEGIN:VCALENDAR
VERSION:2.0
PRODID:-//Amelia Island - ECPv6.8.0//NONSGML v1.0//EN
CALSCALE:GREGORIAN
METHOD:PUBLISH
X-WR-CALNAME:Amelia Island
X-ORIGINAL-URL:https://www.ameliaisland.com
X-WR-CALDESC:Events for Amelia Island
REFRESH-INTERVAL;VALUE=DURATION:PT1H
X-Robots-Tag:noindex
X-PUBLISHED-TTL:PT1H
BEGIN:VTIMEZONE
TZID:America/New_York
BEGIN:DAYLIGHT
TZOFFSETFROM:-0500
TZOFFSETTO:-0400
TZNAME:EDT
DTSTART:20230312T070000
END:DAYLIGHT
BEGIN:STANDARD
TZOFFSETFROM:-0400
TZOFFSETTO:-0500
TZNAME:EST
DTSTART:20231105T060000
END:STANDARD
BEGIN:DAYLIGHT
TZOFFSETFROM:-0500
TZOFFSETTO:-0400
TZNAME:EDT
DTSTART:20240310T070000
END:DAYLIGHT
BEGIN:STANDARD
TZOFFSETFROM:-0400
TZOFFSETTO:-0500
TZNAME:EST
DTSTART:20241103T060000
END:STANDARD
BEGIN:DAYLIGHT
TZOFFSETFROM:-0500
TZOFFSETTO:-0400
TZNAME:EDT
DTSTART:20250309T070000
END:DAYLIGHT
BEGIN:STANDARD
TZOFFSETFROM:-0400
TZOFFSETTO:-0500
TZNAME:EST
DTSTART:20251102T060000
END:STANDARD
END:VTIMEZONE
BEGIN:VEVENT
DTSTART;TZID=America/New_York:20250211T190000
DTEND;TZID=America/New_York:20250211T210000
DTSTAMP:20260424T082936
CREATED:20241030T195439Z
LAST-MODIFIED:20241113T172848Z
UID:10016201-1739300400-1739307600@www.ameliaisland.com
SUMMARY:Takács String Quartet: Masterclass Afternoon - Chamber Music Festival
DESCRIPTION:The Takács Quartet\, widely regarded as one of the world’s great quartets\, celebrate their 50th Anniversary season in 2024-2025; the Quartet are critically acclaimed around the world for their virtuosic performances\, ingenious programming and unsurpassed recordings. On the brink of this major milestone\, the Takács Quartet is generating excitement and looking toward the future\, with a steady stream of new partnerships\, commissions and recordings as well as an ambitious performance schedule.  \nThis season\, they will perform more than 40 concerts in North America (including Aspen\, New York\, Vancouver\, Philadelphia\, Washington DC\, La Jolla\, Berkeley and Portland\, OR\, among others); embark on two European tours\, including Wigmore Hall\, where they are Associate Artists; appear at the Edinburgh Festival; and conduct tours in Asia and Australia. The Takács’ 50th Anniversary will be celebrated in detail in an October cover story in The Strad.
URL:https://www.ameliaisland.com/activity/takacs-string-quartet-masterclass-afternoon/
LOCATION:St. Peter’s Episcopal Church\, 801 Atlantic Avenue\, Fernandina Beach\, FL\, 32034\, United States
ATTACH;FMTTYPE=image/jpeg:https://www.ameliaisland.com/wp-content/uploads/04_TQ-CasualHeadshot_Credit_Amanda_Tipton.jpeg
END:VEVENT
BEGIN:VEVENT
DTSTART;TZID=America/New_York:20231208T170000
DTEND;TZID=America/New_York:20231208T190000
DTSTAMP:20260424T082936
CREATED:20240306T174457Z
LAST-MODIFIED:20240306T174531Z
UID:10003942-1702054800-1702062000@www.ameliaisland.com
SUMMARY:Victorian Evensong - St Peter's Episcopal Church
DESCRIPTION:The church will be festively decorated and the service will include Christmas carols and organ music from the days of Charles Dickens. \nFeatured will be the church’s Chancel Choir\, the children of the St. Peter’s Choir School and the church’s organ\, which was built in 1893 in the style of English instruments of the time and carefully maintained by the parishioners of St. Peter’s Church.
URL:https://www.ameliaisland.com/activity/victorian-evensong-st-peters-episcopal-church/
LOCATION:St. Peter’s Episcopal Church\, 801 Atlantic Avenue\, Fernandina Beach\, FL\, 32034\, United States
END:VEVENT
END:VCALENDAR