BEGIN:VCALENDAR
VERSION:2.0
PRODID:-//Amelia Island - ECPv6.8.0//NONSGML v1.0//EN
CALSCALE:GREGORIAN
METHOD:PUBLISH
X-ORIGINAL-URL:https://www.ameliaisland.com
X-WR-CALDESC:Events for Amelia Island
REFRESH-INTERVAL;VALUE=DURATION:PT1H
X-Robots-Tag:noindex
X-PUBLISHED-TTL:PT1H
BEGIN:VTIMEZONE
TZID:America/New_York
BEGIN:DAYLIGHT
TZOFFSETFROM:-0500
TZOFFSETTO:-0400
TZNAME:EDT
DTSTART:20250309T070000
END:DAYLIGHT
BEGIN:STANDARD
TZOFFSETFROM:-0400
TZOFFSETTO:-0500
TZNAME:EST
DTSTART:20251102T060000
END:STANDARD
END:VTIMEZONE
BEGIN:VEVENT
DTSTART;TZID=America/New_York:20251220T120000
DTEND;TZID=America/New_York:20251220T133000
DTSTAMP:20260420T122538
CREATED:20250903T171231Z
LAST-MODIFIED:20250903T171231Z
UID:10025987-1766232000-1766237400@www.ameliaisland.com
SUMMARY:Santa's Storybook Tea
DESCRIPTION:Celebrate the season with a storybook reading by Santa and afternoon tea in a magical space adorned with holiday décor and gingerbread creations. A buffet of pastries\, candies\, cakes\, finger sandwiches\, and a keepsake photo with Santa Claus are sure to delight the entire family.
URL:https://www.ameliaisland.com/activity/santas-storybook-tea-2/2025-12-20/
LOCATION:Salt Restaurant\, 4750 Amelia Island Parkway\, Fernandina Beach\, 32034\, United States
ATTACH;FMTTYPE=image/jpeg:https://www.ameliaisland.com/wp-content/uploads/Storybook-Tea-with-Santa-Ritz-Carlton-AI.jpeg
END:VEVENT
BEGIN:VEVENT
DTSTART;TZID=America/New_York:20251213T120000
DTEND;TZID=America/New_York:20251213T133000
DTSTAMP:20260420T122538
CREATED:20250903T171231Z
LAST-MODIFIED:20250903T171231Z
UID:10025986-1765627200-1765632600@www.ameliaisland.com
SUMMARY:Santa's Storybook Tea
DESCRIPTION:Celebrate the season with a storybook reading by Santa and afternoon tea in a magical space adorned with holiday décor and gingerbread creations. A buffet of pastries\, candies\, cakes\, finger sandwiches\, and a keepsake photo with Santa Claus are sure to delight the entire family.
URL:https://www.ameliaisland.com/activity/santas-storybook-tea-2/2025-12-13/
LOCATION:Salt Restaurant\, 4750 Amelia Island Parkway\, Fernandina Beach\, 32034\, United States
ATTACH;FMTTYPE=image/jpeg:https://www.ameliaisland.com/wp-content/uploads/Storybook-Tea-with-Santa-Ritz-Carlton-AI.jpeg
END:VEVENT
BEGIN:VEVENT
DTSTART;TZID=America/New_York:20251206T120000
DTEND;TZID=America/New_York:20251206T133000
DTSTAMP:20260420T122538
CREATED:20250903T171231Z
LAST-MODIFIED:20250903T171231Z
UID:10025985-1765022400-1765027800@www.ameliaisland.com
SUMMARY:Santa's Storybook Tea
DESCRIPTION:Celebrate the season with a storybook reading by Santa and afternoon tea in a magical space adorned with holiday décor and gingerbread creations. A buffet of pastries\, candies\, cakes\, finger sandwiches\, and a keepsake photo with Santa Claus are sure to delight the entire family.
URL:https://www.ameliaisland.com/activity/santas-storybook-tea-2/2025-12-06/
LOCATION:Salt Restaurant\, 4750 Amelia Island Parkway\, Fernandina Beach\, 32034\, United States
ATTACH;FMTTYPE=image/jpeg:https://www.ameliaisland.com/wp-content/uploads/Storybook-Tea-with-Santa-Ritz-Carlton-AI.jpeg
END:VEVENT
BEGIN:VEVENT
DTSTART;TZID=America/New_York:20250419T100000
DTEND;TZID=America/New_York:20250419T120000
DTSTAMP:20260420T122538
CREATED:20250312T134908Z
LAST-MODIFIED:20250312T134908Z
UID:10019047-1745056800-1745064000@www.ameliaisland.com
SUMMARY:Cottontail Tea Party
DESCRIPTION:On Saturday April 19\, this charming tradition presents the Easter Bunny and the Springtime Fairy at a magical tea at Salt Restaurant. \nScrumptious petite sandwiches and sweets including scones\, crème brulee\, cheesecake\, mousse and more. Includes a photo with the Easter bunny!
URL:https://www.ameliaisland.com/activity/cottontail-tea-party-2/
LOCATION:Salt Restaurant\, 4750 Amelia Island Parkway\, Fernandina Beach\, 32034\, United States
ATTACH;FMTTYPE=image/jpeg:https://www.ameliaisland.com/wp-content/uploads/Ritz-Carlton-Amelia-Island-Easter-Cottontail-Tea-Party-.jpeg
END:VEVENT
BEGIN:VEVENT
DTSTART;TZID=America/New_York:20250126T180000
DTEND;TZID=America/New_York:20250126T210000
DTSTAMP:20260420T122538
CREATED:20240306T173911Z
LAST-MODIFIED:20250113T163633Z
UID:10006556-1737914400-1737925200@www.ameliaisland.com
SUMMARY:Restaurant Week Closing Dinner
DESCRIPTION:Finish up an amazing Restaurant Week with a fabulous evening of taste at the Lowcountry Meets Florida Closing Dinner at The Ritz Carlton\, Amelia Island. \nBe among the first diners to enjoy the ambiance of Salt’s new dining room and lounge experience! \nMenu: New Era Dinner is a decadent three-course menu from Chef Okan.
URL:https://www.ameliaisland.com/activity/__trashed/
LOCATION:Salt Restaurant\, 4750 Amelia Island Parkway\, Fernandina Beach\, 32034\, United States
ATTACH;FMTTYPE=image/jpeg:https://www.ameliaisland.com/wp-content/uploads/RCAI_RWclosing1.jpg
END:VEVENT
END:VCALENDAR