BEGIN:VCALENDAR
VERSION:2.0
PRODID:-//Amelia Island - ECPv6.8.0//NONSGML v1.0//EN
CALSCALE:GREGORIAN
METHOD:PUBLISH
X-WR-CALNAME:Amelia Island
X-ORIGINAL-URL:https://www.ameliaisland.com
X-WR-CALDESC:Events for Amelia Island
REFRESH-INTERVAL;VALUE=DURATION:PT1H
X-Robots-Tag:noindex
X-PUBLISHED-TTL:PT1H
BEGIN:VTIMEZONE
TZID:America/New_York
BEGIN:DAYLIGHT
TZOFFSETFROM:-0500
TZOFFSETTO:-0400
TZNAME:EDT
DTSTART:20290311T070000
END:DAYLIGHT
BEGIN:STANDARD
TZOFFSETFROM:-0400
TZOFFSETTO:-0500
TZNAME:EST
DTSTART:20291104T060000
END:STANDARD
BEGIN:DAYLIGHT
TZOFFSETFROM:-0500
TZOFFSETTO:-0400
TZNAME:EDT
DTSTART:20300310T070000
END:DAYLIGHT
BEGIN:STANDARD
TZOFFSETFROM:-0400
TZOFFSETTO:-0500
TZNAME:EST
DTSTART:20301103T060000
END:STANDARD
END:VTIMEZONE
BEGIN:VEVENT
DTSTART;TZID=America/New_York:20291107T180000
DTEND;TZID=America/New_York:20291107T190000
DTSTAMP:20260422T061435
CREATED:20250409T142114Z
LAST-MODIFIED:20250409T142114Z
UID:10021692-1888768800-1888772400@www.ameliaisland.com
SUMMARY:Beer Yoga at PJD's
DESCRIPTION:Join Kim on the first and third Wednesday’s of every month at PJD’s for Beer Yoga!  \nBuild strength\, plus challenge your balance and drinking abilities in this fun class where we incorporate our beverage into our poses. Laughs are free!  \n$20 includes domestic beer or house wine\, no registration required.
URL:https://www.ameliaisland.com/activity/beer-yoga-at-pjds-2/2029-11-07/
LOCATION:PJD’s Beer and Wine Garden\, 12 South 2nd Street\, Fernandina Beach\, 32034\, United States
ATTACH;FMTTYPE=image/jpeg:https://www.ameliaisland.com/wp-content/uploads/PJDs-Beer-Yoga.jpeg
END:VEVENT
BEGIN:VEVENT
DTSTART;TZID=America/New_York:20291121T180000
DTEND;TZID=America/New_York:20291121T190000
DTSTAMP:20260422T061435
CREATED:20250409T141840Z
LAST-MODIFIED:20250409T141840Z
UID:10021633-1889978400-1889982000@www.ameliaisland.com
SUMMARY:Beer Yoga at PJD's
DESCRIPTION:Join Kim on the first and third Wednesday’s of every month at PJD’s for Beer Yoga!  \nBuild strength\, plus challenge your balance and drinking abilities in this fun class where we incorporate our beverage into our poses. Laughs are free!  \n$20 includes domestic beer or house wine\, no registration required.
URL:https://www.ameliaisland.com/activity/beer-yoga-at-pjds/2029-11-21/
LOCATION:PJD’s Beer and Wine Garden\, 12 South 2nd Street\, Fernandina Beach\, 32034\, United States
ATTACH;FMTTYPE=image/jpeg:https://www.ameliaisland.com/wp-content/uploads/PJDs-Beer-Yoga.jpeg
END:VEVENT
BEGIN:VEVENT
DTSTART;TZID=America/New_York:20291205T180000
DTEND;TZID=America/New_York:20291205T190000
DTSTAMP:20260422T061435
CREATED:20250409T142114Z
LAST-MODIFIED:20250409T142114Z
UID:10021693-1891188000-1891191600@www.ameliaisland.com
SUMMARY:Beer Yoga at PJD's
DESCRIPTION:Join Kim on the first and third Wednesday’s of every month at PJD’s for Beer Yoga!  \nBuild strength\, plus challenge your balance and drinking abilities in this fun class where we incorporate our beverage into our poses. Laughs are free!  \n$20 includes domestic beer or house wine\, no registration required.
URL:https://www.ameliaisland.com/activity/beer-yoga-at-pjds-2/2029-12-05/
LOCATION:PJD’s Beer and Wine Garden\, 12 South 2nd Street\, Fernandina Beach\, 32034\, United States
ATTACH;FMTTYPE=image/jpeg:https://www.ameliaisland.com/wp-content/uploads/PJDs-Beer-Yoga.jpeg
END:VEVENT
BEGIN:VEVENT
DTSTART;TZID=America/New_York:20291219T180000
DTEND;TZID=America/New_York:20291219T190000
DTSTAMP:20260422T061435
CREATED:20250409T141840Z
LAST-MODIFIED:20250409T141840Z
UID:10021634-1892397600-1892401200@www.ameliaisland.com
SUMMARY:Beer Yoga at PJD's
DESCRIPTION:Join Kim on the first and third Wednesday’s of every month at PJD’s for Beer Yoga!  \nBuild strength\, plus challenge your balance and drinking abilities in this fun class where we incorporate our beverage into our poses. Laughs are free!  \n$20 includes domestic beer or house wine\, no registration required.
URL:https://www.ameliaisland.com/activity/beer-yoga-at-pjds/2029-12-19/
LOCATION:PJD’s Beer and Wine Garden\, 12 South 2nd Street\, Fernandina Beach\, 32034\, United States
ATTACH;FMTTYPE=image/jpeg:https://www.ameliaisland.com/wp-content/uploads/PJDs-Beer-Yoga.jpeg
END:VEVENT
BEGIN:VEVENT
DTSTART;TZID=America/New_York:20300102T180000
DTEND;TZID=America/New_York:20300102T190000
DTSTAMP:20260422T061435
CREATED:20250409T142114Z
LAST-MODIFIED:20250409T142114Z
UID:10021694-1893607200-1893610800@www.ameliaisland.com
SUMMARY:Beer Yoga at PJD's
DESCRIPTION:Join Kim on the first and third Wednesday’s of every month at PJD’s for Beer Yoga!  \nBuild strength\, plus challenge your balance and drinking abilities in this fun class where we incorporate our beverage into our poses. Laughs are free!  \n$20 includes domestic beer or house wine\, no registration required.
URL:https://www.ameliaisland.com/activity/beer-yoga-at-pjds-2/2030-01-02/
LOCATION:PJD’s Beer and Wine Garden\, 12 South 2nd Street\, Fernandina Beach\, 32034\, United States
ATTACH;FMTTYPE=image/jpeg:https://www.ameliaisland.com/wp-content/uploads/PJDs-Beer-Yoga.jpeg
END:VEVENT
BEGIN:VEVENT
DTSTART;TZID=America/New_York:20300116T180000
DTEND;TZID=America/New_York:20300116T190000
DTSTAMP:20260422T061435
CREATED:20250409T141840Z
LAST-MODIFIED:20250409T141840Z
UID:10021635-1894816800-1894820400@www.ameliaisland.com
SUMMARY:Beer Yoga at PJD's
DESCRIPTION:Join Kim on the first and third Wednesday’s of every month at PJD’s for Beer Yoga!  \nBuild strength\, plus challenge your balance and drinking abilities in this fun class where we incorporate our beverage into our poses. Laughs are free!  \n$20 includes domestic beer or house wine\, no registration required.
URL:https://www.ameliaisland.com/activity/beer-yoga-at-pjds/2030-01-16/
LOCATION:PJD’s Beer and Wine Garden\, 12 South 2nd Street\, Fernandina Beach\, 32034\, United States
ATTACH;FMTTYPE=image/jpeg:https://www.ameliaisland.com/wp-content/uploads/PJDs-Beer-Yoga.jpeg
END:VEVENT
BEGIN:VEVENT
DTSTART;TZID=America/New_York:20300206T180000
DTEND;TZID=America/New_York:20300206T190000
DTSTAMP:20260422T061435
CREATED:20250409T142114Z
LAST-MODIFIED:20250409T142114Z
UID:10021695-1896631200-1896634800@www.ameliaisland.com
SUMMARY:Beer Yoga at PJD's
DESCRIPTION:Join Kim on the first and third Wednesday’s of every month at PJD’s for Beer Yoga!  \nBuild strength\, plus challenge your balance and drinking abilities in this fun class where we incorporate our beverage into our poses. Laughs are free!  \n$20 includes domestic beer or house wine\, no registration required.
URL:https://www.ameliaisland.com/activity/beer-yoga-at-pjds-2/2030-02-06/
LOCATION:PJD’s Beer and Wine Garden\, 12 South 2nd Street\, Fernandina Beach\, 32034\, United States
ATTACH;FMTTYPE=image/jpeg:https://www.ameliaisland.com/wp-content/uploads/PJDs-Beer-Yoga.jpeg
END:VEVENT
BEGIN:VEVENT
DTSTART;TZID=America/New_York:20300220T180000
DTEND;TZID=America/New_York:20300220T190000
DTSTAMP:20260422T061435
CREATED:20250409T141840Z
LAST-MODIFIED:20250409T141840Z
UID:10021636-1897840800-1897844400@www.ameliaisland.com
SUMMARY:Beer Yoga at PJD's
DESCRIPTION:Join Kim on the first and third Wednesday’s of every month at PJD’s for Beer Yoga!  \nBuild strength\, plus challenge your balance and drinking abilities in this fun class where we incorporate our beverage into our poses. Laughs are free!  \n$20 includes domestic beer or house wine\, no registration required.
URL:https://www.ameliaisland.com/activity/beer-yoga-at-pjds/2030-02-20/
LOCATION:PJD’s Beer and Wine Garden\, 12 South 2nd Street\, Fernandina Beach\, 32034\, United States
ATTACH;FMTTYPE=image/jpeg:https://www.ameliaisland.com/wp-content/uploads/PJDs-Beer-Yoga.jpeg
END:VEVENT
BEGIN:VEVENT
DTSTART;TZID=America/New_York:20300306T180000
DTEND;TZID=America/New_York:20300306T190000
DTSTAMP:20260422T061435
CREATED:20250409T142114Z
LAST-MODIFIED:20250409T142114Z
UID:10021696-1899050400-1899054000@www.ameliaisland.com
SUMMARY:Beer Yoga at PJD's
DESCRIPTION:Join Kim on the first and third Wednesday’s of every month at PJD’s for Beer Yoga!  \nBuild strength\, plus challenge your balance and drinking abilities in this fun class where we incorporate our beverage into our poses. Laughs are free!  \n$20 includes domestic beer or house wine\, no registration required.
URL:https://www.ameliaisland.com/activity/beer-yoga-at-pjds-2/2030-03-06/
LOCATION:PJD’s Beer and Wine Garden\, 12 South 2nd Street\, Fernandina Beach\, 32034\, United States
ATTACH;FMTTYPE=image/jpeg:https://www.ameliaisland.com/wp-content/uploads/PJDs-Beer-Yoga.jpeg
END:VEVENT
BEGIN:VEVENT
DTSTART;TZID=America/New_York:20300320T180000
DTEND;TZID=America/New_York:20300320T190000
DTSTAMP:20260422T061435
CREATED:20250409T141840Z
LAST-MODIFIED:20250409T141840Z
UID:10021637-1900260000-1900263600@www.ameliaisland.com
SUMMARY:Beer Yoga at PJD's
DESCRIPTION:Join Kim on the first and third Wednesday’s of every month at PJD’s for Beer Yoga!  \nBuild strength\, plus challenge your balance and drinking abilities in this fun class where we incorporate our beverage into our poses. Laughs are free!  \n$20 includes domestic beer or house wine\, no registration required.
URL:https://www.ameliaisland.com/activity/beer-yoga-at-pjds/2030-03-20/
LOCATION:PJD’s Beer and Wine Garden\, 12 South 2nd Street\, Fernandina Beach\, 32034\, United States
ATTACH;FMTTYPE=image/jpeg:https://www.ameliaisland.com/wp-content/uploads/PJDs-Beer-Yoga.jpeg
END:VEVENT
BEGIN:VEVENT
DTSTART;TZID=America/New_York:20300403T180000
DTEND;TZID=America/New_York:20300403T190000
DTSTAMP:20260422T061435
CREATED:20250409T142114Z
LAST-MODIFIED:20250409T142114Z
UID:10021697-1901469600-1901473200@www.ameliaisland.com
SUMMARY:Beer Yoga at PJD's
DESCRIPTION:Join Kim on the first and third Wednesday’s of every month at PJD’s for Beer Yoga!  \nBuild strength\, plus challenge your balance and drinking abilities in this fun class where we incorporate our beverage into our poses. Laughs are free!  \n$20 includes domestic beer or house wine\, no registration required.
URL:https://www.ameliaisland.com/activity/beer-yoga-at-pjds-2/2030-04-03/
LOCATION:PJD’s Beer and Wine Garden\, 12 South 2nd Street\, Fernandina Beach\, 32034\, United States
ATTACH;FMTTYPE=image/jpeg:https://www.ameliaisland.com/wp-content/uploads/PJDs-Beer-Yoga.jpeg
END:VEVENT
END:VCALENDAR