BEGIN:VCALENDAR
VERSION:2.0
PRODID:-//Amelia Island - ECPv6.8.0//NONSGML v1.0//EN
CALSCALE:GREGORIAN
METHOD:PUBLISH
X-WR-CALNAME:Amelia Island
X-ORIGINAL-URL:https://www.ameliaisland.com
X-WR-CALDESC:Events for Amelia Island
REFRESH-INTERVAL;VALUE=DURATION:PT1H
X-Robots-Tag:noindex
X-PUBLISHED-TTL:PT1H
BEGIN:VTIMEZONE
TZID:America/New_York
BEGIN:DAYLIGHT
TZOFFSETFROM:-0500
TZOFFSETTO:-0400
TZNAME:EDT
DTSTART:20230312T070000
END:DAYLIGHT
BEGIN:STANDARD
TZOFFSETFROM:-0400
TZOFFSETTO:-0500
TZNAME:EST
DTSTART:20231105T060000
END:STANDARD
END:VTIMEZONE
BEGIN:VEVENT
DTSTART;TZID=America/New_York:20231209T093000
DTEND;TZID=America/New_York:20231209T123000
DTSTAMP:20260420T051946
CREATED:20240306T174503Z
LAST-MODIFIED:20240306T174535Z
UID:10003394-1702114200-1702125000@www.ameliaisland.com
SUMMARY:Parade of Paws from the Nassau Humane Society
DESCRIPTION:Watch the annual Parade of Paws on Saturday\, December 9 at 11:00 am with the Nassau Humane Society. Prizes awarded for Best Victorian\, Most Original\, and Looks Most Like Owner\, and top 3 overall. Prizes are provided by Redbones Dog Bakery and Willow Sky. Registration is $20 per animal\, with proceeds going to NHS. Look for more information in the Events section of NHS Facebook page.\n\nStaging\, check-in\, and onsite registration begins at 9:30 am.\n\nContact: Dionna Sowers | dsowers@nassauhumane.org | 904-321-0022
URL:https://www.ameliaisland.com/activity/parade-of-paws/
LOCATION:Parking lot at S 4th Street (between Ash St and Centre St)\, behind Amelia Tavern\, Fernandina Beach\, 32034\, United States
ATTACH;FMTTYPE=image/jpeg:https://www.ameliaisland.com/wp-content/uploads/NassauHumaneSocietyLogo.jpeg
END:VEVENT
END:VCALENDAR