BEGIN:VCALENDAR
VERSION:2.0
PRODID:-//Amelia Island - ECPv6.8.0//NONSGML v1.0//EN
CALSCALE:GREGORIAN
METHOD:PUBLISH
X-ORIGINAL-URL:https://www.ameliaisland.com
X-WR-CALDESC:Events for Amelia Island
REFRESH-INTERVAL;VALUE=DURATION:PT1H
X-Robots-Tag:noindex
X-PUBLISHED-TTL:PT1H
BEGIN:VTIMEZONE
TZID:America/New_York
BEGIN:DAYLIGHT
TZOFFSETFROM:-0500
TZOFFSETTO:-0400
TZNAME:EDT
DTSTART:20240310T070000
END:DAYLIGHT
BEGIN:STANDARD
TZOFFSETFROM:-0400
TZOFFSETTO:-0500
TZNAME:EST
DTSTART:20241103T060000
END:STANDARD
END:VTIMEZONE
BEGIN:VEVENT
DTSTART;TZID=America/New_York:20241231T180000
DTEND;TZID=America/New_York:20241231T210000
DTSTAMP:20260423T170841
CREATED:20241111T204828Z
LAST-MODIFIED:20241111T205242Z
UID:10017760-1735668000-1735678800@www.ameliaisland.com
SUMMARY:Okefenokee Swamp Park Annual Light Show
DESCRIPTION:Join us for the annual Holiday Light Celebration at Okefenokee Swamp Park including a holiday train ride\, hot cocoa\, smores and thousands of twinkling white lights! \nSanta’s Workshop will be on hand December 19 – 23 for pictures with Santa and crafts for kids (1 per child). \nHoliday fun for the whole family!
URL:https://www.ameliaisland.com/activity/okefenokee-swamp-park-annual-light-show-5/2024-12-31/
LOCATION:Okefenokee Swamp Park\, 5700 Okefenokee Swamp Park Rd\, Waycross\, GA\, 31503\, United States
ATTACH;FMTTYPE=image/jpeg:https://www.ameliaisland.com/wp-content/uploads/Okefenokee-Swamp-Holiday-Light-Show.jpeg
END:VEVENT
BEGIN:VEVENT
DTSTART;TZID=America/New_York:20241230T180000
DTEND;TZID=America/New_York:20241230T210000
DTSTAMP:20260423T170841
CREATED:20241111T204828Z
LAST-MODIFIED:20241111T205242Z
UID:10017759-1735581600-1735592400@www.ameliaisland.com
SUMMARY:Okefenokee Swamp Park Annual Light Show
DESCRIPTION:Join us for the annual Holiday Light Celebration at Okefenokee Swamp Park including a holiday train ride\, hot cocoa\, smores and thousands of twinkling white lights! \nSanta’s Workshop will be on hand December 19 – 23 for pictures with Santa and crafts for kids (1 per child). \nHoliday fun for the whole family!
URL:https://www.ameliaisland.com/activity/okefenokee-swamp-park-annual-light-show-5/2024-12-30/
LOCATION:Okefenokee Swamp Park\, 5700 Okefenokee Swamp Park Rd\, Waycross\, GA\, 31503\, United States
ATTACH;FMTTYPE=image/jpeg:https://www.ameliaisland.com/wp-content/uploads/Okefenokee-Swamp-Holiday-Light-Show.jpeg
END:VEVENT
BEGIN:VEVENT
DTSTART;TZID=America/New_York:20241229T180000
DTEND;TZID=America/New_York:20241229T210000
DTSTAMP:20260423T170841
CREATED:20241111T204828Z
LAST-MODIFIED:20241111T205242Z
UID:10017758-1735495200-1735506000@www.ameliaisland.com
SUMMARY:Okefenokee Swamp Park Annual Light Show
DESCRIPTION:Join us for the annual Holiday Light Celebration at Okefenokee Swamp Park including a holiday train ride\, hot cocoa\, smores and thousands of twinkling white lights! \nSanta’s Workshop will be on hand December 19 – 23 for pictures with Santa and crafts for kids (1 per child). \nHoliday fun for the whole family!
URL:https://www.ameliaisland.com/activity/okefenokee-swamp-park-annual-light-show-5/2024-12-29/
LOCATION:Okefenokee Swamp Park\, 5700 Okefenokee Swamp Park Rd\, Waycross\, GA\, 31503\, United States
ATTACH;FMTTYPE=image/jpeg:https://www.ameliaisland.com/wp-content/uploads/Okefenokee-Swamp-Holiday-Light-Show.jpeg
END:VEVENT
BEGIN:VEVENT
DTSTART;TZID=America/New_York:20241228T180000
DTEND;TZID=America/New_York:20241228T210000
DTSTAMP:20260423T170841
CREATED:20241111T204828Z
LAST-MODIFIED:20241111T205242Z
UID:10017757-1735408800-1735419600@www.ameliaisland.com
SUMMARY:Okefenokee Swamp Park Annual Light Show
DESCRIPTION:Join us for the annual Holiday Light Celebration at Okefenokee Swamp Park including a holiday train ride\, hot cocoa\, smores and thousands of twinkling white lights! \nSanta’s Workshop will be on hand December 19 – 23 for pictures with Santa and crafts for kids (1 per child). \nHoliday fun for the whole family!
URL:https://www.ameliaisland.com/activity/okefenokee-swamp-park-annual-light-show-5/2024-12-28/
LOCATION:Okefenokee Swamp Park\, 5700 Okefenokee Swamp Park Rd\, Waycross\, GA\, 31503\, United States
ATTACH;FMTTYPE=image/jpeg:https://www.ameliaisland.com/wp-content/uploads/Okefenokee-Swamp-Holiday-Light-Show.jpeg
END:VEVENT
BEGIN:VEVENT
DTSTART;TZID=America/New_York:20241227T180000
DTEND;TZID=America/New_York:20241227T210000
DTSTAMP:20260423T170841
CREATED:20241111T204828Z
LAST-MODIFIED:20241111T205242Z
UID:10017756-1735322400-1735333200@www.ameliaisland.com
SUMMARY:Okefenokee Swamp Park Annual Light Show
DESCRIPTION:Join us for the annual Holiday Light Celebration at Okefenokee Swamp Park including a holiday train ride\, hot cocoa\, smores and thousands of twinkling white lights! \nSanta’s Workshop will be on hand December 19 – 23 for pictures with Santa and crafts for kids (1 per child). \nHoliday fun for the whole family!
URL:https://www.ameliaisland.com/activity/okefenokee-swamp-park-annual-light-show-5/2024-12-27/
LOCATION:Okefenokee Swamp Park\, 5700 Okefenokee Swamp Park Rd\, Waycross\, GA\, 31503\, United States
ATTACH;FMTTYPE=image/jpeg:https://www.ameliaisland.com/wp-content/uploads/Okefenokee-Swamp-Holiday-Light-Show.jpeg
END:VEVENT
BEGIN:VEVENT
DTSTART;TZID=America/New_York:20241226T180000
DTEND;TZID=America/New_York:20241226T210000
DTSTAMP:20260423T170841
CREATED:20241111T204828Z
LAST-MODIFIED:20241111T205242Z
UID:10017755-1735236000-1735246800@www.ameliaisland.com
SUMMARY:Okefenokee Swamp Park Annual Light Show
DESCRIPTION:Join us for the annual Holiday Light Celebration at Okefenokee Swamp Park including a holiday train ride\, hot cocoa\, smores and thousands of twinkling white lights! \nSanta’s Workshop will be on hand December 19 – 23 for pictures with Santa and crafts for kids (1 per child). \nHoliday fun for the whole family!
URL:https://www.ameliaisland.com/activity/okefenokee-swamp-park-annual-light-show-5/2024-12-26/
LOCATION:Okefenokee Swamp Park\, 5700 Okefenokee Swamp Park Rd\, Waycross\, GA\, 31503\, United States
ATTACH;FMTTYPE=image/jpeg:https://www.ameliaisland.com/wp-content/uploads/Okefenokee-Swamp-Holiday-Light-Show.jpeg
END:VEVENT
BEGIN:VEVENT
DTSTART;TZID=America/New_York:20241223T180000
DTEND;TZID=America/New_York:20241223T210000
DTSTAMP:20260423T170841
CREATED:20241111T204618Z
LAST-MODIFIED:20241111T205748Z
UID:10017389-1734976800-1734987600@www.ameliaisland.com
SUMMARY:Okefenokee Swamp Park Annual Light Show
DESCRIPTION:Join us for the annual Holiday Light Celebration at Okefenokee Swamp Park including a holiday train ride\, hot cocoa\, smores and thousands of twinkling white lights! \nSanta’s Workshop will be on hand December 19 – 23 for pictures with Santa and crafts for kids (1 per child). \nHoliday fun for the whole family!
URL:https://www.ameliaisland.com/activity/okefenokee-swamp-park-annual-light-show-4/2024-12-23/
LOCATION:Okefenokee Swamp Park\, 5700 Okefenokee Swamp Park Rd\, Waycross\, GA\, 31503\, United States
ATTACH;FMTTYPE=image/jpeg:https://www.ameliaisland.com/wp-content/uploads/Okefenokee-Swamp-Holiday-Light-Show.jpeg
END:VEVENT
BEGIN:VEVENT
DTSTART;TZID=America/New_York:20241222T180000
DTEND;TZID=America/New_York:20241222T210000
DTSTAMP:20260423T170841
CREATED:20241111T204618Z
LAST-MODIFIED:20241111T205748Z
UID:10017388-1734890400-1734901200@www.ameliaisland.com
SUMMARY:Okefenokee Swamp Park Annual Light Show
DESCRIPTION:Join us for the annual Holiday Light Celebration at Okefenokee Swamp Park including a holiday train ride\, hot cocoa\, smores and thousands of twinkling white lights! \nSanta’s Workshop will be on hand December 19 – 23 for pictures with Santa and crafts for kids (1 per child). \nHoliday fun for the whole family!
URL:https://www.ameliaisland.com/activity/okefenokee-swamp-park-annual-light-show-4/2024-12-22/
LOCATION:Okefenokee Swamp Park\, 5700 Okefenokee Swamp Park Rd\, Waycross\, GA\, 31503\, United States
ATTACH;FMTTYPE=image/jpeg:https://www.ameliaisland.com/wp-content/uploads/Okefenokee-Swamp-Holiday-Light-Show.jpeg
END:VEVENT
BEGIN:VEVENT
DTSTART;TZID=America/New_York:20241221T180000
DTEND;TZID=America/New_York:20241221T210000
DTSTAMP:20260423T170841
CREATED:20241111T204618Z
LAST-MODIFIED:20241111T205748Z
UID:10017387-1734804000-1734814800@www.ameliaisland.com
SUMMARY:Okefenokee Swamp Park Annual Light Show
DESCRIPTION:Join us for the annual Holiday Light Celebration at Okefenokee Swamp Park including a holiday train ride\, hot cocoa\, smores and thousands of twinkling white lights! \nSanta’s Workshop will be on hand December 19 – 23 for pictures with Santa and crafts for kids (1 per child). \nHoliday fun for the whole family!
URL:https://www.ameliaisland.com/activity/okefenokee-swamp-park-annual-light-show-4/2024-12-21/
LOCATION:Okefenokee Swamp Park\, 5700 Okefenokee Swamp Park Rd\, Waycross\, GA\, 31503\, United States
ATTACH;FMTTYPE=image/jpeg:https://www.ameliaisland.com/wp-content/uploads/Okefenokee-Swamp-Holiday-Light-Show.jpeg
END:VEVENT
BEGIN:VEVENT
DTSTART;TZID=America/New_York:20241220T180000
DTEND;TZID=America/New_York:20241220T210000
DTSTAMP:20260423T170841
CREATED:20241111T204618Z
LAST-MODIFIED:20241111T205748Z
UID:10017386-1734717600-1734728400@www.ameliaisland.com
SUMMARY:Okefenokee Swamp Park Annual Light Show
DESCRIPTION:Join us for the annual Holiday Light Celebration at Okefenokee Swamp Park including a holiday train ride\, hot cocoa\, smores and thousands of twinkling white lights! \nSanta’s Workshop will be on hand December 19 – 23 for pictures with Santa and crafts for kids (1 per child). \nHoliday fun for the whole family!
URL:https://www.ameliaisland.com/activity/okefenokee-swamp-park-annual-light-show-4/2024-12-20/
LOCATION:Okefenokee Swamp Park\, 5700 Okefenokee Swamp Park Rd\, Waycross\, GA\, 31503\, United States
ATTACH;FMTTYPE=image/jpeg:https://www.ameliaisland.com/wp-content/uploads/Okefenokee-Swamp-Holiday-Light-Show.jpeg
END:VEVENT
BEGIN:VEVENT
DTSTART;TZID=America/New_York:20241219T180000
DTEND;TZID=America/New_York:20241219T210000
DTSTAMP:20260423T170841
CREATED:20241111T204618Z
LAST-MODIFIED:20241111T205748Z
UID:10017385-1734631200-1734642000@www.ameliaisland.com
SUMMARY:Okefenokee Swamp Park Annual Light Show
DESCRIPTION:Join us for the annual Holiday Light Celebration at Okefenokee Swamp Park including a holiday train ride\, hot cocoa\, smores and thousands of twinkling white lights! \nSanta’s Workshop will be on hand December 19 – 23 for pictures with Santa and crafts for kids (1 per child). \nHoliday fun for the whole family!
URL:https://www.ameliaisland.com/activity/okefenokee-swamp-park-annual-light-show-4/2024-12-19/
LOCATION:Okefenokee Swamp Park\, 5700 Okefenokee Swamp Park Rd\, Waycross\, GA\, 31503\, United States
ATTACH;FMTTYPE=image/jpeg:https://www.ameliaisland.com/wp-content/uploads/Okefenokee-Swamp-Holiday-Light-Show.jpeg
END:VEVENT
BEGIN:VEVENT
DTSTART;TZID=America/New_York:20241218T180000
DTEND;TZID=America/New_York:20241218T210000
DTSTAMP:20260423T170841
CREATED:20241111T204618Z
LAST-MODIFIED:20241111T205748Z
UID:10017384-1734544800-1734555600@www.ameliaisland.com
SUMMARY:Okefenokee Swamp Park Annual Light Show
DESCRIPTION:Join us for the annual Holiday Light Celebration at Okefenokee Swamp Park including a holiday train ride\, hot cocoa\, smores and thousands of twinkling white lights! \nSanta’s Workshop will be on hand December 19 – 23 for pictures with Santa and crafts for kids (1 per child). \nHoliday fun for the whole family!
URL:https://www.ameliaisland.com/activity/okefenokee-swamp-park-annual-light-show-4/2024-12-18/
LOCATION:Okefenokee Swamp Park\, 5700 Okefenokee Swamp Park Rd\, Waycross\, GA\, 31503\, United States
ATTACH;FMTTYPE=image/jpeg:https://www.ameliaisland.com/wp-content/uploads/Okefenokee-Swamp-Holiday-Light-Show.jpeg
END:VEVENT
BEGIN:VEVENT
DTSTART;TZID=America/New_York:20241215T180000
DTEND;TZID=America/New_York:20241215T210000
DTSTAMP:20260423T170841
CREATED:20241111T204349Z
LAST-MODIFIED:20241111T205655Z
UID:10017018-1734285600-1734296400@www.ameliaisland.com
SUMMARY:Okefenokee Swamp Park Annual Light Show
DESCRIPTION:Join us for the annual Holiday Light Celebration at Okefenokee Swamp Park including a holiday train ride\, hot cocoa\, smores and thousands of twinkling white lights! \nSanta’s Workshop will be on hand December 19 – 23 for pictures with Santa and crafts for kids (1 per child). \nHoliday fun for the whole family!
URL:https://www.ameliaisland.com/activity/okefenokee-swamp-park-annual-light-show-3/2024-12-15/
LOCATION:Okefenokee Swamp Park\, 5700 Okefenokee Swamp Park Rd\, Waycross\, GA\, 31503\, United States
ATTACH;FMTTYPE=image/jpeg:https://www.ameliaisland.com/wp-content/uploads/Okefenokee-Swamp-Holiday-Light-Show.jpeg
END:VEVENT
BEGIN:VEVENT
DTSTART;TZID=America/New_York:20241214T180000
DTEND;TZID=America/New_York:20241214T210000
DTSTAMP:20260423T170841
CREATED:20241111T204349Z
LAST-MODIFIED:20241111T205655Z
UID:10017017-1734199200-1734210000@www.ameliaisland.com
SUMMARY:Okefenokee Swamp Park Annual Light Show
DESCRIPTION:Join us for the annual Holiday Light Celebration at Okefenokee Swamp Park including a holiday train ride\, hot cocoa\, smores and thousands of twinkling white lights! \nSanta’s Workshop will be on hand December 19 – 23 for pictures with Santa and crafts for kids (1 per child). \nHoliday fun for the whole family!
URL:https://www.ameliaisland.com/activity/okefenokee-swamp-park-annual-light-show-3/2024-12-14/
LOCATION:Okefenokee Swamp Park\, 5700 Okefenokee Swamp Park Rd\, Waycross\, GA\, 31503\, United States
ATTACH;FMTTYPE=image/jpeg:https://www.ameliaisland.com/wp-content/uploads/Okefenokee-Swamp-Holiday-Light-Show.jpeg
END:VEVENT
BEGIN:VEVENT
DTSTART;TZID=America/New_York:20241213T180000
DTEND;TZID=America/New_York:20241213T210000
DTSTAMP:20260423T170841
CREATED:20241111T204349Z
LAST-MODIFIED:20241111T205655Z
UID:10017016-1734112800-1734123600@www.ameliaisland.com
SUMMARY:Okefenokee Swamp Park Annual Light Show
DESCRIPTION:Join us for the annual Holiday Light Celebration at Okefenokee Swamp Park including a holiday train ride\, hot cocoa\, smores and thousands of twinkling white lights! \nSanta’s Workshop will be on hand December 19 – 23 for pictures with Santa and crafts for kids (1 per child). \nHoliday fun for the whole family!
URL:https://www.ameliaisland.com/activity/okefenokee-swamp-park-annual-light-show-3/2024-12-13/
LOCATION:Okefenokee Swamp Park\, 5700 Okefenokee Swamp Park Rd\, Waycross\, GA\, 31503\, United States
ATTACH;FMTTYPE=image/jpeg:https://www.ameliaisland.com/wp-content/uploads/Okefenokee-Swamp-Holiday-Light-Show.jpeg
END:VEVENT
BEGIN:VEVENT
DTSTART;TZID=America/New_York:20241212T180000
DTEND;TZID=America/New_York:20241212T210000
DTSTAMP:20260423T170841
CREATED:20241111T204349Z
LAST-MODIFIED:20241111T205655Z
UID:10017015-1734026400-1734037200@www.ameliaisland.com
SUMMARY:Okefenokee Swamp Park Annual Light Show
DESCRIPTION:Join us for the annual Holiday Light Celebration at Okefenokee Swamp Park including a holiday train ride\, hot cocoa\, smores and thousands of twinkling white lights! \nSanta’s Workshop will be on hand December 19 – 23 for pictures with Santa and crafts for kids (1 per child). \nHoliday fun for the whole family!
URL:https://www.ameliaisland.com/activity/okefenokee-swamp-park-annual-light-show-3/2024-12-12/
LOCATION:Okefenokee Swamp Park\, 5700 Okefenokee Swamp Park Rd\, Waycross\, GA\, 31503\, United States
ATTACH;FMTTYPE=image/jpeg:https://www.ameliaisland.com/wp-content/uploads/Okefenokee-Swamp-Holiday-Light-Show.jpeg
END:VEVENT
BEGIN:VEVENT
DTSTART;TZID=America/New_York:20241211T180000
DTEND;TZID=America/New_York:20241211T210000
DTSTAMP:20260423T170841
CREATED:20241111T204349Z
LAST-MODIFIED:20241111T205655Z
UID:10017014-1733940000-1733950800@www.ameliaisland.com
SUMMARY:Okefenokee Swamp Park Annual Light Show
DESCRIPTION:Join us for the annual Holiday Light Celebration at Okefenokee Swamp Park including a holiday train ride\, hot cocoa\, smores and thousands of twinkling white lights! \nSanta’s Workshop will be on hand December 19 – 23 for pictures with Santa and crafts for kids (1 per child). \nHoliday fun for the whole family!
URL:https://www.ameliaisland.com/activity/okefenokee-swamp-park-annual-light-show-3/2024-12-11/
LOCATION:Okefenokee Swamp Park\, 5700 Okefenokee Swamp Park Rd\, Waycross\, GA\, 31503\, United States
ATTACH;FMTTYPE=image/jpeg:https://www.ameliaisland.com/wp-content/uploads/Okefenokee-Swamp-Holiday-Light-Show.jpeg
END:VEVENT
BEGIN:VEVENT
DTSTART;TZID=America/New_York:20241208T180000
DTEND;TZID=America/New_York:20241208T210000
DTSTAMP:20260423T170841
CREATED:20241111T204100Z
LAST-MODIFIED:20241111T205554Z
UID:10016648-1733680800-1733691600@www.ameliaisland.com
SUMMARY:Okefenokee Swamp Park Annual Light Show
DESCRIPTION:Join us for the annual Holiday Light Celebration at Okefenokee Swamp Park including a holiday train ride\, hot cocoa\, smores and thousands of twinkling white lights! \nSanta’s Workshop will be on hand December 19 – 23 for pictures with Santa and crafts for kids (1 per child). \nHoliday fun for the whole family!
URL:https://www.ameliaisland.com/activity/okefenokee-swamp-park-annual-light-show-2/2024-12-08/
LOCATION:Okefenokee Swamp Park\, 5700 Okefenokee Swamp Park Rd\, Waycross\, GA\, 31503\, United States
ATTACH;FMTTYPE=image/jpeg:https://www.ameliaisland.com/wp-content/uploads/Okefenokee-Swamp-Holiday-Light-Show.jpeg
END:VEVENT
BEGIN:VEVENT
DTSTART;TZID=America/New_York:20241207T180000
DTEND;TZID=America/New_York:20241207T210000
DTSTAMP:20260423T170841
CREATED:20241111T204100Z
LAST-MODIFIED:20241111T205554Z
UID:10016647-1733594400-1733605200@www.ameliaisland.com
SUMMARY:Okefenokee Swamp Park Annual Light Show
DESCRIPTION:Join us for the annual Holiday Light Celebration at Okefenokee Swamp Park including a holiday train ride\, hot cocoa\, smores and thousands of twinkling white lights! \nSanta’s Workshop will be on hand December 19 – 23 for pictures with Santa and crafts for kids (1 per child). \nHoliday fun for the whole family!
URL:https://www.ameliaisland.com/activity/okefenokee-swamp-park-annual-light-show-2/2024-12-07/
LOCATION:Okefenokee Swamp Park\, 5700 Okefenokee Swamp Park Rd\, Waycross\, GA\, 31503\, United States
ATTACH;FMTTYPE=image/jpeg:https://www.ameliaisland.com/wp-content/uploads/Okefenokee-Swamp-Holiday-Light-Show.jpeg
END:VEVENT
BEGIN:VEVENT
DTSTART;TZID=America/New_York:20241206T180000
DTEND;TZID=America/New_York:20241206T210000
DTSTAMP:20260423T170841
CREATED:20241111T204100Z
LAST-MODIFIED:20241111T205554Z
UID:10016646-1733508000-1733518800@www.ameliaisland.com
SUMMARY:Okefenokee Swamp Park Annual Light Show
DESCRIPTION:Join us for the annual Holiday Light Celebration at Okefenokee Swamp Park including a holiday train ride\, hot cocoa\, smores and thousands of twinkling white lights! \nSanta’s Workshop will be on hand December 19 – 23 for pictures with Santa and crafts for kids (1 per child). \nHoliday fun for the whole family!
URL:https://www.ameliaisland.com/activity/okefenokee-swamp-park-annual-light-show-2/2024-12-06/
LOCATION:Okefenokee Swamp Park\, 5700 Okefenokee Swamp Park Rd\, Waycross\, GA\, 31503\, United States
ATTACH;FMTTYPE=image/jpeg:https://www.ameliaisland.com/wp-content/uploads/Okefenokee-Swamp-Holiday-Light-Show.jpeg
END:VEVENT
BEGIN:VEVENT
DTSTART;TZID=America/New_York:20241201T180000
DTEND;TZID=America/New_York:20241201T210000
DTSTAMP:20260423T170841
CREATED:20241111T203301Z
LAST-MODIFIED:20241111T205451Z
UID:10016279-1733076000-1733086800@www.ameliaisland.com
SUMMARY:Okefenokee Swamp Park Annual Light Show
DESCRIPTION:Join us for the annual Holiday Light Celebration at Okefenokee Swamp Park including a holiday train ride\, hot cocoa\, smores and thousands of twinkling white lights! \nSanta’s Workshop will be on hand December 19 – 23 for pictures with Santa and crafts for kids (1 per child). \nHoliday fun for the whole family!
URL:https://www.ameliaisland.com/activity/okefenokee-swamp-park-annual-light-show/2024-12-01/
LOCATION:Okefenokee Swamp Park\, 5700 Okefenokee Swamp Park Rd\, Waycross\, GA\, 31503\, United States
ATTACH;FMTTYPE=image/jpeg:https://www.ameliaisland.com/wp-content/uploads/Okefenokee-Swamp-Holiday-Light-Show.jpeg
END:VEVENT
BEGIN:VEVENT
DTSTART;TZID=America/New_York:20241130T180000
DTEND;TZID=America/New_York:20241130T210000
DTSTAMP:20260423T170841
CREATED:20241111T203301Z
LAST-MODIFIED:20241111T205451Z
UID:10016278-1732989600-1733000400@www.ameliaisland.com
SUMMARY:Okefenokee Swamp Park Annual Light Show
DESCRIPTION:Join us for the annual Holiday Light Celebration at Okefenokee Swamp Park including a holiday train ride\, hot cocoa\, smores and thousands of twinkling white lights! \nSanta’s Workshop will be on hand December 19 – 23 for pictures with Santa and crafts for kids (1 per child). \nHoliday fun for the whole family!
URL:https://www.ameliaisland.com/activity/okefenokee-swamp-park-annual-light-show/2024-11-30/
LOCATION:Okefenokee Swamp Park\, 5700 Okefenokee Swamp Park Rd\, Waycross\, GA\, 31503\, United States
ATTACH;FMTTYPE=image/jpeg:https://www.ameliaisland.com/wp-content/uploads/Okefenokee-Swamp-Holiday-Light-Show.jpeg
END:VEVENT
END:VCALENDAR