BEGIN:VCALENDAR
VERSION:2.0
PRODID:-//Amelia Island - ECPv6.8.0//NONSGML v1.0//EN
CALSCALE:GREGORIAN
METHOD:PUBLISH
X-ORIGINAL-URL:https://www.ameliaisland.com
X-WR-CALDESC:Events for Amelia Island
REFRESH-INTERVAL;VALUE=DURATION:PT1H
X-Robots-Tag:noindex
X-PUBLISHED-TTL:PT1H
BEGIN:VTIMEZONE
TZID:America/New_York
BEGIN:DAYLIGHT
TZOFFSETFROM:-0500
TZOFFSETTO:-0400
TZNAME:EDT
DTSTART:20250309T070000
END:DAYLIGHT
BEGIN:STANDARD
TZOFFSETFROM:-0400
TZOFFSETTO:-0500
TZNAME:EST
DTSTART:20251102T060000
END:STANDARD
END:VTIMEZONE
BEGIN:VEVENT
DTSTART;TZID=America/New_York:20250420T110000
DTEND;TZID=America/New_York:20250420T170000
DTSTAMP:20260420T202750
CREATED:20250306T170752Z
LAST-MODIFIED:20250306T170752Z
UID:10019024-1745146800-1745168400@www.ameliaisland.com
SUMMARY:Shell Shack Brunch at Oceanside
DESCRIPTION:The Shell Shack Brunch features our lo’ country crab cake benedict with ocean poached eggs\, crab cakes\, an English muffin and hollandaise sauce. \nReservations required.
URL:https://www.ameliaisland.com/activity/shell-shack-brunch-at-oceanside/
LOCATION:Oceanside at Omni Amelia Island Resort & Spa\, 39 Beach Lagoon Road\, Fernandina Beach\, FL\, 32034\, United States
ATTACH;FMTTYPE=image/jpeg:https://www.ameliaisland.com/wp-content/uploads/Oceanside-at-Omni-Amelia-Island-Owned-2566-wl-3d5cc4df-d246-4f97-89a2-ab897c0c5255-large.jpg
END:VEVENT
END:VCALENDAR