BEGIN:VCALENDAR
VERSION:2.0
PRODID:-//Amelia Island - ECPv6.8.0//NONSGML v1.0//EN
CALSCALE:GREGORIAN
METHOD:PUBLISH
X-WR-CALNAME:Amelia Island
X-ORIGINAL-URL:https://www.ameliaisland.com
X-WR-CALDESC:Events for Amelia Island
REFRESH-INTERVAL;VALUE=DURATION:PT1H
X-Robots-Tag:noindex
X-PUBLISHED-TTL:PT1H
BEGIN:VTIMEZONE
TZID:America/New_York
BEGIN:DAYLIGHT
TZOFFSETFROM:-0500
TZOFFSETTO:-0400
TZNAME:EDT
DTSTART:20230312T070000
END:DAYLIGHT
BEGIN:STANDARD
TZOFFSETFROM:-0400
TZOFFSETTO:-0500
TZNAME:EST
DTSTART:20231105T060000
END:STANDARD
BEGIN:DAYLIGHT
TZOFFSETFROM:-0500
TZOFFSETTO:-0400
TZNAME:EDT
DTSTART:20240310T070000
END:DAYLIGHT
BEGIN:STANDARD
TZOFFSETFROM:-0400
TZOFFSETTO:-0500
TZNAME:EST
DTSTART:20241103T060000
END:STANDARD
END:VTIMEZONE
BEGIN:VEVENT
DTSTART;TZID=America/New_York:20240201T130000
DTEND;TZID=America/New_York:20240201T170000
DTSTAMP:20260420T124525
CREATED:20240306T174126Z
LAST-MODIFIED:20240306T174225Z
UID:10003966-1706792400-1706806800@www.ameliaisland.com
SUMMARY:Drop-in Art Studios
DESCRIPTION:Bring your own supplies to the Island Art Assoc. on Tues and Thursday to paint with a group. No registration\, just show up. Any Medium Painting. \nTuesdays with Diane Withrow  and Thursdays with Chris McCall.
URL:https://www.ameliaisland.com/activity/drop-in-art-studios/2024-02-01/
LOCATION:Island Art Association Education Center\, 18 N. 2nd St.\, Fernandina Beach\, FL\, 32034\, United States
END:VEVENT
BEGIN:VEVENT
DTSTART;TZID=America/New_York:20240130T130000
DTEND;TZID=America/New_York:20240130T170000
DTSTAMP:20260420T124525
CREATED:20240306T174126Z
LAST-MODIFIED:20240306T174225Z
UID:10003523-1706619600-1706634000@www.ameliaisland.com
SUMMARY:Drop-in Art Studios
DESCRIPTION:Bring your own supplies to the Island Art Assoc. on Tues and Thursday to paint with a group. No registration\, just show up. Any Medium Painting. \nTuesdays with Diane Withrow  and Thursdays with Chris McCall.
URL:https://www.ameliaisland.com/activity/drop-in-art-studios/2024-01-30/
LOCATION:Island Art Association Education Center\, 18 N. 2nd St.\, Fernandina Beach\, FL\, 32034\, United States
END:VEVENT
BEGIN:VEVENT
DTSTART;TZID=America/New_York:20240125T130000
DTEND;TZID=America/New_York:20240125T170000
DTSTAMP:20260420T124525
CREATED:20240306T174126Z
LAST-MODIFIED:20240306T174225Z
UID:10003965-1706187600-1706202000@www.ameliaisland.com
SUMMARY:Drop-in Art Studios
DESCRIPTION:Bring your own supplies to the Island Art Assoc. on Tues and Thursday to paint with a group. No registration\, just show up. Any Medium Painting. \nTuesdays with Diane Withrow  and Thursdays with Chris McCall.
URL:https://www.ameliaisland.com/activity/drop-in-art-studios/2024-01-25/
LOCATION:Island Art Association Education Center\, 18 N. 2nd St.\, Fernandina Beach\, FL\, 32034\, United States
END:VEVENT
BEGIN:VEVENT
DTSTART;TZID=America/New_York:20240123T130000
DTEND;TZID=America/New_York:20240123T170000
DTSTAMP:20260420T124525
CREATED:20240306T174126Z
LAST-MODIFIED:20240306T174225Z
UID:10003522-1706014800-1706029200@www.ameliaisland.com
SUMMARY:Drop-in Art Studios
DESCRIPTION:Bring your own supplies to the Island Art Assoc. on Tues and Thursday to paint with a group. No registration\, just show up. Any Medium Painting. \nTuesdays with Diane Withrow  and Thursdays with Chris McCall.
URL:https://www.ameliaisland.com/activity/drop-in-art-studios/2024-01-23/
LOCATION:Island Art Association Education Center\, 18 N. 2nd St.\, Fernandina Beach\, FL\, 32034\, United States
END:VEVENT
BEGIN:VEVENT
DTSTART;TZID=America/New_York:20240118T130000
DTEND;TZID=America/New_York:20240118T170000
DTSTAMP:20260420T124525
CREATED:20240306T174126Z
LAST-MODIFIED:20240306T174225Z
UID:10003964-1705582800-1705597200@www.ameliaisland.com
SUMMARY:Drop-in Art Studios
DESCRIPTION:Bring your own supplies to the Island Art Assoc. on Tues and Thursday to paint with a group. No registration\, just show up. Any Medium Painting. \nTuesdays with Diane Withrow  and Thursdays with Chris McCall.
URL:https://www.ameliaisland.com/activity/drop-in-art-studios/2024-01-18/
LOCATION:Island Art Association Education Center\, 18 N. 2nd St.\, Fernandina Beach\, FL\, 32034\, United States
END:VEVENT
BEGIN:VEVENT
DTSTART;TZID=America/New_York:20240116T130000
DTEND;TZID=America/New_York:20240116T170000
DTSTAMP:20260420T124525
CREATED:20240306T174126Z
LAST-MODIFIED:20240306T174225Z
UID:10003521-1705410000-1705424400@www.ameliaisland.com
SUMMARY:Drop-in Art Studios
DESCRIPTION:Bring your own supplies to the Island Art Assoc. on Tues and Thursday to paint with a group. No registration\, just show up. Any Medium Painting. \nTuesdays with Diane Withrow  and Thursdays with Chris McCall.
URL:https://www.ameliaisland.com/activity/drop-in-art-studios/2024-01-16/
LOCATION:Island Art Association Education Center\, 18 N. 2nd St.\, Fernandina Beach\, FL\, 32034\, United States
END:VEVENT
BEGIN:VEVENT
DTSTART;TZID=America/New_York:20240111T130000
DTEND;TZID=America/New_York:20240111T170000
DTSTAMP:20260420T124525
CREATED:20240306T174126Z
LAST-MODIFIED:20240306T174225Z
UID:10003963-1704978000-1704992400@www.ameliaisland.com
SUMMARY:Drop-in Art Studios
DESCRIPTION:Bring your own supplies to the Island Art Assoc. on Tues and Thursday to paint with a group. No registration\, just show up. Any Medium Painting. \nTuesdays with Diane Withrow  and Thursdays with Chris McCall.
URL:https://www.ameliaisland.com/activity/drop-in-art-studios/2024-01-11/
LOCATION:Island Art Association Education Center\, 18 N. 2nd St.\, Fernandina Beach\, FL\, 32034\, United States
END:VEVENT
BEGIN:VEVENT
DTSTART;TZID=America/New_York:20240109T130000
DTEND;TZID=America/New_York:20240109T170000
DTSTAMP:20260420T124525
CREATED:20240306T174126Z
LAST-MODIFIED:20240306T174225Z
UID:10003520-1704805200-1704819600@www.ameliaisland.com
SUMMARY:Drop-in Art Studios
DESCRIPTION:Bring your own supplies to the Island Art Assoc. on Tues and Thursday to paint with a group. No registration\, just show up. Any Medium Painting. \nTuesdays with Diane Withrow  and Thursdays with Chris McCall.
URL:https://www.ameliaisland.com/activity/drop-in-art-studios/2024-01-09/
LOCATION:Island Art Association Education Center\, 18 N. 2nd St.\, Fernandina Beach\, FL\, 32034\, United States
END:VEVENT
BEGIN:VEVENT
DTSTART;TZID=America/New_York:20240104T130000
DTEND;TZID=America/New_York:20240104T170000
DTSTAMP:20260420T124525
CREATED:20240306T174126Z
LAST-MODIFIED:20240306T174225Z
UID:10003962-1704373200-1704387600@www.ameliaisland.com
SUMMARY:Drop-in Art Studios
DESCRIPTION:Bring your own supplies to the Island Art Assoc. on Tues and Thursday to paint with a group. No registration\, just show up. Any Medium Painting. \nTuesdays with Diane Withrow  and Thursdays with Chris McCall.
URL:https://www.ameliaisland.com/activity/drop-in-art-studios/2024-01-04/
LOCATION:Island Art Association Education Center\, 18 N. 2nd St.\, Fernandina Beach\, FL\, 32034\, United States
END:VEVENT
BEGIN:VEVENT
DTSTART;TZID=America/New_York:20240102T130000
DTEND;TZID=America/New_York:20240102T170000
DTSTAMP:20260420T124525
CREATED:20240306T174126Z
LAST-MODIFIED:20240306T174225Z
UID:10003519-1704200400-1704214800@www.ameliaisland.com
SUMMARY:Drop-in Art Studios
DESCRIPTION:Bring your own supplies to the Island Art Assoc. on Tues and Thursday to paint with a group. No registration\, just show up. Any Medium Painting. \nTuesdays with Diane Withrow  and Thursdays with Chris McCall.
URL:https://www.ameliaisland.com/activity/drop-in-art-studios/2024-01-02/
LOCATION:Island Art Association Education Center\, 18 N. 2nd St.\, Fernandina Beach\, FL\, 32034\, United States
END:VEVENT
BEGIN:VEVENT
DTSTART;TZID=America/New_York:20231228T130000
DTEND;TZID=America/New_York:20231228T170000
DTSTAMP:20260420T124525
CREATED:20240306T174126Z
LAST-MODIFIED:20240306T174225Z
UID:10003961-1703768400-1703782800@www.ameliaisland.com
SUMMARY:Drop-in Art Studios
DESCRIPTION:Bring your own supplies to the Island Art Assoc. on Tues and Thursday to paint with a group. No registration\, just show up. Any Medium Painting. \nTuesdays with Diane Withrow  and Thursdays with Chris McCall.
URL:https://www.ameliaisland.com/activity/drop-in-art-studios/2023-12-28/
LOCATION:Island Art Association Education Center\, 18 N. 2nd St.\, Fernandina Beach\, FL\, 32034\, United States
END:VEVENT
BEGIN:VEVENT
DTSTART;TZID=America/New_York:20231226T130000
DTEND;TZID=America/New_York:20231226T170000
DTSTAMP:20260420T124525
CREATED:20240306T174126Z
LAST-MODIFIED:20240306T174225Z
UID:10003518-1703595600-1703610000@www.ameliaisland.com
SUMMARY:Drop-in Art Studios
DESCRIPTION:Bring your own supplies to the Island Art Assoc. on Tues and Thursday to paint with a group. No registration\, just show up. Any Medium Painting. \nTuesdays with Diane Withrow  and Thursdays with Chris McCall.
URL:https://www.ameliaisland.com/activity/drop-in-art-studios/2023-12-26/
LOCATION:Island Art Association Education Center\, 18 N. 2nd St.\, Fernandina Beach\, FL\, 32034\, United States
END:VEVENT
BEGIN:VEVENT
DTSTART;TZID=America/New_York:20231221T130000
DTEND;TZID=America/New_York:20231221T170000
DTSTAMP:20260420T124525
CREATED:20240306T174126Z
LAST-MODIFIED:20240306T174225Z
UID:10003960-1703163600-1703178000@www.ameliaisland.com
SUMMARY:Drop-in Art Studios
DESCRIPTION:Bring your own supplies to the Island Art Assoc. on Tues and Thursday to paint with a group. No registration\, just show up. Any Medium Painting. \nTuesdays with Diane Withrow  and Thursdays with Chris McCall.
URL:https://www.ameliaisland.com/activity/drop-in-art-studios/2023-12-21/
LOCATION:Island Art Association Education Center\, 18 N. 2nd St.\, Fernandina Beach\, FL\, 32034\, United States
END:VEVENT
BEGIN:VEVENT
DTSTART;TZID=America/New_York:20231219T130000
DTEND;TZID=America/New_York:20231219T170000
DTSTAMP:20260420T124525
CREATED:20240306T174126Z
LAST-MODIFIED:20240306T174225Z
UID:10003517-1702990800-1703005200@www.ameliaisland.com
SUMMARY:Drop-in Art Studios
DESCRIPTION:Bring your own supplies to the Island Art Assoc. on Tues and Thursday to paint with a group. No registration\, just show up. Any Medium Painting. \nTuesdays with Diane Withrow  and Thursdays with Chris McCall.
URL:https://www.ameliaisland.com/activity/drop-in-art-studios/2023-12-19/
LOCATION:Island Art Association Education Center\, 18 N. 2nd St.\, Fernandina Beach\, FL\, 32034\, United States
END:VEVENT
BEGIN:VEVENT
DTSTART;TZID=America/New_York:20231214T130000
DTEND;TZID=America/New_York:20231214T170000
DTSTAMP:20260420T124525
CREATED:20240306T174126Z
LAST-MODIFIED:20240306T174225Z
UID:10003959-1702558800-1702573200@www.ameliaisland.com
SUMMARY:Drop-in Art Studios
DESCRIPTION:Bring your own supplies to the Island Art Assoc. on Tues and Thursday to paint with a group. No registration\, just show up. Any Medium Painting. \nTuesdays with Diane Withrow  and Thursdays with Chris McCall.
URL:https://www.ameliaisland.com/activity/drop-in-art-studios/2023-12-14/
LOCATION:Island Art Association Education Center\, 18 N. 2nd St.\, Fernandina Beach\, FL\, 32034\, United States
END:VEVENT
BEGIN:VEVENT
DTSTART;TZID=America/New_York:20231212T130000
DTEND;TZID=America/New_York:20231212T170000
DTSTAMP:20260420T124525
CREATED:20240306T174126Z
LAST-MODIFIED:20240306T174225Z
UID:10003516-1702386000-1702400400@www.ameliaisland.com
SUMMARY:Drop-in Art Studios
DESCRIPTION:Bring your own supplies to the Island Art Assoc. on Tues and Thursday to paint with a group. No registration\, just show up. Any Medium Painting. \nTuesdays with Diane Withrow  and Thursdays with Chris McCall.
URL:https://www.ameliaisland.com/activity/drop-in-art-studios/2023-12-12/
LOCATION:Island Art Association Education Center\, 18 N. 2nd St.\, Fernandina Beach\, FL\, 32034\, United States
END:VEVENT
BEGIN:VEVENT
DTSTART;TZID=America/New_York:20231207T130000
DTEND;TZID=America/New_York:20231207T170000
DTSTAMP:20260420T124525
CREATED:20240306T174126Z
LAST-MODIFIED:20240306T174225Z
UID:10003958-1701954000-1701968400@www.ameliaisland.com
SUMMARY:Drop-in Art Studios
DESCRIPTION:Bring your own supplies to the Island Art Assoc. on Tues and Thursday to paint with a group. No registration\, just show up. Any Medium Painting. \nTuesdays with Diane Withrow  and Thursdays with Chris McCall.
URL:https://www.ameliaisland.com/activity/drop-in-art-studios/2023-12-07/
LOCATION:Island Art Association Education Center\, 18 N. 2nd St.\, Fernandina Beach\, FL\, 32034\, United States
END:VEVENT
BEGIN:VEVENT
DTSTART;TZID=America/New_York:20231205T130000
DTEND;TZID=America/New_York:20231205T170000
DTSTAMP:20260420T124525
CREATED:20240306T174126Z
LAST-MODIFIED:20240306T174225Z
UID:10003515-1701781200-1701795600@www.ameliaisland.com
SUMMARY:Drop-in Art Studios
DESCRIPTION:Bring your own supplies to the Island Art Assoc. on Tues and Thursday to paint with a group. No registration\, just show up. Any Medium Painting. \nTuesdays with Diane Withrow  and Thursdays with Chris McCall.
URL:https://www.ameliaisland.com/activity/drop-in-art-studios/2023-12-05/
LOCATION:Island Art Association Education Center\, 18 N. 2nd St.\, Fernandina Beach\, FL\, 32034\, United States
END:VEVENT
BEGIN:VEVENT
DTSTART;TZID=America/New_York:20231130T130000
DTEND;TZID=America/New_York:20231130T170000
DTSTAMP:20260420T124525
CREATED:20240306T174126Z
LAST-MODIFIED:20240306T174225Z
UID:10003957-1701349200-1701363600@www.ameliaisland.com
SUMMARY:Drop-in Art Studios
DESCRIPTION:Bring your own supplies to the Island Art Assoc. on Tues and Thursday to paint with a group. No registration\, just show up. Any Medium Painting. \nTuesdays with Diane Withrow  and Thursdays with Chris McCall.
URL:https://www.ameliaisland.com/activity/drop-in-art-studios/2023-11-30/
LOCATION:Island Art Association Education Center\, 18 N. 2nd St.\, Fernandina Beach\, FL\, 32034\, United States
END:VEVENT
BEGIN:VEVENT
DTSTART;TZID=America/New_York:20231128T130000
DTEND;TZID=America/New_York:20231128T170000
DTSTAMP:20260420T124526
CREATED:20240306T174126Z
LAST-MODIFIED:20240306T174225Z
UID:10003514-1701176400-1701190800@www.ameliaisland.com
SUMMARY:Drop-in Art Studios
DESCRIPTION:Bring your own supplies to the Island Art Assoc. on Tues and Thursday to paint with a group. No registration\, just show up. Any Medium Painting. \nTuesdays with Diane Withrow  and Thursdays with Chris McCall.
URL:https://www.ameliaisland.com/activity/drop-in-art-studios/2023-11-28/
LOCATION:Island Art Association Education Center\, 18 N. 2nd St.\, Fernandina Beach\, FL\, 32034\, United States
END:VEVENT
BEGIN:VEVENT
DTSTART;TZID=America/New_York:20231123T130000
DTEND;TZID=America/New_York:20231123T170000
DTSTAMP:20260420T124526
CREATED:20240306T174126Z
LAST-MODIFIED:20240306T174225Z
UID:10003956-1700744400-1700758800@www.ameliaisland.com
SUMMARY:Drop-in Art Studios
DESCRIPTION:Bring your own supplies to the Island Art Assoc. on Tues and Thursday to paint with a group. No registration\, just show up. Any Medium Painting. \nTuesdays with Diane Withrow  and Thursdays with Chris McCall.
URL:https://www.ameliaisland.com/activity/drop-in-art-studios/2023-11-23/
LOCATION:Island Art Association Education Center\, 18 N. 2nd St.\, Fernandina Beach\, FL\, 32034\, United States
END:VEVENT
BEGIN:VEVENT
DTSTART;TZID=America/New_York:20231121T130000
DTEND;TZID=America/New_York:20231121T170000
DTSTAMP:20260420T124526
CREATED:20240306T174126Z
LAST-MODIFIED:20240306T174225Z
UID:10003513-1700571600-1700586000@www.ameliaisland.com
SUMMARY:Drop-in Art Studios
DESCRIPTION:Bring your own supplies to the Island Art Assoc. on Tues and Thursday to paint with a group. No registration\, just show up. Any Medium Painting. \nTuesdays with Diane Withrow  and Thursdays with Chris McCall.
URL:https://www.ameliaisland.com/activity/drop-in-art-studios/2023-11-21/
LOCATION:Island Art Association Education Center\, 18 N. 2nd St.\, Fernandina Beach\, FL\, 32034\, United States
END:VEVENT
BEGIN:VEVENT
DTSTART;TZID=America/New_York:20231116T130000
DTEND;TZID=America/New_York:20231116T170000
DTSTAMP:20260420T124526
CREATED:20240306T174126Z
LAST-MODIFIED:20240306T174225Z
UID:10003955-1700139600-1700154000@www.ameliaisland.com
SUMMARY:Drop-in Art Studios
DESCRIPTION:Bring your own supplies to the Island Art Assoc. on Tues and Thursday to paint with a group. No registration\, just show up. Any Medium Painting. \nTuesdays with Diane Withrow  and Thursdays with Chris McCall.
URL:https://www.ameliaisland.com/activity/drop-in-art-studios/2023-11-16/
LOCATION:Island Art Association Education Center\, 18 N. 2nd St.\, Fernandina Beach\, FL\, 32034\, United States
END:VEVENT
BEGIN:VEVENT
DTSTART;TZID=America/New_York:20231114T130000
DTEND;TZID=America/New_York:20231114T170000
DTSTAMP:20260420T124526
CREATED:20240306T174126Z
LAST-MODIFIED:20240306T174225Z
UID:10003512-1699966800-1699981200@www.ameliaisland.com
SUMMARY:Drop-in Art Studios
DESCRIPTION:Bring your own supplies to the Island Art Assoc. on Tues and Thursday to paint with a group. No registration\, just show up. Any Medium Painting. \nTuesdays with Diane Withrow  and Thursdays with Chris McCall.
URL:https://www.ameliaisland.com/activity/drop-in-art-studios/2023-11-14/
LOCATION:Island Art Association Education Center\, 18 N. 2nd St.\, Fernandina Beach\, FL\, 32034\, United States
END:VEVENT
BEGIN:VEVENT
DTSTART;TZID=America/New_York:20231109T130000
DTEND;TZID=America/New_York:20231109T170000
DTSTAMP:20260420T124526
CREATED:20240306T174126Z
LAST-MODIFIED:20240306T174225Z
UID:10003954-1699534800-1699549200@www.ameliaisland.com
SUMMARY:Drop-in Art Studios
DESCRIPTION:Bring your own supplies to the Island Art Assoc. on Tues and Thursday to paint with a group. No registration\, just show up. Any Medium Painting. \nTuesdays with Diane Withrow  and Thursdays with Chris McCall.
URL:https://www.ameliaisland.com/activity/drop-in-art-studios/2023-11-09/
LOCATION:Island Art Association Education Center\, 18 N. 2nd St.\, Fernandina Beach\, FL\, 32034\, United States
END:VEVENT
BEGIN:VEVENT
DTSTART;TZID=America/New_York:20231107T130000
DTEND;TZID=America/New_York:20231107T170000
DTSTAMP:20260420T124526
CREATED:20240306T174126Z
LAST-MODIFIED:20240306T174225Z
UID:10003511-1699362000-1699376400@www.ameliaisland.com
SUMMARY:Drop-in Art Studios
DESCRIPTION:Bring your own supplies to the Island Art Assoc. on Tues and Thursday to paint with a group. No registration\, just show up. Any Medium Painting. \nTuesdays with Diane Withrow  and Thursdays with Chris McCall.
URL:https://www.ameliaisland.com/activity/drop-in-art-studios/2023-11-07/
LOCATION:Island Art Association Education Center\, 18 N. 2nd St.\, Fernandina Beach\, FL\, 32034\, United States
END:VEVENT
BEGIN:VEVENT
DTSTART;TZID=America/New_York:20231102T130000
DTEND;TZID=America/New_York:20231102T170000
DTSTAMP:20260420T124526
CREATED:20240306T174126Z
LAST-MODIFIED:20240306T174225Z
UID:10003953-1698930000-1698944400@www.ameliaisland.com
SUMMARY:Drop-in Art Studios
DESCRIPTION:Bring your own supplies to the Island Art Assoc. on Tues and Thursday to paint with a group. No registration\, just show up. Any Medium Painting. \nTuesdays with Diane Withrow  and Thursdays with Chris McCall.
URL:https://www.ameliaisland.com/activity/drop-in-art-studios/2023-11-02/
LOCATION:Island Art Association Education Center\, 18 N. 2nd St.\, Fernandina Beach\, FL\, 32034\, United States
END:VEVENT
BEGIN:VEVENT
DTSTART;TZID=America/New_York:20231031T130000
DTEND;TZID=America/New_York:20231031T170000
DTSTAMP:20260420T124526
CREATED:20240306T174126Z
LAST-MODIFIED:20240306T174225Z
UID:10003510-1698757200-1698771600@www.ameliaisland.com
SUMMARY:Drop-in Art Studios
DESCRIPTION:Bring your own supplies to the Island Art Assoc. on Tues and Thursday to paint with a group. No registration\, just show up. Any Medium Painting. \nTuesdays with Diane Withrow  and Thursdays with Chris McCall.
URL:https://www.ameliaisland.com/activity/drop-in-art-studios/2023-10-31/
LOCATION:Island Art Association Education Center\, 18 N. 2nd St.\, Fernandina Beach\, FL\, 32034\, United States
END:VEVENT
BEGIN:VEVENT
DTSTART;TZID=America/New_York:20231026T130000
DTEND;TZID=America/New_York:20231026T170000
DTSTAMP:20260420T124526
CREATED:20240306T174126Z
LAST-MODIFIED:20240306T174225Z
UID:10003952-1698325200-1698339600@www.ameliaisland.com
SUMMARY:Drop-in Art Studios
DESCRIPTION:Bring your own supplies to the Island Art Assoc. on Tues and Thursday to paint with a group. No registration\, just show up. Any Medium Painting. \nTuesdays with Diane Withrow  and Thursdays with Chris McCall.
URL:https://www.ameliaisland.com/activity/drop-in-art-studios/2023-10-26/
LOCATION:Island Art Association Education Center\, 18 N. 2nd St.\, Fernandina Beach\, FL\, 32034\, United States
END:VEVENT
BEGIN:VEVENT
DTSTART;TZID=America/New_York:20231024T130000
DTEND;TZID=America/New_York:20231024T170000
DTSTAMP:20260420T124526
CREATED:20240306T174126Z
LAST-MODIFIED:20240306T174225Z
UID:10003509-1698152400-1698166800@www.ameliaisland.com
SUMMARY:Drop-in Art Studios
DESCRIPTION:Bring your own supplies to the Island Art Assoc. on Tues and Thursday to paint with a group. No registration\, just show up. Any Medium Painting. \nTuesdays with Diane Withrow  and Thursdays with Chris McCall.
URL:https://www.ameliaisland.com/activity/drop-in-art-studios/2023-10-24/
LOCATION:Island Art Association Education Center\, 18 N. 2nd St.\, Fernandina Beach\, FL\, 32034\, United States
END:VEVENT
END:VCALENDAR