BEGIN:VCALENDAR
VERSION:2.0
PRODID:-//Amelia Island - ECPv6.8.0//NONSGML v1.0//EN
CALSCALE:GREGORIAN
METHOD:PUBLISH
X-ORIGINAL-URL:https://www.ameliaisland.com
X-WR-CALDESC:Events for Amelia Island
REFRESH-INTERVAL;VALUE=DURATION:PT1H
X-Robots-Tag:noindex
X-PUBLISHED-TTL:PT1H
BEGIN:VTIMEZONE
TZID:America/New_York
BEGIN:DAYLIGHT
TZOFFSETFROM:-0500
TZOFFSETTO:-0400
TZNAME:EDT
DTSTART:20240310T070000
END:DAYLIGHT
BEGIN:STANDARD
TZOFFSETFROM:-0400
TZOFFSETTO:-0500
TZNAME:EST
DTSTART:20241103T060000
END:STANDARD
END:VTIMEZONE
BEGIN:VEVENT
DTSTART;TZID=America/New_York:20240606T130000
DTEND;TZID=America/New_York:20240606T170000
DTSTAMP:20260420T080536
CREATED:20240306T174126Z
LAST-MODIFIED:20240306T174225Z
UID:10003984-1717678800-1717693200@www.ameliaisland.com
SUMMARY:Drop-in Art Studios
DESCRIPTION:Bring your own supplies to the Island Art Assoc. on Tues and Thursday to paint with a group. No registration\, just show up. Any Medium Painting. \nTuesdays with Diane Withrow  and Thursdays with Chris McCall.
URL:https://www.ameliaisland.com/activity/drop-in-art-studios/2024-06-06/
LOCATION:Island Art Association Education Center\, 18 N. 2nd St.\, Fernandina Beach\, FL\, 32034\, United States
END:VEVENT
BEGIN:VEVENT
DTSTART;TZID=America/New_York:20240604T130000
DTEND;TZID=America/New_York:20240604T170000
DTSTAMP:20260420T080536
CREATED:20240306T174126Z
LAST-MODIFIED:20240306T174225Z
UID:10003541-1717506000-1717520400@www.ameliaisland.com
SUMMARY:Drop-in Art Studios
DESCRIPTION:Bring your own supplies to the Island Art Assoc. on Tues and Thursday to paint with a group. No registration\, just show up. Any Medium Painting. \nTuesdays with Diane Withrow  and Thursdays with Chris McCall.
URL:https://www.ameliaisland.com/activity/drop-in-art-studios/2024-06-04/
LOCATION:Island Art Association Education Center\, 18 N. 2nd St.\, Fernandina Beach\, FL\, 32034\, United States
END:VEVENT
BEGIN:VEVENT
DTSTART;TZID=America/New_York:20240530T130000
DTEND;TZID=America/New_York:20240530T170000
DTSTAMP:20260420T080537
CREATED:20240306T174126Z
LAST-MODIFIED:20240306T174225Z
UID:10003983-1717074000-1717088400@www.ameliaisland.com
SUMMARY:Drop-in Art Studios
DESCRIPTION:Bring your own supplies to the Island Art Assoc. on Tues and Thursday to paint with a group. No registration\, just show up. Any Medium Painting. \nTuesdays with Diane Withrow  and Thursdays with Chris McCall.
URL:https://www.ameliaisland.com/activity/drop-in-art-studios/2024-05-30/
LOCATION:Island Art Association Education Center\, 18 N. 2nd St.\, Fernandina Beach\, FL\, 32034\, United States
END:VEVENT
BEGIN:VEVENT
DTSTART;TZID=America/New_York:20240528T130000
DTEND;TZID=America/New_York:20240528T170000
DTSTAMP:20260420T080537
CREATED:20240306T174126Z
LAST-MODIFIED:20240306T174225Z
UID:10003540-1716901200-1716915600@www.ameliaisland.com
SUMMARY:Drop-in Art Studios
DESCRIPTION:Bring your own supplies to the Island Art Assoc. on Tues and Thursday to paint with a group. No registration\, just show up. Any Medium Painting. \nTuesdays with Diane Withrow  and Thursdays with Chris McCall.
URL:https://www.ameliaisland.com/activity/drop-in-art-studios/2024-05-28/
LOCATION:Island Art Association Education Center\, 18 N. 2nd St.\, Fernandina Beach\, FL\, 32034\, United States
END:VEVENT
BEGIN:VEVENT
DTSTART;TZID=America/New_York:20240523T130000
DTEND;TZID=America/New_York:20240523T170000
DTSTAMP:20260420T080537
CREATED:20240306T174126Z
LAST-MODIFIED:20240306T174225Z
UID:10003982-1716469200-1716483600@www.ameliaisland.com
SUMMARY:Drop-in Art Studios
DESCRIPTION:Bring your own supplies to the Island Art Assoc. on Tues and Thursday to paint with a group. No registration\, just show up. Any Medium Painting. \nTuesdays with Diane Withrow  and Thursdays with Chris McCall.
URL:https://www.ameliaisland.com/activity/drop-in-art-studios/2024-05-23/
LOCATION:Island Art Association Education Center\, 18 N. 2nd St.\, Fernandina Beach\, FL\, 32034\, United States
END:VEVENT
BEGIN:VEVENT
DTSTART;TZID=America/New_York:20240521T130000
DTEND;TZID=America/New_York:20240521T170000
DTSTAMP:20260420T080537
CREATED:20240306T174126Z
LAST-MODIFIED:20240306T174225Z
UID:10003539-1716296400-1716310800@www.ameliaisland.com
SUMMARY:Drop-in Art Studios
DESCRIPTION:Bring your own supplies to the Island Art Assoc. on Tues and Thursday to paint with a group. No registration\, just show up. Any Medium Painting. \nTuesdays with Diane Withrow  and Thursdays with Chris McCall.
URL:https://www.ameliaisland.com/activity/drop-in-art-studios/2024-05-21/
LOCATION:Island Art Association Education Center\, 18 N. 2nd St.\, Fernandina Beach\, FL\, 32034\, United States
END:VEVENT
BEGIN:VEVENT
DTSTART;TZID=America/New_York:20240516T130000
DTEND;TZID=America/New_York:20240516T170000
DTSTAMP:20260420T080537
CREATED:20240306T174126Z
LAST-MODIFIED:20240306T174225Z
UID:10003981-1715864400-1715878800@www.ameliaisland.com
SUMMARY:Drop-in Art Studios
DESCRIPTION:Bring your own supplies to the Island Art Assoc. on Tues and Thursday to paint with a group. No registration\, just show up. Any Medium Painting. \nTuesdays with Diane Withrow  and Thursdays with Chris McCall.
URL:https://www.ameliaisland.com/activity/drop-in-art-studios/2024-05-16/
LOCATION:Island Art Association Education Center\, 18 N. 2nd St.\, Fernandina Beach\, FL\, 32034\, United States
END:VEVENT
BEGIN:VEVENT
DTSTART;TZID=America/New_York:20240514T130000
DTEND;TZID=America/New_York:20240514T170000
DTSTAMP:20260420T080537
CREATED:20240306T174126Z
LAST-MODIFIED:20240306T174225Z
UID:10003538-1715691600-1715706000@www.ameliaisland.com
SUMMARY:Drop-in Art Studios
DESCRIPTION:Bring your own supplies to the Island Art Assoc. on Tues and Thursday to paint with a group. No registration\, just show up. Any Medium Painting. \nTuesdays with Diane Withrow  and Thursdays with Chris McCall.
URL:https://www.ameliaisland.com/activity/drop-in-art-studios/2024-05-14/
LOCATION:Island Art Association Education Center\, 18 N. 2nd St.\, Fernandina Beach\, FL\, 32034\, United States
END:VEVENT
BEGIN:VEVENT
DTSTART;TZID=America/New_York:20240509T130000
DTEND;TZID=America/New_York:20240509T170000
DTSTAMP:20260420T080537
CREATED:20240306T174126Z
LAST-MODIFIED:20240306T174225Z
UID:10003980-1715259600-1715274000@www.ameliaisland.com
SUMMARY:Drop-in Art Studios
DESCRIPTION:Bring your own supplies to the Island Art Assoc. on Tues and Thursday to paint with a group. No registration\, just show up. Any Medium Painting. \nTuesdays with Diane Withrow  and Thursdays with Chris McCall.
URL:https://www.ameliaisland.com/activity/drop-in-art-studios/2024-05-09/
LOCATION:Island Art Association Education Center\, 18 N. 2nd St.\, Fernandina Beach\, FL\, 32034\, United States
END:VEVENT
BEGIN:VEVENT
DTSTART;TZID=America/New_York:20240507T130000
DTEND;TZID=America/New_York:20240507T170000
DTSTAMP:20260420T080537
CREATED:20240306T174126Z
LAST-MODIFIED:20240306T174225Z
UID:10003537-1715086800-1715101200@www.ameliaisland.com
SUMMARY:Drop-in Art Studios
DESCRIPTION:Bring your own supplies to the Island Art Assoc. on Tues and Thursday to paint with a group. No registration\, just show up. Any Medium Painting. \nTuesdays with Diane Withrow  and Thursdays with Chris McCall.
URL:https://www.ameliaisland.com/activity/drop-in-art-studios/2024-05-07/
LOCATION:Island Art Association Education Center\, 18 N. 2nd St.\, Fernandina Beach\, FL\, 32034\, United States
END:VEVENT
BEGIN:VEVENT
DTSTART;TZID=America/New_York:20240502T130000
DTEND;TZID=America/New_York:20240502T170000
DTSTAMP:20260420T080537
CREATED:20240306T174126Z
LAST-MODIFIED:20240306T174225Z
UID:10003979-1714654800-1714669200@www.ameliaisland.com
SUMMARY:Drop-in Art Studios
DESCRIPTION:Bring your own supplies to the Island Art Assoc. on Tues and Thursday to paint with a group. No registration\, just show up. Any Medium Painting. \nTuesdays with Diane Withrow  and Thursdays with Chris McCall.
URL:https://www.ameliaisland.com/activity/drop-in-art-studios/2024-05-02/
LOCATION:Island Art Association Education Center\, 18 N. 2nd St.\, Fernandina Beach\, FL\, 32034\, United States
END:VEVENT
BEGIN:VEVENT
DTSTART;TZID=America/New_York:20240430T130000
DTEND;TZID=America/New_York:20240430T170000
DTSTAMP:20260420T080537
CREATED:20240306T174126Z
LAST-MODIFIED:20240306T174225Z
UID:10003536-1714482000-1714496400@www.ameliaisland.com
SUMMARY:Drop-in Art Studios
DESCRIPTION:Bring your own supplies to the Island Art Assoc. on Tues and Thursday to paint with a group. No registration\, just show up. Any Medium Painting. \nTuesdays with Diane Withrow  and Thursdays with Chris McCall.
URL:https://www.ameliaisland.com/activity/drop-in-art-studios/2024-04-30/
LOCATION:Island Art Association Education Center\, 18 N. 2nd St.\, Fernandina Beach\, FL\, 32034\, United States
END:VEVENT
BEGIN:VEVENT
DTSTART;TZID=America/New_York:20240425T130000
DTEND;TZID=America/New_York:20240425T170000
DTSTAMP:20260420T080537
CREATED:20240306T174126Z
LAST-MODIFIED:20240306T174225Z
UID:10003978-1714050000-1714064400@www.ameliaisland.com
SUMMARY:Drop-in Art Studios
DESCRIPTION:Bring your own supplies to the Island Art Assoc. on Tues and Thursday to paint with a group. No registration\, just show up. Any Medium Painting. \nTuesdays with Diane Withrow  and Thursdays with Chris McCall.
URL:https://www.ameliaisland.com/activity/drop-in-art-studios/2024-04-25/
LOCATION:Island Art Association Education Center\, 18 N. 2nd St.\, Fernandina Beach\, FL\, 32034\, United States
END:VEVENT
BEGIN:VEVENT
DTSTART;TZID=America/New_York:20240423T130000
DTEND;TZID=America/New_York:20240423T170000
DTSTAMP:20260420T080537
CREATED:20240306T174126Z
LAST-MODIFIED:20240306T174225Z
UID:10003535-1713877200-1713891600@www.ameliaisland.com
SUMMARY:Drop-in Art Studios
DESCRIPTION:Bring your own supplies to the Island Art Assoc. on Tues and Thursday to paint with a group. No registration\, just show up. Any Medium Painting. \nTuesdays with Diane Withrow  and Thursdays with Chris McCall.
URL:https://www.ameliaisland.com/activity/drop-in-art-studios/2024-04-23/
LOCATION:Island Art Association Education Center\, 18 N. 2nd St.\, Fernandina Beach\, FL\, 32034\, United States
END:VEVENT
BEGIN:VEVENT
DTSTART;TZID=America/New_York:20240418T130000
DTEND;TZID=America/New_York:20240418T170000
DTSTAMP:20260420T080537
CREATED:20240306T174126Z
LAST-MODIFIED:20240306T174225Z
UID:10003977-1713445200-1713459600@www.ameliaisland.com
SUMMARY:Drop-in Art Studios
DESCRIPTION:Bring your own supplies to the Island Art Assoc. on Tues and Thursday to paint with a group. No registration\, just show up. Any Medium Painting. \nTuesdays with Diane Withrow  and Thursdays with Chris McCall.
URL:https://www.ameliaisland.com/activity/drop-in-art-studios/2024-04-18/
LOCATION:Island Art Association Education Center\, 18 N. 2nd St.\, Fernandina Beach\, FL\, 32034\, United States
END:VEVENT
BEGIN:VEVENT
DTSTART;TZID=America/New_York:20240416T130000
DTEND;TZID=America/New_York:20240416T170000
DTSTAMP:20260420T080537
CREATED:20240306T174126Z
LAST-MODIFIED:20240306T174225Z
UID:10003534-1713272400-1713286800@www.ameliaisland.com
SUMMARY:Drop-in Art Studios
DESCRIPTION:Bring your own supplies to the Island Art Assoc. on Tues and Thursday to paint with a group. No registration\, just show up. Any Medium Painting. \nTuesdays with Diane Withrow  and Thursdays with Chris McCall.
URL:https://www.ameliaisland.com/activity/drop-in-art-studios/2024-04-16/
LOCATION:Island Art Association Education Center\, 18 N. 2nd St.\, Fernandina Beach\, FL\, 32034\, United States
END:VEVENT
BEGIN:VEVENT
DTSTART;TZID=America/New_York:20240411T130000
DTEND;TZID=America/New_York:20240411T170000
DTSTAMP:20260420T080537
CREATED:20240306T174126Z
LAST-MODIFIED:20240306T174225Z
UID:10003976-1712840400-1712854800@www.ameliaisland.com
SUMMARY:Drop-in Art Studios
DESCRIPTION:Bring your own supplies to the Island Art Assoc. on Tues and Thursday to paint with a group. No registration\, just show up. Any Medium Painting. \nTuesdays with Diane Withrow  and Thursdays with Chris McCall.
URL:https://www.ameliaisland.com/activity/drop-in-art-studios/2024-04-11/
LOCATION:Island Art Association Education Center\, 18 N. 2nd St.\, Fernandina Beach\, FL\, 32034\, United States
END:VEVENT
BEGIN:VEVENT
DTSTART;TZID=America/New_York:20240409T130000
DTEND;TZID=America/New_York:20240409T170000
DTSTAMP:20260420T080537
CREATED:20240306T174126Z
LAST-MODIFIED:20240306T174225Z
UID:10003533-1712667600-1712682000@www.ameliaisland.com
SUMMARY:Drop-in Art Studios
DESCRIPTION:Bring your own supplies to the Island Art Assoc. on Tues and Thursday to paint with a group. No registration\, just show up. Any Medium Painting. \nTuesdays with Diane Withrow  and Thursdays with Chris McCall.
URL:https://www.ameliaisland.com/activity/drop-in-art-studios/2024-04-09/
LOCATION:Island Art Association Education Center\, 18 N. 2nd St.\, Fernandina Beach\, FL\, 32034\, United States
END:VEVENT
BEGIN:VEVENT
DTSTART;TZID=America/New_York:20240404T130000
DTEND;TZID=America/New_York:20240404T170000
DTSTAMP:20260420T080537
CREATED:20240306T174126Z
LAST-MODIFIED:20240306T174225Z
UID:10003975-1712235600-1712250000@www.ameliaisland.com
SUMMARY:Drop-in Art Studios
DESCRIPTION:Bring your own supplies to the Island Art Assoc. on Tues and Thursday to paint with a group. No registration\, just show up. Any Medium Painting. \nTuesdays with Diane Withrow  and Thursdays with Chris McCall.
URL:https://www.ameliaisland.com/activity/drop-in-art-studios/2024-04-04/
LOCATION:Island Art Association Education Center\, 18 N. 2nd St.\, Fernandina Beach\, FL\, 32034\, United States
END:VEVENT
BEGIN:VEVENT
DTSTART;TZID=America/New_York:20240402T130000
DTEND;TZID=America/New_York:20240402T170000
DTSTAMP:20260420T080537
CREATED:20240306T174126Z
LAST-MODIFIED:20240306T174225Z
UID:10003532-1712062800-1712077200@www.ameliaisland.com
SUMMARY:Drop-in Art Studios
DESCRIPTION:Bring your own supplies to the Island Art Assoc. on Tues and Thursday to paint with a group. No registration\, just show up. Any Medium Painting. \nTuesdays with Diane Withrow  and Thursdays with Chris McCall.
URL:https://www.ameliaisland.com/activity/drop-in-art-studios/2024-04-02/
LOCATION:Island Art Association Education Center\, 18 N. 2nd St.\, Fernandina Beach\, FL\, 32034\, United States
END:VEVENT
BEGIN:VEVENT
DTSTART;TZID=America/New_York:20240328T130000
DTEND;TZID=America/New_York:20240328T170000
DTSTAMP:20260420T080537
CREATED:20240306T174126Z
LAST-MODIFIED:20240306T174225Z
UID:10003974-1711630800-1711645200@www.ameliaisland.com
SUMMARY:Drop-in Art Studios
DESCRIPTION:Bring your own supplies to the Island Art Assoc. on Tues and Thursday to paint with a group. No registration\, just show up. Any Medium Painting. \nTuesdays with Diane Withrow  and Thursdays with Chris McCall.
URL:https://www.ameliaisland.com/activity/drop-in-art-studios/2024-03-28/
LOCATION:Island Art Association Education Center\, 18 N. 2nd St.\, Fernandina Beach\, FL\, 32034\, United States
END:VEVENT
BEGIN:VEVENT
DTSTART;TZID=America/New_York:20240326T130000
DTEND;TZID=America/New_York:20240326T170000
DTSTAMP:20260420T080537
CREATED:20240306T174126Z
LAST-MODIFIED:20240306T174225Z
UID:10003531-1711458000-1711472400@www.ameliaisland.com
SUMMARY:Drop-in Art Studios
DESCRIPTION:Bring your own supplies to the Island Art Assoc. on Tues and Thursday to paint with a group. No registration\, just show up. Any Medium Painting. \nTuesdays with Diane Withrow  and Thursdays with Chris McCall.
URL:https://www.ameliaisland.com/activity/drop-in-art-studios/2024-03-26/
LOCATION:Island Art Association Education Center\, 18 N. 2nd St.\, Fernandina Beach\, FL\, 32034\, United States
END:VEVENT
BEGIN:VEVENT
DTSTART;TZID=America/New_York:20240321T130000
DTEND;TZID=America/New_York:20240321T170000
DTSTAMP:20260420T080537
CREATED:20240306T174126Z
LAST-MODIFIED:20240306T174225Z
UID:10003973-1711026000-1711040400@www.ameliaisland.com
SUMMARY:Drop-in Art Studios
DESCRIPTION:Bring your own supplies to the Island Art Assoc. on Tues and Thursday to paint with a group. No registration\, just show up. Any Medium Painting. \nTuesdays with Diane Withrow  and Thursdays with Chris McCall.
URL:https://www.ameliaisland.com/activity/drop-in-art-studios/2024-03-21/
LOCATION:Island Art Association Education Center\, 18 N. 2nd St.\, Fernandina Beach\, FL\, 32034\, United States
END:VEVENT
BEGIN:VEVENT
DTSTART;TZID=America/New_York:20240319T130000
DTEND;TZID=America/New_York:20240319T170000
DTSTAMP:20260420T080537
CREATED:20240306T174126Z
LAST-MODIFIED:20240306T174225Z
UID:10003530-1710853200-1710867600@www.ameliaisland.com
SUMMARY:Drop-in Art Studios
DESCRIPTION:Bring your own supplies to the Island Art Assoc. on Tues and Thursday to paint with a group. No registration\, just show up. Any Medium Painting. \nTuesdays with Diane Withrow  and Thursdays with Chris McCall.
URL:https://www.ameliaisland.com/activity/drop-in-art-studios/2024-03-19/
LOCATION:Island Art Association Education Center\, 18 N. 2nd St.\, Fernandina Beach\, FL\, 32034\, United States
END:VEVENT
BEGIN:VEVENT
DTSTART;TZID=America/New_York:20240314T130000
DTEND;TZID=America/New_York:20240314T170000
DTSTAMP:20260420T080537
CREATED:20240306T174126Z
LAST-MODIFIED:20240306T174225Z
UID:10003972-1710421200-1710435600@www.ameliaisland.com
SUMMARY:Drop-in Art Studios
DESCRIPTION:Bring your own supplies to the Island Art Assoc. on Tues and Thursday to paint with a group. No registration\, just show up. Any Medium Painting. \nTuesdays with Diane Withrow  and Thursdays with Chris McCall.
URL:https://www.ameliaisland.com/activity/drop-in-art-studios/2024-03-14/
LOCATION:Island Art Association Education Center\, 18 N. 2nd St.\, Fernandina Beach\, FL\, 32034\, United States
END:VEVENT
BEGIN:VEVENT
DTSTART;TZID=America/New_York:20240312T130000
DTEND;TZID=America/New_York:20240312T170000
DTSTAMP:20260420T080537
CREATED:20240306T174126Z
LAST-MODIFIED:20240306T174225Z
UID:10003529-1710248400-1710262800@www.ameliaisland.com
SUMMARY:Drop-in Art Studios
DESCRIPTION:Bring your own supplies to the Island Art Assoc. on Tues and Thursday to paint with a group. No registration\, just show up. Any Medium Painting. \nTuesdays with Diane Withrow  and Thursdays with Chris McCall.
URL:https://www.ameliaisland.com/activity/drop-in-art-studios/2024-03-12/
LOCATION:Island Art Association Education Center\, 18 N. 2nd St.\, Fernandina Beach\, FL\, 32034\, United States
END:VEVENT
BEGIN:VEVENT
DTSTART;TZID=America/New_York:20240307T130000
DTEND;TZID=America/New_York:20240307T170000
DTSTAMP:20260420T080537
CREATED:20240306T174126Z
LAST-MODIFIED:20240306T174225Z
UID:10003971-1709816400-1709830800@www.ameliaisland.com
SUMMARY:Drop-in Art Studios
DESCRIPTION:Bring your own supplies to the Island Art Assoc. on Tues and Thursday to paint with a group. No registration\, just show up. Any Medium Painting. \nTuesdays with Diane Withrow  and Thursdays with Chris McCall.
URL:https://www.ameliaisland.com/activity/drop-in-art-studios/2024-03-07/
LOCATION:Island Art Association Education Center\, 18 N. 2nd St.\, Fernandina Beach\, FL\, 32034\, United States
END:VEVENT
BEGIN:VEVENT
DTSTART;TZID=America/New_York:20240305T130000
DTEND;TZID=America/New_York:20240305T170000
DTSTAMP:20260420T080537
CREATED:20240306T174126Z
LAST-MODIFIED:20240306T174225Z
UID:10003528-1709643600-1709658000@www.ameliaisland.com
SUMMARY:Drop-in Art Studios
DESCRIPTION:Bring your own supplies to the Island Art Assoc. on Tues and Thursday to paint with a group. No registration\, just show up. Any Medium Painting. \nTuesdays with Diane Withrow  and Thursdays with Chris McCall.
URL:https://www.ameliaisland.com/activity/drop-in-art-studios/2024-03-05/
LOCATION:Island Art Association Education Center\, 18 N. 2nd St.\, Fernandina Beach\, FL\, 32034\, United States
END:VEVENT
BEGIN:VEVENT
DTSTART;TZID=America/New_York:20240229T130000
DTEND;TZID=America/New_York:20240229T170000
DTSTAMP:20260420T080537
CREATED:20240306T174126Z
LAST-MODIFIED:20240306T174225Z
UID:10003970-1709211600-1709226000@www.ameliaisland.com
SUMMARY:Drop-in Art Studios
DESCRIPTION:Bring your own supplies to the Island Art Assoc. on Tues and Thursday to paint with a group. No registration\, just show up. Any Medium Painting. \nTuesdays with Diane Withrow  and Thursdays with Chris McCall.
URL:https://www.ameliaisland.com/activity/drop-in-art-studios/2024-02-29/
LOCATION:Island Art Association Education Center\, 18 N. 2nd St.\, Fernandina Beach\, FL\, 32034\, United States
END:VEVENT
BEGIN:VEVENT
DTSTART;TZID=America/New_York:20240227T130000
DTEND;TZID=America/New_York:20240227T170000
DTSTAMP:20260420T080537
CREATED:20240306T174126Z
LAST-MODIFIED:20240306T174225Z
UID:10003527-1709038800-1709053200@www.ameliaisland.com
SUMMARY:Drop-in Art Studios
DESCRIPTION:Bring your own supplies to the Island Art Assoc. on Tues and Thursday to paint with a group. No registration\, just show up. Any Medium Painting. \nTuesdays with Diane Withrow  and Thursdays with Chris McCall.
URL:https://www.ameliaisland.com/activity/drop-in-art-studios/2024-02-27/
LOCATION:Island Art Association Education Center\, 18 N. 2nd St.\, Fernandina Beach\, FL\, 32034\, United States
END:VEVENT
END:VCALENDAR