BEGIN:VCALENDAR
VERSION:2.0
PRODID:-//Amelia Island - ECPv6.8.0//NONSGML v1.0//EN
CALSCALE:GREGORIAN
METHOD:PUBLISH
X-WR-CALNAME:Amelia Island
X-ORIGINAL-URL:https://www.ameliaisland.com
X-WR-CALDESC:Events for Amelia Island
REFRESH-INTERVAL;VALUE=DURATION:PT1H
X-Robots-Tag:noindex
X-PUBLISHED-TTL:PT1H
BEGIN:VTIMEZONE
TZID:America/New_York
BEGIN:DAYLIGHT
TZOFFSETFROM:-0500
TZOFFSETTO:-0400
TZNAME:EDT
DTSTART:20240310T070000
END:DAYLIGHT
BEGIN:STANDARD
TZOFFSETFROM:-0400
TZOFFSETTO:-0500
TZNAME:EST
DTSTART:20241103T060000
END:STANDARD
BEGIN:DAYLIGHT
TZOFFSETFROM:-0500
TZOFFSETTO:-0400
TZNAME:EDT
DTSTART:20250309T070000
END:DAYLIGHT
BEGIN:STANDARD
TZOFFSETFROM:-0400
TZOFFSETTO:-0500
TZNAME:EST
DTSTART:20251102T060000
END:STANDARD
END:VTIMEZONE
BEGIN:VEVENT
DTSTART;TZID=America/New_York:20250420T140000
DTEND;TZID=America/New_York:20250420T150000
DTSTAMP:20260420T025122
CREATED:20241017T124642Z
LAST-MODIFIED:20241017T124642Z
UID:10016074-1745157600-1745161200@www.ameliaisland.com
SUMMARY:Island Art Association - Sundays on Second
DESCRIPTION:Island Art Association hosts free Artist Encounters every third Sunday at 2:00 pm. \nReservations are required. Registration will open on the third Monday of each month. Registration will be open for two weeks\, then names will be drawn for the number of spaces available and registrants will be notified. Contact Alice at glassgirl445@gmail.com
URL:https://www.ameliaisland.com/activity/island-art-association-sundays-on-second/2025-04-20/
LOCATION:Island Art Association Education Center\, 18 N. 2nd St.\, Fernandina Beach\, FL\, 32034\, United States
ATTACH;FMTTYPE=image/jpeg:https://www.ameliaisland.com/wp-content/uploads/Island-Art-Association-4.jpg
END:VEVENT
BEGIN:VEVENT
DTSTART;TZID=America/New_York:20250316T140000
DTEND;TZID=America/New_York:20250316T150000
DTSTAMP:20260420T025122
CREATED:20241017T124642Z
LAST-MODIFIED:20241017T124642Z
UID:10016073-1742133600-1742137200@www.ameliaisland.com
SUMMARY:Island Art Association - Sundays on Second
DESCRIPTION:Island Art Association hosts free Artist Encounters every third Sunday at 2:00 pm. \nReservations are required. Registration will open on the third Monday of each month. Registration will be open for two weeks\, then names will be drawn for the number of spaces available and registrants will be notified. Contact Alice at glassgirl445@gmail.com
URL:https://www.ameliaisland.com/activity/island-art-association-sundays-on-second/2025-03-16/
LOCATION:Island Art Association Education Center\, 18 N. 2nd St.\, Fernandina Beach\, FL\, 32034\, United States
ATTACH;FMTTYPE=image/jpeg:https://www.ameliaisland.com/wp-content/uploads/Island-Art-Association-4.jpg
END:VEVENT
BEGIN:VEVENT
DTSTART;TZID=America/New_York:20250216T140000
DTEND;TZID=America/New_York:20250216T150000
DTSTAMP:20260420T025122
CREATED:20241017T124642Z
LAST-MODIFIED:20241017T124642Z
UID:10016072-1739714400-1739718000@www.ameliaisland.com
SUMMARY:Island Art Association - Sundays on Second
DESCRIPTION:Island Art Association hosts free Artist Encounters every third Sunday at 2:00 pm. \nReservations are required. Registration will open on the third Monday of each month. Registration will be open for two weeks\, then names will be drawn for the number of spaces available and registrants will be notified. Contact Alice at glassgirl445@gmail.com
URL:https://www.ameliaisland.com/activity/island-art-association-sundays-on-second/2025-02-16/
LOCATION:Island Art Association Education Center\, 18 N. 2nd St.\, Fernandina Beach\, FL\, 32034\, United States
ATTACH;FMTTYPE=image/jpeg:https://www.ameliaisland.com/wp-content/uploads/Island-Art-Association-4.jpg
END:VEVENT
BEGIN:VEVENT
DTSTART;TZID=America/New_York:20250119T140000
DTEND;TZID=America/New_York:20250119T150000
DTSTAMP:20260420T025123
CREATED:20241017T124642Z
LAST-MODIFIED:20241017T124642Z
UID:10016071-1737295200-1737298800@www.ameliaisland.com
SUMMARY:Island Art Association - Sundays on Second
DESCRIPTION:Island Art Association hosts free Artist Encounters every third Sunday at 2:00 pm. \nReservations are required. Registration will open on the third Monday of each month. Registration will be open for two weeks\, then names will be drawn for the number of spaces available and registrants will be notified. Contact Alice at glassgirl445@gmail.com
URL:https://www.ameliaisland.com/activity/island-art-association-sundays-on-second/2025-01-19/
LOCATION:Island Art Association Education Center\, 18 N. 2nd St.\, Fernandina Beach\, FL\, 32034\, United States
ATTACH;FMTTYPE=image/jpeg:https://www.ameliaisland.com/wp-content/uploads/Island-Art-Association-4.jpg
END:VEVENT
BEGIN:VEVENT
DTSTART;TZID=America/New_York:20241215T140000
DTEND;TZID=America/New_York:20241215T150000
DTSTAMP:20260420T025123
CREATED:20241017T124642Z
LAST-MODIFIED:20241017T124642Z
UID:10016070-1734271200-1734274800@www.ameliaisland.com
SUMMARY:Island Art Association - Sundays on Second
DESCRIPTION:Island Art Association hosts free Artist Encounters every third Sunday at 2:00 pm. \nReservations are required. Registration will open on the third Monday of each month. Registration will be open for two weeks\, then names will be drawn for the number of spaces available and registrants will be notified. Contact Alice at glassgirl445@gmail.com
URL:https://www.ameliaisland.com/activity/island-art-association-sundays-on-second/2024-12-15/
LOCATION:Island Art Association Education Center\, 18 N. 2nd St.\, Fernandina Beach\, FL\, 32034\, United States
ATTACH;FMTTYPE=image/jpeg:https://www.ameliaisland.com/wp-content/uploads/Island-Art-Association-4.jpg
END:VEVENT
BEGIN:VEVENT
DTSTART;TZID=America/New_York:20241126T130000
DTEND;TZID=America/New_York:20241126T170000
DTSTAMP:20260420T025123
CREATED:20241017T122117Z
LAST-MODIFIED:20241017T122117Z
UID:10016065-1732626000-1732640400@www.ameliaisland.com
SUMMARY:Open Studio - Island Art Association
DESCRIPTION:An Open Studio is held on Tuesdays and Thursdays in November from 1:00-5:00 pm. Bring your own project/supplies to the Art Education Center to create with a group. \nFor more information\, contact Diane Withrow\, diane.withrow@icloud.com or Chris McCall\, chris.mccall370@gmail.com.
URL:https://www.ameliaisland.com/activity/open-studio-island-art-association/2024-11-26/
LOCATION:Island Art Association Education Center\, 18 N. 2nd St.\, Fernandina Beach\, FL\, 32034\, United States
ATTACH;FMTTYPE=image/jpeg:https://www.ameliaisland.com/wp-content/uploads/Island-Art-Association-4.jpg
END:VEVENT
BEGIN:VEVENT
DTSTART;TZID=America/New_York:20241121T130000
DTEND;TZID=America/New_York:20241121T170000
DTSTAMP:20260420T025123
CREATED:20241017T122117Z
LAST-MODIFIED:20241017T122117Z
UID:10016064-1732194000-1732208400@www.ameliaisland.com
SUMMARY:Open Studio - Island Art Association
DESCRIPTION:An Open Studio is held on Tuesdays and Thursdays in November from 1:00-5:00 pm. Bring your own project/supplies to the Art Education Center to create with a group. \nFor more information\, contact Diane Withrow\, diane.withrow@icloud.com or Chris McCall\, chris.mccall370@gmail.com.
URL:https://www.ameliaisland.com/activity/open-studio-island-art-association/2024-11-21/
LOCATION:Island Art Association Education Center\, 18 N. 2nd St.\, Fernandina Beach\, FL\, 32034\, United States
ATTACH;FMTTYPE=image/jpeg:https://www.ameliaisland.com/wp-content/uploads/Island-Art-Association-4.jpg
END:VEVENT
BEGIN:VEVENT
DTSTART;TZID=America/New_York:20241119T130000
DTEND;TZID=America/New_York:20241119T170000
DTSTAMP:20260420T025123
CREATED:20241017T122117Z
LAST-MODIFIED:20241017T122117Z
UID:10016063-1732021200-1732035600@www.ameliaisland.com
SUMMARY:Open Studio - Island Art Association
DESCRIPTION:An Open Studio is held on Tuesdays and Thursdays in November from 1:00-5:00 pm. Bring your own project/supplies to the Art Education Center to create with a group. \nFor more information\, contact Diane Withrow\, diane.withrow@icloud.com or Chris McCall\, chris.mccall370@gmail.com.
URL:https://www.ameliaisland.com/activity/open-studio-island-art-association/2024-11-19/
LOCATION:Island Art Association Education Center\, 18 N. 2nd St.\, Fernandina Beach\, FL\, 32034\, United States
ATTACH;FMTTYPE=image/jpeg:https://www.ameliaisland.com/wp-content/uploads/Island-Art-Association-4.jpg
END:VEVENT
BEGIN:VEVENT
DTSTART;TZID=America/New_York:20241117T140000
DTEND;TZID=America/New_York:20241117T150000
DTSTAMP:20260420T025123
CREATED:20241017T124642Z
LAST-MODIFIED:20241017T124642Z
UID:10016069-1731852000-1731855600@www.ameliaisland.com
SUMMARY:Island Art Association - Sundays on Second
DESCRIPTION:Island Art Association hosts free Artist Encounters every third Sunday at 2:00 pm. \nReservations are required. Registration will open on the third Monday of each month. Registration will be open for two weeks\, then names will be drawn for the number of spaces available and registrants will be notified. Contact Alice at glassgirl445@gmail.com
URL:https://www.ameliaisland.com/activity/island-art-association-sundays-on-second/2024-11-17/
LOCATION:Island Art Association Education Center\, 18 N. 2nd St.\, Fernandina Beach\, FL\, 32034\, United States
ATTACH;FMTTYPE=image/jpeg:https://www.ameliaisland.com/wp-content/uploads/Island-Art-Association-4.jpg
END:VEVENT
BEGIN:VEVENT
DTSTART;TZID=America/New_York:20241116T110000
DTEND;TZID=America/New_York:20241116T123000
DTSTAMP:20260420T025123
CREATED:20241017T123724Z
LAST-MODIFIED:20241017T123724Z
UID:10016068-1731754800-1731760200@www.ameliaisland.com
SUMMARY:Children’s Art - Island Art Association
DESCRIPTION:An Art Class for children 5 yrs. old and older is held from 11:00 – 12:30 pm in the Art Education Center at the Island Art Association. \nRegistration is required. Pipar West leads the session.
URL:https://www.ameliaisland.com/activity/childrens-art-island-art-association/
LOCATION:Island Art Association Education Center\, 18 N. 2nd St.\, Fernandina Beach\, FL\, 32034\, United States
ATTACH;FMTTYPE=image/jpeg:https://www.ameliaisland.com/wp-content/uploads/Island-Art-Association-3.jpg
END:VEVENT
BEGIN:VEVENT
DTSTART;TZID=America/New_York:20241114T130000
DTEND;TZID=America/New_York:20241114T170000
DTSTAMP:20260420T025123
CREATED:20241017T122117Z
LAST-MODIFIED:20241017T122117Z
UID:10016062-1731589200-1731603600@www.ameliaisland.com
SUMMARY:Open Studio - Island Art Association
DESCRIPTION:An Open Studio is held on Tuesdays and Thursdays in November from 1:00-5:00 pm. Bring your own project/supplies to the Art Education Center to create with a group. \nFor more information\, contact Diane Withrow\, diane.withrow@icloud.com or Chris McCall\, chris.mccall370@gmail.com.
URL:https://www.ameliaisland.com/activity/open-studio-island-art-association/2024-11-14/
LOCATION:Island Art Association Education Center\, 18 N. 2nd St.\, Fernandina Beach\, FL\, 32034\, United States
ATTACH;FMTTYPE=image/jpeg:https://www.ameliaisland.com/wp-content/uploads/Island-Art-Association-4.jpg
END:VEVENT
BEGIN:VEVENT
DTSTART;TZID=America/New_York:20241112T130000
DTEND;TZID=America/New_York:20241112T170000
DTSTAMP:20260420T025123
CREATED:20241017T122117Z
LAST-MODIFIED:20241017T122117Z
UID:10016061-1731416400-1731430800@www.ameliaisland.com
SUMMARY:Open Studio - Island Art Association
DESCRIPTION:An Open Studio is held on Tuesdays and Thursdays in November from 1:00-5:00 pm. Bring your own project/supplies to the Art Education Center to create with a group. \nFor more information\, contact Diane Withrow\, diane.withrow@icloud.com or Chris McCall\, chris.mccall370@gmail.com.
URL:https://www.ameliaisland.com/activity/open-studio-island-art-association/2024-11-12/
LOCATION:Island Art Association Education Center\, 18 N. 2nd St.\, Fernandina Beach\, FL\, 32034\, United States
ATTACH;FMTTYPE=image/jpeg:https://www.ameliaisland.com/wp-content/uploads/Island-Art-Association-4.jpg
END:VEVENT
BEGIN:VEVENT
DTSTART;TZID=America/New_York:20241109T170000
DTEND;TZID=America/New_York:20241109T190000
DTSTAMP:20260420T025123
CREATED:20241017T123230Z
LAST-MODIFIED:20241017T123230Z
UID:10016067-1731171600-1731178800@www.ameliaisland.com
SUMMARY:Second Saturday Artwalk - Christmas Shop Opening
DESCRIPTION:Island Art Association hosts the opening of the Christmas Shop from 5:00 – 7:00 pm. in the gallery. The Christmas Shop will remain open throughout the holidays. Come and shop for smaller gifts $100 or less for loved ones – and yourself!
URL:https://www.ameliaisland.com/activity/second-saturday-artwalk-christmas-shop-opening/
LOCATION:Island Art Association Education Center\, 18 N. 2nd St.\, Fernandina Beach\, FL\, 32034\, United States
ATTACH;FMTTYPE=image/jpeg:https://www.ameliaisland.com/wp-content/uploads/Island-Art-Association-2.jpg
END:VEVENT
BEGIN:VEVENT
DTSTART;TZID=America/New_York:20241109T090000
DTEND;TZID=America/New_York:20241109T110000
DTSTAMP:20260420T025123
CREATED:20241017T122716Z
LAST-MODIFIED:20241017T122716Z
UID:10016066-1731142800-1731150000@www.ameliaisland.com
SUMMARY:Figure Drawing Group
DESCRIPTION:Island Art Association has a monthly live figure drawing session from 9:00 – 11:00 am. The cost is $5 to support a model. The meeting will be held at the Island Art Association’s Art Education Center. Mary Quinlan leads the session.
URL:https://www.ameliaisland.com/activity/figure-drawing-group/
LOCATION:Island Art Association Education Center\, 18 N. 2nd St.\, Fernandina Beach\, FL\, 32034\, United States
ATTACH;FMTTYPE=image/jpeg:https://www.ameliaisland.com/wp-content/uploads/Island-Art-Association-1.jpg
END:VEVENT
BEGIN:VEVENT
DTSTART;TZID=America/New_York:20241107T130000
DTEND;TZID=America/New_York:20241107T170000
DTSTAMP:20260420T025123
CREATED:20241017T122117Z
LAST-MODIFIED:20241017T122117Z
UID:10016060-1730984400-1730998800@www.ameliaisland.com
SUMMARY:Open Studio - Island Art Association
DESCRIPTION:An Open Studio is held on Tuesdays and Thursdays in November from 1:00-5:00 pm. Bring your own project/supplies to the Art Education Center to create with a group. \nFor more information\, contact Diane Withrow\, diane.withrow@icloud.com or Chris McCall\, chris.mccall370@gmail.com.
URL:https://www.ameliaisland.com/activity/open-studio-island-art-association/2024-11-07/
LOCATION:Island Art Association Education Center\, 18 N. 2nd St.\, Fernandina Beach\, FL\, 32034\, United States
ATTACH;FMTTYPE=image/jpeg:https://www.ameliaisland.com/wp-content/uploads/Island-Art-Association-4.jpg
END:VEVENT
BEGIN:VEVENT
DTSTART;TZID=America/New_York:20241105T130000
DTEND;TZID=America/New_York:20241105T170000
DTSTAMP:20260420T025123
CREATED:20241017T122117Z
LAST-MODIFIED:20241017T122117Z
UID:10016059-1730811600-1730826000@www.ameliaisland.com
SUMMARY:Open Studio - Island Art Association
DESCRIPTION:An Open Studio is held on Tuesdays and Thursdays in November from 1:00-5:00 pm. Bring your own project/supplies to the Art Education Center to create with a group. \nFor more information\, contact Diane Withrow\, diane.withrow@icloud.com or Chris McCall\, chris.mccall370@gmail.com.
URL:https://www.ameliaisland.com/activity/open-studio-island-art-association/2024-11-05/
LOCATION:Island Art Association Education Center\, 18 N. 2nd St.\, Fernandina Beach\, FL\, 32034\, United States
ATTACH;FMTTYPE=image/jpeg:https://www.ameliaisland.com/wp-content/uploads/Island-Art-Association-4.jpg
END:VEVENT
BEGIN:VEVENT
DTSTART;TZID=America/New_York:20240815T130000
DTEND;TZID=America/New_York:20240815T170000
DTSTAMP:20260420T025123
CREATED:20240306T174126Z
LAST-MODIFIED:20240306T174225Z
UID:10003994-1723726800-1723741200@www.ameliaisland.com
SUMMARY:Drop-in Art Studios
DESCRIPTION:Bring your own supplies to the Island Art Assoc. on Tues and Thursday to paint with a group. No registration\, just show up. Any Medium Painting. \nTuesdays with Diane Withrow  and Thursdays with Chris McCall.
URL:https://www.ameliaisland.com/activity/drop-in-art-studios/2024-08-15/
LOCATION:Island Art Association Education Center\, 18 N. 2nd St.\, Fernandina Beach\, FL\, 32034\, United States
END:VEVENT
BEGIN:VEVENT
DTSTART;TZID=America/New_York:20240813T130000
DTEND;TZID=America/New_York:20240813T170000
DTSTAMP:20260420T025123
CREATED:20240306T174126Z
LAST-MODIFIED:20240306T174225Z
UID:10003551-1723554000-1723568400@www.ameliaisland.com
SUMMARY:Drop-in Art Studios
DESCRIPTION:Bring your own supplies to the Island Art Assoc. on Tues and Thursday to paint with a group. No registration\, just show up. Any Medium Painting. \nTuesdays with Diane Withrow  and Thursdays with Chris McCall.
URL:https://www.ameliaisland.com/activity/drop-in-art-studios/2024-08-13/
LOCATION:Island Art Association Education Center\, 18 N. 2nd St.\, Fernandina Beach\, FL\, 32034\, United States
END:VEVENT
BEGIN:VEVENT
DTSTART;TZID=America/New_York:20240808T130000
DTEND;TZID=America/New_York:20240808T170000
DTSTAMP:20260420T025123
CREATED:20240306T174126Z
LAST-MODIFIED:20240306T174225Z
UID:10003993-1723122000-1723136400@www.ameliaisland.com
SUMMARY:Drop-in Art Studios
DESCRIPTION:Bring your own supplies to the Island Art Assoc. on Tues and Thursday to paint with a group. No registration\, just show up. Any Medium Painting. \nTuesdays with Diane Withrow  and Thursdays with Chris McCall.
URL:https://www.ameliaisland.com/activity/drop-in-art-studios/2024-08-08/
LOCATION:Island Art Association Education Center\, 18 N. 2nd St.\, Fernandina Beach\, FL\, 32034\, United States
END:VEVENT
BEGIN:VEVENT
DTSTART;TZID=America/New_York:20240806T130000
DTEND;TZID=America/New_York:20240806T170000
DTSTAMP:20260420T025123
CREATED:20240306T174126Z
LAST-MODIFIED:20240306T174225Z
UID:10003550-1722949200-1722963600@www.ameliaisland.com
SUMMARY:Drop-in Art Studios
DESCRIPTION:Bring your own supplies to the Island Art Assoc. on Tues and Thursday to paint with a group. No registration\, just show up. Any Medium Painting. \nTuesdays with Diane Withrow  and Thursdays with Chris McCall.
URL:https://www.ameliaisland.com/activity/drop-in-art-studios/2024-08-06/
LOCATION:Island Art Association Education Center\, 18 N. 2nd St.\, Fernandina Beach\, FL\, 32034\, United States
END:VEVENT
BEGIN:VEVENT
DTSTART;TZID=America/New_York:20240801T130000
DTEND;TZID=America/New_York:20240801T170000
DTSTAMP:20260420T025123
CREATED:20240306T174126Z
LAST-MODIFIED:20240306T174225Z
UID:10003992-1722517200-1722531600@www.ameliaisland.com
SUMMARY:Drop-in Art Studios
DESCRIPTION:Bring your own supplies to the Island Art Assoc. on Tues and Thursday to paint with a group. No registration\, just show up. Any Medium Painting. \nTuesdays with Diane Withrow  and Thursdays with Chris McCall.
URL:https://www.ameliaisland.com/activity/drop-in-art-studios/2024-08-01/
LOCATION:Island Art Association Education Center\, 18 N. 2nd St.\, Fernandina Beach\, FL\, 32034\, United States
END:VEVENT
BEGIN:VEVENT
DTSTART;TZID=America/New_York:20240730T130000
DTEND;TZID=America/New_York:20240730T170000
DTSTAMP:20260420T025123
CREATED:20240306T174126Z
LAST-MODIFIED:20240306T174225Z
UID:10003549-1722344400-1722358800@www.ameliaisland.com
SUMMARY:Drop-in Art Studios
DESCRIPTION:Bring your own supplies to the Island Art Assoc. on Tues and Thursday to paint with a group. No registration\, just show up. Any Medium Painting. \nTuesdays with Diane Withrow  and Thursdays with Chris McCall.
URL:https://www.ameliaisland.com/activity/drop-in-art-studios/2024-07-30/
LOCATION:Island Art Association Education Center\, 18 N. 2nd St.\, Fernandina Beach\, FL\, 32034\, United States
END:VEVENT
BEGIN:VEVENT
DTSTART;TZID=America/New_York:20240725T130000
DTEND;TZID=America/New_York:20240725T170000
DTSTAMP:20260420T025123
CREATED:20240306T174126Z
LAST-MODIFIED:20240306T174225Z
UID:10003991-1721912400-1721926800@www.ameliaisland.com
SUMMARY:Drop-in Art Studios
DESCRIPTION:Bring your own supplies to the Island Art Assoc. on Tues and Thursday to paint with a group. No registration\, just show up. Any Medium Painting. \nTuesdays with Diane Withrow  and Thursdays with Chris McCall.
URL:https://www.ameliaisland.com/activity/drop-in-art-studios/2024-07-25/
LOCATION:Island Art Association Education Center\, 18 N. 2nd St.\, Fernandina Beach\, FL\, 32034\, United States
END:VEVENT
BEGIN:VEVENT
DTSTART;TZID=America/New_York:20240723T130000
DTEND;TZID=America/New_York:20240723T170000
DTSTAMP:20260420T025123
CREATED:20240306T174126Z
LAST-MODIFIED:20240306T174225Z
UID:10003548-1721739600-1721754000@www.ameliaisland.com
SUMMARY:Drop-in Art Studios
DESCRIPTION:Bring your own supplies to the Island Art Assoc. on Tues and Thursday to paint with a group. No registration\, just show up. Any Medium Painting. \nTuesdays with Diane Withrow  and Thursdays with Chris McCall.
URL:https://www.ameliaisland.com/activity/drop-in-art-studios/2024-07-23/
LOCATION:Island Art Association Education Center\, 18 N. 2nd St.\, Fernandina Beach\, FL\, 32034\, United States
END:VEVENT
BEGIN:VEVENT
DTSTART;TZID=America/New_York:20240718T130000
DTEND;TZID=America/New_York:20240718T170000
DTSTAMP:20260420T025123
CREATED:20240306T174126Z
LAST-MODIFIED:20240306T174225Z
UID:10003990-1721307600-1721322000@www.ameliaisland.com
SUMMARY:Drop-in Art Studios
DESCRIPTION:Bring your own supplies to the Island Art Assoc. on Tues and Thursday to paint with a group. No registration\, just show up. Any Medium Painting. \nTuesdays with Diane Withrow  and Thursdays with Chris McCall.
URL:https://www.ameliaisland.com/activity/drop-in-art-studios/2024-07-18/
LOCATION:Island Art Association Education Center\, 18 N. 2nd St.\, Fernandina Beach\, FL\, 32034\, United States
END:VEVENT
BEGIN:VEVENT
DTSTART;TZID=America/New_York:20240716T130000
DTEND;TZID=America/New_York:20240716T170000
DTSTAMP:20260420T025123
CREATED:20240306T174126Z
LAST-MODIFIED:20240306T174225Z
UID:10003547-1721134800-1721149200@www.ameliaisland.com
SUMMARY:Drop-in Art Studios
DESCRIPTION:Bring your own supplies to the Island Art Assoc. on Tues and Thursday to paint with a group. No registration\, just show up. Any Medium Painting. \nTuesdays with Diane Withrow  and Thursdays with Chris McCall.
URL:https://www.ameliaisland.com/activity/drop-in-art-studios/2024-07-16/
LOCATION:Island Art Association Education Center\, 18 N. 2nd St.\, Fernandina Beach\, FL\, 32034\, United States
END:VEVENT
BEGIN:VEVENT
DTSTART;TZID=America/New_York:20240711T130000
DTEND;TZID=America/New_York:20240711T170000
DTSTAMP:20260420T025123
CREATED:20240306T174126Z
LAST-MODIFIED:20240306T174225Z
UID:10003989-1720702800-1720717200@www.ameliaisland.com
SUMMARY:Drop-in Art Studios
DESCRIPTION:Bring your own supplies to the Island Art Assoc. on Tues and Thursday to paint with a group. No registration\, just show up. Any Medium Painting. \nTuesdays with Diane Withrow  and Thursdays with Chris McCall.
URL:https://www.ameliaisland.com/activity/drop-in-art-studios/2024-07-11/
LOCATION:Island Art Association Education Center\, 18 N. 2nd St.\, Fernandina Beach\, FL\, 32034\, United States
END:VEVENT
BEGIN:VEVENT
DTSTART;TZID=America/New_York:20240709T130000
DTEND;TZID=America/New_York:20240709T170000
DTSTAMP:20260420T025123
CREATED:20240306T174126Z
LAST-MODIFIED:20240306T174225Z
UID:10003546-1720530000-1720544400@www.ameliaisland.com
SUMMARY:Drop-in Art Studios
DESCRIPTION:Bring your own supplies to the Island Art Assoc. on Tues and Thursday to paint with a group. No registration\, just show up. Any Medium Painting. \nTuesdays with Diane Withrow  and Thursdays with Chris McCall.
URL:https://www.ameliaisland.com/activity/drop-in-art-studios/2024-07-09/
LOCATION:Island Art Association Education Center\, 18 N. 2nd St.\, Fernandina Beach\, FL\, 32034\, United States
END:VEVENT
BEGIN:VEVENT
DTSTART;TZID=America/New_York:20240704T130000
DTEND;TZID=America/New_York:20240704T170000
DTSTAMP:20260420T025123
CREATED:20240306T174126Z
LAST-MODIFIED:20240306T174225Z
UID:10003988-1720098000-1720112400@www.ameliaisland.com
SUMMARY:Drop-in Art Studios
DESCRIPTION:Bring your own supplies to the Island Art Assoc. on Tues and Thursday to paint with a group. No registration\, just show up. Any Medium Painting. \nTuesdays with Diane Withrow  and Thursdays with Chris McCall.
URL:https://www.ameliaisland.com/activity/drop-in-art-studios/2024-07-04/
LOCATION:Island Art Association Education Center\, 18 N. 2nd St.\, Fernandina Beach\, FL\, 32034\, United States
END:VEVENT
BEGIN:VEVENT
DTSTART;TZID=America/New_York:20240702T130000
DTEND;TZID=America/New_York:20240702T170000
DTSTAMP:20260420T025123
CREATED:20240306T174126Z
LAST-MODIFIED:20240306T174225Z
UID:10003545-1719925200-1719939600@www.ameliaisland.com
SUMMARY:Drop-in Art Studios
DESCRIPTION:Bring your own supplies to the Island Art Assoc. on Tues and Thursday to paint with a group. No registration\, just show up. Any Medium Painting. \nTuesdays with Diane Withrow  and Thursdays with Chris McCall.
URL:https://www.ameliaisland.com/activity/drop-in-art-studios/2024-07-02/
LOCATION:Island Art Association Education Center\, 18 N. 2nd St.\, Fernandina Beach\, FL\, 32034\, United States
END:VEVENT
END:VCALENDAR