BEGIN:VCALENDAR
VERSION:2.0
PRODID:-//Amelia Island - ECPv6.8.0//NONSGML v1.0//EN
CALSCALE:GREGORIAN
METHOD:PUBLISH
X-WR-CALNAME:Amelia Island
X-ORIGINAL-URL:https://www.ameliaisland.com
X-WR-CALDESC:Events for Amelia Island
REFRESH-INTERVAL;VALUE=DURATION:PT1H
X-Robots-Tag:noindex
X-PUBLISHED-TTL:PT1H
BEGIN:VTIMEZONE
TZID:America/New_York
BEGIN:DAYLIGHT
TZOFFSETFROM:-0500
TZOFFSETTO:-0400
TZNAME:EDT
DTSTART:20230312T070000
END:DAYLIGHT
BEGIN:STANDARD
TZOFFSETFROM:-0400
TZOFFSETTO:-0500
TZNAME:EST
DTSTART:20231105T060000
END:STANDARD
END:VTIMEZONE
BEGIN:VEVENT
DTSTART;TZID=America/New_York:20231003T130000
DTEND;TZID=America/New_York:20231003T170000
DTSTAMP:20260420T174411
CREATED:20240306T174126Z
LAST-MODIFIED:20240306T174225Z
UID:10003506-1696338000-1696352400@www.ameliaisland.com
SUMMARY:Drop-in Art Studios
DESCRIPTION:Bring your own supplies to the Island Art Assoc. on Tues and Thursday to paint with a group. No registration\, just show up. Any Medium Painting. \nTuesdays with Diane Withrow  and Thursdays with Chris McCall.
URL:https://www.ameliaisland.com/activity/drop-in-art-studios/2023-10-03/
LOCATION:Island Art Association Education Center\, 18 N. 2nd St.\, Fernandina Beach\, FL\, 32034\, United States
END:VEVENT
END:VCALENDAR