BEGIN:VCALENDAR
VERSION:2.0
PRODID:-//Amelia Island - ECPv6.8.0//NONSGML v1.0//EN
CALSCALE:GREGORIAN
METHOD:PUBLISH
X-WR-CALNAME:Amelia Island
X-ORIGINAL-URL:https://www.ameliaisland.com
X-WR-CALDESC:Events for Amelia Island
REFRESH-INTERVAL;VALUE=DURATION:PT1H
X-Robots-Tag:noindex
X-PUBLISHED-TTL:PT1H
BEGIN:VTIMEZONE
TZID:America/New_York
BEGIN:DAYLIGHT
TZOFFSETFROM:-0500
TZOFFSETTO:-0400
TZNAME:EDT
DTSTART:20300310T070000
END:DAYLIGHT
BEGIN:STANDARD
TZOFFSETFROM:-0400
TZOFFSETTO:-0500
TZNAME:EST
DTSTART:20301103T060000
END:STANDARD
END:VTIMEZONE
BEGIN:VEVENT
DTSTART;TZID=America/New_York:20300505T110000
DTEND;TZID=America/New_York:20300505T150000
DTSTAMP:20260420T004319
CREATED:20250527T190224Z
LAST-MODIFIED:20250625T163333Z
UID:10022798-1904209200-1904223600@www.ameliaisland.com
SUMMARY:Market at Golf Pub Social
DESCRIPTION:Swing into Summer at Golf Pub Social! Join us for the Swing into Summer Market at Golf Pub Social! Enjoy live music on the G Pub stage while you explore over 25 local vendors featuring handmade jewelry\, art\, crafts\, fresh produce\, and more. Sip on your favorite drink\, savor something delicious and soak up the summer vibes!
URL:https://www.ameliaisland.com/activity/sunday-market-at-golf-pub-social/2030-05-05/
LOCATION:Golf Pub Social\, 1531 Sadler Road\, Fernandina Beach\, FL\, 32034\, United States
ATTACH;FMTTYPE=image/jpeg:https://www.ameliaisland.com/wp-content/uploads/Golf-Pub-Social.jpg
END:VEVENT
BEGIN:VEVENT
DTSTART;TZID=America/New_York:20300602T110000
DTEND;TZID=America/New_York:20300602T150000
DTSTAMP:20260420T004319
CREATED:20250527T190224Z
LAST-MODIFIED:20250625T163333Z
UID:10024831-1906628400-1906642800@www.ameliaisland.com
SUMMARY:Market at Golf Pub Social
DESCRIPTION:Swing into Summer at Golf Pub Social! Join us for the Swing into Summer Market at Golf Pub Social! Enjoy live music on the G Pub stage while you explore over 25 local vendors featuring handmade jewelry\, art\, crafts\, fresh produce\, and more. Sip on your favorite drink\, savor something delicious and soak up the summer vibes!
URL:https://www.ameliaisland.com/activity/sunday-market-at-golf-pub-social/2030-06-02/
LOCATION:Golf Pub Social\, 1531 Sadler Road\, Fernandina Beach\, FL\, 32034\, United States
ATTACH;FMTTYPE=image/jpeg:https://www.ameliaisland.com/wp-content/uploads/Golf-Pub-Social.jpg
END:VEVENT
END:VCALENDAR