BEGIN:VCALENDAR
VERSION:2.0
PRODID:-//Amelia Island - ECPv6.8.0//NONSGML v1.0//EN
CALSCALE:GREGORIAN
METHOD:PUBLISH
X-ORIGINAL-URL:https://www.ameliaisland.com
X-WR-CALDESC:Events for Amelia Island
REFRESH-INTERVAL;VALUE=DURATION:PT1H
X-Robots-Tag:noindex
X-PUBLISHED-TTL:PT1H
BEGIN:VTIMEZONE
TZID:America/New_York
BEGIN:DAYLIGHT
TZOFFSETFROM:-0500
TZOFFSETTO:-0400
TZNAME:EDT
DTSTART:20260308T070000
END:DAYLIGHT
BEGIN:STANDARD
TZOFFSETFROM:-0400
TZOFFSETTO:-0500
TZNAME:EST
DTSTART:20261101T060000
END:STANDARD
END:VTIMEZONE
BEGIN:VEVENT
DTSTART;TZID=America/New_York:20260529T150000
DTEND;TZID=America/New_York:20260529T200000
DTSTAMP:20260421T104345
CREATED:20260304T135654Z
LAST-MODIFIED:20260304T135654Z
UID:10029265-1780066800-1780084800@www.ameliaisland.com
SUMMARY:Fernandina Beach Kingfish Tournament and Fishing Rodeo
DESCRIPTION:The Fernandina Beach Kingfish Tournament and Fishing Rodeo and is produced by the Nassau Sport Fishing Association. This is a 2-day event with fishing on Saturday\, May 30th. \nThe tournament has 2 divisions: an offshore Kingfish Tournament and a Fishing Rodeo that includes 8 different species\, both inshore and offshore. This is our 43rd annual tournament and is sanctioned by the Southern Kingfish Association (SKA)\, a nationally recognized organization. The event will be held downtown at the Fernandina Harbor Marina in the city’s new waterfront park. The tournament will feature music\, food trucks and beverages\, T-shirt sales\, a raffle\, a Silent Auction\, and will wrap up on Saturday with the weigh-in from 2–5 pm and the awards ceremony afterwards. The event will be open to the public. \n** 1st Place in the Kingfish Tournament is guaranteed $10\,000. Separate prizes will be awarded for each species in the rodeo division. The Rodeo species are Redfish\, Sheepshead\, Flounder\, Whiting\, Pompano\, Spanish Mackerel\, Cobia\, and Sea Bass.
URL:https://www.ameliaisland.com/activity/fernandina-beach-kingfish-tournament-and-fishing-rodeo/2026-05-29/
LOCATION:Front Street\, N Front St\, Fernandina Beach\, FL\, 32034\, United States
ATTACH;FMTTYPE=image/jpeg:https://www.ameliaisland.com/wp-content/uploads/Kingfish-Tournament-logo-2026-scaled.jpeg
END:VEVENT
BEGIN:VEVENT
DTSTART;TZID=America/New_York:20260530T150000
DTEND;TZID=America/New_York:20260530T200000
DTSTAMP:20260421T104345
CREATED:20260304T135654Z
LAST-MODIFIED:20260304T135654Z
UID:10029266-1780153200-1780171200@www.ameliaisland.com
SUMMARY:Fernandina Beach Kingfish Tournament and Fishing Rodeo
DESCRIPTION:The Fernandina Beach Kingfish Tournament and Fishing Rodeo and is produced by the Nassau Sport Fishing Association. This is a 2-day event with fishing on Saturday\, May 30th. \nThe tournament has 2 divisions: an offshore Kingfish Tournament and a Fishing Rodeo that includes 8 different species\, both inshore and offshore. This is our 43rd annual tournament and is sanctioned by the Southern Kingfish Association (SKA)\, a nationally recognized organization. The event will be held downtown at the Fernandina Harbor Marina in the city’s new waterfront park. The tournament will feature music\, food trucks and beverages\, T-shirt sales\, a raffle\, a Silent Auction\, and will wrap up on Saturday with the weigh-in from 2–5 pm and the awards ceremony afterwards. The event will be open to the public. \n** 1st Place in the Kingfish Tournament is guaranteed $10\,000. Separate prizes will be awarded for each species in the rodeo division. The Rodeo species are Redfish\, Sheepshead\, Flounder\, Whiting\, Pompano\, Spanish Mackerel\, Cobia\, and Sea Bass.
URL:https://www.ameliaisland.com/activity/fernandina-beach-kingfish-tournament-and-fishing-rodeo/2026-05-30/
LOCATION:Front Street\, N Front St\, Fernandina Beach\, FL\, 32034\, United States
ATTACH;FMTTYPE=image/jpeg:https://www.ameliaisland.com/wp-content/uploads/Kingfish-Tournament-logo-2026-scaled.jpeg
END:VEVENT
END:VCALENDAR