BEGIN:VCALENDAR
VERSION:2.0
PRODID:-//Amelia Island - ECPv6.8.0//NONSGML v1.0//EN
CALSCALE:GREGORIAN
METHOD:PUBLISH
X-ORIGINAL-URL:https://www.ameliaisland.com
X-WR-CALDESC:Events for Amelia Island
REFRESH-INTERVAL;VALUE=DURATION:PT1H
X-Robots-Tag:noindex
X-PUBLISHED-TTL:PT1H
BEGIN:VTIMEZONE
TZID:America/New_York
BEGIN:DAYLIGHT
TZOFFSETFROM:-0500
TZOFFSETTO:-0400
TZNAME:EDT
DTSTART:20240310T070000
END:DAYLIGHT
BEGIN:STANDARD
TZOFFSETFROM:-0400
TZOFFSETTO:-0500
TZNAME:EST
DTSTART:20241103T060000
END:STANDARD
BEGIN:DAYLIGHT
TZOFFSETFROM:-0500
TZOFFSETTO:-0400
TZNAME:EDT
DTSTART:20250309T070000
END:DAYLIGHT
BEGIN:STANDARD
TZOFFSETFROM:-0400
TZOFFSETTO:-0500
TZNAME:EST
DTSTART:20251102T060000
END:STANDARD
END:VTIMEZONE
BEGIN:VEVENT
DTSTART;TZID=America/New_York:20250531T063000
DTEND;TZID=America/New_York:20250531T190000
DTSTAMP:20260424T114458
CREATED:20240416T210920Z
LAST-MODIFIED:20250403T143552Z
UID:10021577-1748673000-1748718000@www.ameliaisland.com
SUMMARY:NSFA Kingfish Tournament and Fishing Rodeo
DESCRIPTION:The Fernandina Beach Kingfish Tournament and Fishing Rodeo is produced by the Nassau Sport Fishing Association and 2025 is our 42nd annual tournament. While continuing our Kingfish Tournament tradition we are also offering a more family oriented Fishing Rodeo featuring 2 offshore species and 4 backwater species all targeted for cash awards. \nThe event will be held at the Fernandina Harbor Marina Parking Lot A in downtown Fernandina on May 30th – 31st and features a Silent Auction\, entertainment\, a raffle\, T-shirts. Food Trucks\, and a beer wagon. The raffle this year is awarding a 7 night stay at Sea Cottages of Amelia and a deluxe fishing equipment package provided by Renn Works. Food vendors this year include Voodoo Shrimp Shack\, Windy City Eats and Chic-fil-a.
URL:https://www.ameliaisland.com/activity/nsfa-kingfish-tournament-and-fishing-rodeo/2025-05-31/
LOCATION:Fernandina Harbor Marina\, 3 S Front Street\, Fernandina Beach\, FL\, 32034\, United States
ATTACH;FMTTYPE=image/jpeg:https://www.ameliaisland.com/wp-content/uploads/Fishing-Rodeo-2025-logo-scaled.jpg
END:VEVENT
BEGIN:VEVENT
DTSTART;TZID=America/New_York:20250530T140000
DTEND;TZID=America/New_York:20250530T210000
DTSTAMP:20260424T114458
CREATED:20240416T210920Z
LAST-MODIFIED:20250403T143552Z
UID:10021576-1748613600-1748638800@www.ameliaisland.com
SUMMARY:NSFA Kingfish Tournament and Fishing Rodeo
DESCRIPTION:The Fernandina Beach Kingfish Tournament and Fishing Rodeo is produced by the Nassau Sport Fishing Association and 2025 is our 42nd annual tournament. While continuing our Kingfish Tournament tradition we are also offering a more family oriented Fishing Rodeo featuring 2 offshore species and 4 backwater species all targeted for cash awards. \nThe event will be held at the Fernandina Harbor Marina Parking Lot A in downtown Fernandina on May 30th – 31st and features a Silent Auction\, entertainment\, a raffle\, T-shirts. Food Trucks\, and a beer wagon. The raffle this year is awarding a 7 night stay at Sea Cottages of Amelia and a deluxe fishing equipment package provided by Renn Works. Food vendors this year include Voodoo Shrimp Shack\, Windy City Eats and Chic-fil-a.
URL:https://www.ameliaisland.com/activity/nsfa-kingfish-tournament-and-fishing-rodeo/2025-05-30/
LOCATION:Fernandina Harbor Marina\, 3 S Front Street\, Fernandina Beach\, FL\, 32034\, United States
ATTACH;FMTTYPE=image/jpeg:https://www.ameliaisland.com/wp-content/uploads/Fishing-Rodeo-2025-logo-scaled.jpg
END:VEVENT
BEGIN:VEVENT
DTSTART;TZID=America/New_York:20240116T100000
DTEND;TZID=America/New_York:20240116T180000
DTSTAMP:20260424T114458
CREATED:20240306T173854Z
LAST-MODIFIED:20240306T173940Z
UID:10007417-1705399200-1705428000@www.ameliaisland.com
SUMMARY:NAO Trinidad
DESCRIPTION:Come see the flagship of the famous navigator\, Ferdinand Magellan! Docked at the downtown marina January 16 – 28. \nTours: Monday – Thursday from 10am – 6pm and Friday – Sunday from 10am – 7pm. \nTickets: Adults\, $15; Kids\, $5; Families\, $35
URL:https://www.ameliaisland.com/activity/nao-trinidad/
LOCATION:Fernandina Harbor Marina\, 3 S Front Street\, Fernandina Beach\, FL\, 32034\, United States
ATTACH;FMTTYPE=image/jpeg:https://www.ameliaisland.com/wp-content/uploads/NAO-Trinidad.jpg
END:VEVENT
END:VCALENDAR