BEGIN:VCALENDAR
VERSION:2.0
PRODID:-//Amelia Island - ECPv6.8.0//NONSGML v1.0//EN
CALSCALE:GREGORIAN
METHOD:PUBLISH
X-ORIGINAL-URL:https://www.ameliaisland.com
X-WR-CALDESC:Events for Amelia Island
REFRESH-INTERVAL;VALUE=DURATION:PT1H
X-Robots-Tag:noindex
X-PUBLISHED-TTL:PT1H
BEGIN:VTIMEZONE
TZID:America/New_York
BEGIN:DAYLIGHT
TZOFFSETFROM:-0500
TZOFFSETTO:-0400
TZNAME:EDT
DTSTART:20230312T070000
END:DAYLIGHT
BEGIN:STANDARD
TZOFFSETFROM:-0400
TZOFFSETTO:-0500
TZNAME:EST
DTSTART:20231105T060000
END:STANDARD
END:VTIMEZONE
BEGIN:VEVENT
DTSTART;TZID=America/New_York:20231028T090000
DTEND;TZID=America/New_York:20231028T130000
DTSTAMP:20260419T213657
CREATED:20240306T174141Z
LAST-MODIFIED:20240306T174234Z
UID:10003631-1698483600-1698498000@www.ameliaisland.com
SUMMARY:Fernandina Beach Farmers Market
DESCRIPTION:The “friendliest farmers market in Florida”\, the Fernandina Beach Market Place\, is an inclusive space for you to join your family\, neighbors and friends at this weekly event . Meet farmers\, growers\, and entrepreneurial individuals who produce or grow food and natural products especially for those living in\, and visiting\, our fantastic community. \nThe farmers’ market is open EVERY Saturday from 9 a.m. to 1:00 p.m.\, year round\, rain or shine.
URL:https://www.ameliaisland.com/activity/fernandina-beach-farmers-market/2023-10-28/
LOCATION:Fernandina Beach Market Place\, 1 North 7th Street\, Fernandina Beach\, FL\, 32034\, United States
ATTACH;FMTTYPE=image/jpeg:https://www.ameliaisland.com/wp-content/uploads/Farmers-Market.jpeg
END:VEVENT
BEGIN:VEVENT
DTSTART;TZID=America/New_York:20231021T090000
DTEND;TZID=America/New_York:20231021T130000
DTSTAMP:20260419T213657
CREATED:20240306T174141Z
LAST-MODIFIED:20240306T174234Z
UID:10003630-1697878800-1697893200@www.ameliaisland.com
SUMMARY:Fernandina Beach Farmers Market
DESCRIPTION:The “friendliest farmers market in Florida”\, the Fernandina Beach Market Place\, is an inclusive space for you to join your family\, neighbors and friends at this weekly event . Meet farmers\, growers\, and entrepreneurial individuals who produce or grow food and natural products especially for those living in\, and visiting\, our fantastic community. \nThe farmers’ market is open EVERY Saturday from 9 a.m. to 1:00 p.m.\, year round\, rain or shine.
URL:https://www.ameliaisland.com/activity/fernandina-beach-farmers-market/2023-10-21/
LOCATION:Fernandina Beach Market Place\, 1 North 7th Street\, Fernandina Beach\, FL\, 32034\, United States
ATTACH;FMTTYPE=image/jpeg:https://www.ameliaisland.com/wp-content/uploads/Farmers-Market.jpeg
END:VEVENT
BEGIN:VEVENT
DTSTART;TZID=America/New_York:20231014T090000
DTEND;TZID=America/New_York:20231014T130000
DTSTAMP:20260419T213657
CREATED:20240306T174141Z
LAST-MODIFIED:20240306T174234Z
UID:10003629-1697274000-1697288400@www.ameliaisland.com
SUMMARY:Fernandina Beach Farmers Market
DESCRIPTION:The “friendliest farmers market in Florida”\, the Fernandina Beach Market Place\, is an inclusive space for you to join your family\, neighbors and friends at this weekly event . Meet farmers\, growers\, and entrepreneurial individuals who produce or grow food and natural products especially for those living in\, and visiting\, our fantastic community. \nThe farmers’ market is open EVERY Saturday from 9 a.m. to 1:00 p.m.\, year round\, rain or shine.
URL:https://www.ameliaisland.com/activity/fernandina-beach-farmers-market/2023-10-14/
LOCATION:Fernandina Beach Market Place\, 1 North 7th Street\, Fernandina Beach\, FL\, 32034\, United States
ATTACH;FMTTYPE=image/jpeg:https://www.ameliaisland.com/wp-content/uploads/Farmers-Market.jpeg
END:VEVENT
BEGIN:VEVENT
DTSTART;TZID=America/New_York:20231007T090000
DTEND;TZID=America/New_York:20231007T130000
DTSTAMP:20260419T213657
CREATED:20240306T174141Z
LAST-MODIFIED:20240306T174234Z
UID:10003628-1696669200-1696683600@www.ameliaisland.com
SUMMARY:Fernandina Beach Farmers Market
DESCRIPTION:The “friendliest farmers market in Florida”\, the Fernandina Beach Market Place\, is an inclusive space for you to join your family\, neighbors and friends at this weekly event . Meet farmers\, growers\, and entrepreneurial individuals who produce or grow food and natural products especially for those living in\, and visiting\, our fantastic community. \nThe farmers’ market is open EVERY Saturday from 9 a.m. to 1:00 p.m.\, year round\, rain or shine.
URL:https://www.ameliaisland.com/activity/fernandina-beach-farmers-market/2023-10-07/
LOCATION:Fernandina Beach Market Place\, 1 North 7th Street\, Fernandina Beach\, FL\, 32034\, United States
ATTACH;FMTTYPE=image/jpeg:https://www.ameliaisland.com/wp-content/uploads/Farmers-Market.jpeg
END:VEVENT
END:VCALENDAR