BEGIN:VCALENDAR
VERSION:2.0
PRODID:-//Amelia Island - ECPv6.8.0//NONSGML v1.0//EN
CALSCALE:GREGORIAN
METHOD:PUBLISH
X-ORIGINAL-URL:https://www.ameliaisland.com
X-WR-CALDESC:Events for Amelia Island
REFRESH-INTERVAL;VALUE=DURATION:PT1H
X-Robots-Tag:noindex
X-PUBLISHED-TTL:PT1H
BEGIN:VTIMEZONE
TZID:America/New_York
BEGIN:DAYLIGHT
TZOFFSETFROM:-0500
TZOFFSETTO:-0400
TZNAME:EDT
DTSTART:20270314T070000
END:DAYLIGHT
BEGIN:STANDARD
TZOFFSETFROM:-0400
TZOFFSETTO:-0500
TZNAME:EST
DTSTART:20271107T060000
END:STANDARD
END:VTIMEZONE
BEGIN:VEVENT
DTSTART;TZID=America/New_York:20270219T143000
DTEND;TZID=America/New_York:20270219T170000
DTSTAMP:20260421T065802
CREATED:20241210T154346Z
LAST-MODIFIED:20260307T141557Z
UID:10026595-1803047400-1803056400@www.ameliaisland.com
SUMMARY:Booze & Bites Tour
DESCRIPTION:Experience walking tours filled with history\, laughs\, great food and fun cocktails!  \nWhether you’re a local or a first-time visitor\, by the end of a tour you’ll have a fresh perspective of the island’s culture and history.  \nEstablished in 2014.
URL:https://www.ameliaisland.com/activity/booze-bites-tour/2027-02-19/
LOCATION:Downtown Fernandina Beach\, S.3rd St. between Centre St. and Ash St.\, Fernandina Beach\, 32034\, United States
ATTACH;FMTTYPE=image/jpeg:https://www.ameliaisland.com/wp-content/uploads/Booze-and-Bites-Amelia-Island-Picture-scaled.jpeg
END:VEVENT
BEGIN:VEVENT
DTSTART;TZID=America/New_York:20270220T143000
DTEND;TZID=America/New_York:20270220T170000
DTSTAMP:20260421T065802
CREATED:20241210T154346Z
LAST-MODIFIED:20260307T141557Z
UID:10026596-1803133800-1803142800@www.ameliaisland.com
SUMMARY:Booze & Bites Tour
DESCRIPTION:Experience walking tours filled with history\, laughs\, great food and fun cocktails!  \nWhether you’re a local or a first-time visitor\, by the end of a tour you’ll have a fresh perspective of the island’s culture and history.  \nEstablished in 2014.
URL:https://www.ameliaisland.com/activity/booze-bites-tour/2027-02-20/
LOCATION:Downtown Fernandina Beach\, S.3rd St. between Centre St. and Ash St.\, Fernandina Beach\, 32034\, United States
ATTACH;FMTTYPE=image/jpeg:https://www.ameliaisland.com/wp-content/uploads/Booze-and-Bites-Amelia-Island-Picture-scaled.jpeg
END:VEVENT
BEGIN:VEVENT
DTSTART;TZID=America/New_York:20270221T143000
DTEND;TZID=America/New_York:20270221T170000
DTSTAMP:20260421T065802
CREATED:20241210T154346Z
LAST-MODIFIED:20260307T141557Z
UID:10026597-1803220200-1803229200@www.ameliaisland.com
SUMMARY:Booze & Bites Tour
DESCRIPTION:Experience walking tours filled with history\, laughs\, great food and fun cocktails!  \nWhether you’re a local or a first-time visitor\, by the end of a tour you’ll have a fresh perspective of the island’s culture and history.  \nEstablished in 2014.
URL:https://www.ameliaisland.com/activity/booze-bites-tour/2027-02-21/
LOCATION:Downtown Fernandina Beach\, S.3rd St. between Centre St. and Ash St.\, Fernandina Beach\, 32034\, United States
ATTACH;FMTTYPE=image/jpeg:https://www.ameliaisland.com/wp-content/uploads/Booze-and-Bites-Amelia-Island-Picture-scaled.jpeg
END:VEVENT
BEGIN:VEVENT
DTSTART;TZID=America/New_York:20270224T143000
DTEND;TZID=America/New_York:20270224T170000
DTSTAMP:20260421T065802
CREATED:20241210T154346Z
LAST-MODIFIED:20260307T141557Z
UID:10029376-1803479400-1803488400@www.ameliaisland.com
SUMMARY:Booze & Bites Tour
DESCRIPTION:Experience walking tours filled with history\, laughs\, great food and fun cocktails!  \nWhether you’re a local or a first-time visitor\, by the end of a tour you’ll have a fresh perspective of the island’s culture and history.  \nEstablished in 2014.
URL:https://www.ameliaisland.com/activity/booze-bites-tour/2027-02-24/
LOCATION:Downtown Fernandina Beach\, S.3rd St. between Centre St. and Ash St.\, Fernandina Beach\, 32034\, United States
ATTACH;FMTTYPE=image/jpeg:https://www.ameliaisland.com/wp-content/uploads/Booze-and-Bites-Amelia-Island-Picture-scaled.jpeg
END:VEVENT
BEGIN:VEVENT
DTSTART;TZID=America/New_York:20270225T143000
DTEND;TZID=America/New_York:20270225T170000
DTSTAMP:20260421T065802
CREATED:20241210T154346Z
LAST-MODIFIED:20260307T141557Z
UID:10029377-1803565800-1803574800@www.ameliaisland.com
SUMMARY:Booze & Bites Tour
DESCRIPTION:Experience walking tours filled with history\, laughs\, great food and fun cocktails!  \nWhether you’re a local or a first-time visitor\, by the end of a tour you’ll have a fresh perspective of the island’s culture and history.  \nEstablished in 2014.
URL:https://www.ameliaisland.com/activity/booze-bites-tour/2027-02-25/
LOCATION:Downtown Fernandina Beach\, S.3rd St. between Centre St. and Ash St.\, Fernandina Beach\, 32034\, United States
ATTACH;FMTTYPE=image/jpeg:https://www.ameliaisland.com/wp-content/uploads/Booze-and-Bites-Amelia-Island-Picture-scaled.jpeg
END:VEVENT
BEGIN:VEVENT
DTSTART;TZID=America/New_York:20270226T143000
DTEND;TZID=America/New_York:20270226T170000
DTSTAMP:20260421T065802
CREATED:20241210T154346Z
LAST-MODIFIED:20260307T141557Z
UID:10026598-1803652200-1803661200@www.ameliaisland.com
SUMMARY:Booze & Bites Tour
DESCRIPTION:Experience walking tours filled with history\, laughs\, great food and fun cocktails!  \nWhether you’re a local or a first-time visitor\, by the end of a tour you’ll have a fresh perspective of the island’s culture and history.  \nEstablished in 2014.
URL:https://www.ameliaisland.com/activity/booze-bites-tour/2027-02-26/
LOCATION:Downtown Fernandina Beach\, S.3rd St. between Centre St. and Ash St.\, Fernandina Beach\, 32034\, United States
ATTACH;FMTTYPE=image/jpeg:https://www.ameliaisland.com/wp-content/uploads/Booze-and-Bites-Amelia-Island-Picture-scaled.jpeg
END:VEVENT
BEGIN:VEVENT
DTSTART;TZID=America/New_York:20270227T143000
DTEND;TZID=America/New_York:20270227T170000
DTSTAMP:20260421T065802
CREATED:20241210T154346Z
LAST-MODIFIED:20260307T141557Z
UID:10026599-1803738600-1803747600@www.ameliaisland.com
SUMMARY:Booze & Bites Tour
DESCRIPTION:Experience walking tours filled with history\, laughs\, great food and fun cocktails!  \nWhether you’re a local or a first-time visitor\, by the end of a tour you’ll have a fresh perspective of the island’s culture and history.  \nEstablished in 2014.
URL:https://www.ameliaisland.com/activity/booze-bites-tour/2027-02-27/
LOCATION:Downtown Fernandina Beach\, S.3rd St. between Centre St. and Ash St.\, Fernandina Beach\, 32034\, United States
ATTACH;FMTTYPE=image/jpeg:https://www.ameliaisland.com/wp-content/uploads/Booze-and-Bites-Amelia-Island-Picture-scaled.jpeg
END:VEVENT
BEGIN:VEVENT
DTSTART;TZID=America/New_York:20270228T143000
DTEND;TZID=America/New_York:20270228T170000
DTSTAMP:20260421T065802
CREATED:20241210T154346Z
LAST-MODIFIED:20260307T141557Z
UID:10026600-1803825000-1803834000@www.ameliaisland.com
SUMMARY:Booze & Bites Tour
DESCRIPTION:Experience walking tours filled with history\, laughs\, great food and fun cocktails!  \nWhether you’re a local or a first-time visitor\, by the end of a tour you’ll have a fresh perspective of the island’s culture and history.  \nEstablished in 2014.
URL:https://www.ameliaisland.com/activity/booze-bites-tour/2027-02-28/
LOCATION:Downtown Fernandina Beach\, S.3rd St. between Centre St. and Ash St.\, Fernandina Beach\, 32034\, United States
ATTACH;FMTTYPE=image/jpeg:https://www.ameliaisland.com/wp-content/uploads/Booze-and-Bites-Amelia-Island-Picture-scaled.jpeg
END:VEVENT
BEGIN:VEVENT
DTSTART;TZID=America/New_York:20270303T143000
DTEND;TZID=America/New_York:20270303T170000
DTSTAMP:20260421T065802
CREATED:20241210T154346Z
LAST-MODIFIED:20260307T141557Z
UID:10029378-1804084200-1804093200@www.ameliaisland.com
SUMMARY:Booze & Bites Tour
DESCRIPTION:Experience walking tours filled with history\, laughs\, great food and fun cocktails!  \nWhether you’re a local or a first-time visitor\, by the end of a tour you’ll have a fresh perspective of the island’s culture and history.  \nEstablished in 2014.
URL:https://www.ameliaisland.com/activity/booze-bites-tour/2027-03-03/
LOCATION:Downtown Fernandina Beach\, S.3rd St. between Centre St. and Ash St.\, Fernandina Beach\, 32034\, United States
ATTACH;FMTTYPE=image/jpeg:https://www.ameliaisland.com/wp-content/uploads/Booze-and-Bites-Amelia-Island-Picture-scaled.jpeg
END:VEVENT
BEGIN:VEVENT
DTSTART;TZID=America/New_York:20270304T143000
DTEND;TZID=America/New_York:20270304T170000
DTSTAMP:20260421T065802
CREATED:20241210T154346Z
LAST-MODIFIED:20260307T141557Z
UID:10029379-1804170600-1804179600@www.ameliaisland.com
SUMMARY:Booze & Bites Tour
DESCRIPTION:Experience walking tours filled with history\, laughs\, great food and fun cocktails!  \nWhether you’re a local or a first-time visitor\, by the end of a tour you’ll have a fresh perspective of the island’s culture and history.  \nEstablished in 2014.
URL:https://www.ameliaisland.com/activity/booze-bites-tour/2027-03-04/
LOCATION:Downtown Fernandina Beach\, S.3rd St. between Centre St. and Ash St.\, Fernandina Beach\, 32034\, United States
ATTACH;FMTTYPE=image/jpeg:https://www.ameliaisland.com/wp-content/uploads/Booze-and-Bites-Amelia-Island-Picture-scaled.jpeg
END:VEVENT
BEGIN:VEVENT
DTSTART;TZID=America/New_York:20270305T143000
DTEND;TZID=America/New_York:20270305T170000
DTSTAMP:20260421T065802
CREATED:20241210T154346Z
LAST-MODIFIED:20260307T141557Z
UID:10026601-1804257000-1804266000@www.ameliaisland.com
SUMMARY:Booze & Bites Tour
DESCRIPTION:Experience walking tours filled with history\, laughs\, great food and fun cocktails!  \nWhether you’re a local or a first-time visitor\, by the end of a tour you’ll have a fresh perspective of the island’s culture and history.  \nEstablished in 2014.
URL:https://www.ameliaisland.com/activity/booze-bites-tour/2027-03-05/
LOCATION:Downtown Fernandina Beach\, S.3rd St. between Centre St. and Ash St.\, Fernandina Beach\, 32034\, United States
ATTACH;FMTTYPE=image/jpeg:https://www.ameliaisland.com/wp-content/uploads/Booze-and-Bites-Amelia-Island-Picture-scaled.jpeg
END:VEVENT
BEGIN:VEVENT
DTSTART;TZID=America/New_York:20270306T143000
DTEND;TZID=America/New_York:20270306T170000
DTSTAMP:20260421T065802
CREATED:20241210T154346Z
LAST-MODIFIED:20260307T141557Z
UID:10026602-1804343400-1804352400@www.ameliaisland.com
SUMMARY:Booze & Bites Tour
DESCRIPTION:Experience walking tours filled with history\, laughs\, great food and fun cocktails!  \nWhether you’re a local or a first-time visitor\, by the end of a tour you’ll have a fresh perspective of the island’s culture and history.  \nEstablished in 2014.
URL:https://www.ameliaisland.com/activity/booze-bites-tour/2027-03-06/
LOCATION:Downtown Fernandina Beach\, S.3rd St. between Centre St. and Ash St.\, Fernandina Beach\, 32034\, United States
ATTACH;FMTTYPE=image/jpeg:https://www.ameliaisland.com/wp-content/uploads/Booze-and-Bites-Amelia-Island-Picture-scaled.jpeg
END:VEVENT
BEGIN:VEVENT
DTSTART;TZID=America/New_York:20270307T143000
DTEND;TZID=America/New_York:20270307T170000
DTSTAMP:20260421T065802
CREATED:20241210T154346Z
LAST-MODIFIED:20260307T141557Z
UID:10026603-1804429800-1804438800@www.ameliaisland.com
SUMMARY:Booze & Bites Tour
DESCRIPTION:Experience walking tours filled with history\, laughs\, great food and fun cocktails!  \nWhether you’re a local or a first-time visitor\, by the end of a tour you’ll have a fresh perspective of the island’s culture and history.  \nEstablished in 2014.
URL:https://www.ameliaisland.com/activity/booze-bites-tour/2027-03-07/
LOCATION:Downtown Fernandina Beach\, S.3rd St. between Centre St. and Ash St.\, Fernandina Beach\, 32034\, United States
ATTACH;FMTTYPE=image/jpeg:https://www.ameliaisland.com/wp-content/uploads/Booze-and-Bites-Amelia-Island-Picture-scaled.jpeg
END:VEVENT
BEGIN:VEVENT
DTSTART;TZID=America/New_York:20270310T143000
DTEND;TZID=America/New_York:20270310T170000
DTSTAMP:20260421T065802
CREATED:20241210T154346Z
LAST-MODIFIED:20260307T141557Z
UID:10029380-1804689000-1804698000@www.ameliaisland.com
SUMMARY:Booze & Bites Tour
DESCRIPTION:Experience walking tours filled with history\, laughs\, great food and fun cocktails!  \nWhether you’re a local or a first-time visitor\, by the end of a tour you’ll have a fresh perspective of the island’s culture and history.  \nEstablished in 2014.
URL:https://www.ameliaisland.com/activity/booze-bites-tour/2027-03-10/
LOCATION:Downtown Fernandina Beach\, S.3rd St. between Centre St. and Ash St.\, Fernandina Beach\, 32034\, United States
ATTACH;FMTTYPE=image/jpeg:https://www.ameliaisland.com/wp-content/uploads/Booze-and-Bites-Amelia-Island-Picture-scaled.jpeg
END:VEVENT
BEGIN:VEVENT
DTSTART;TZID=America/New_York:20270311T143000
DTEND;TZID=America/New_York:20270311T170000
DTSTAMP:20260421T065802
CREATED:20241210T154346Z
LAST-MODIFIED:20260307T141557Z
UID:10029381-1804775400-1804784400@www.ameliaisland.com
SUMMARY:Booze & Bites Tour
DESCRIPTION:Experience walking tours filled with history\, laughs\, great food and fun cocktails!  \nWhether you’re a local or a first-time visitor\, by the end of a tour you’ll have a fresh perspective of the island’s culture and history.  \nEstablished in 2014.
URL:https://www.ameliaisland.com/activity/booze-bites-tour/2027-03-11/
LOCATION:Downtown Fernandina Beach\, S.3rd St. between Centre St. and Ash St.\, Fernandina Beach\, 32034\, United States
ATTACH;FMTTYPE=image/jpeg:https://www.ameliaisland.com/wp-content/uploads/Booze-and-Bites-Amelia-Island-Picture-scaled.jpeg
END:VEVENT
BEGIN:VEVENT
DTSTART;TZID=America/New_York:20270312T143000
DTEND;TZID=America/New_York:20270312T170000
DTSTAMP:20260421T065802
CREATED:20241210T154346Z
LAST-MODIFIED:20260307T141557Z
UID:10026604-1804861800-1804870800@www.ameliaisland.com
SUMMARY:Booze & Bites Tour
DESCRIPTION:Experience walking tours filled with history\, laughs\, great food and fun cocktails!  \nWhether you’re a local or a first-time visitor\, by the end of a tour you’ll have a fresh perspective of the island’s culture and history.  \nEstablished in 2014.
URL:https://www.ameliaisland.com/activity/booze-bites-tour/2027-03-12/
LOCATION:Downtown Fernandina Beach\, S.3rd St. between Centre St. and Ash St.\, Fernandina Beach\, 32034\, United States
ATTACH;FMTTYPE=image/jpeg:https://www.ameliaisland.com/wp-content/uploads/Booze-and-Bites-Amelia-Island-Picture-scaled.jpeg
END:VEVENT
BEGIN:VEVENT
DTSTART;TZID=America/New_York:20270313T143000
DTEND;TZID=America/New_York:20270313T170000
DTSTAMP:20260421T065802
CREATED:20241210T154346Z
LAST-MODIFIED:20260307T141557Z
UID:10026605-1804948200-1804957200@www.ameliaisland.com
SUMMARY:Booze & Bites Tour
DESCRIPTION:Experience walking tours filled with history\, laughs\, great food and fun cocktails!  \nWhether you’re a local or a first-time visitor\, by the end of a tour you’ll have a fresh perspective of the island’s culture and history.  \nEstablished in 2014.
URL:https://www.ameliaisland.com/activity/booze-bites-tour/2027-03-13/
LOCATION:Downtown Fernandina Beach\, S.3rd St. between Centre St. and Ash St.\, Fernandina Beach\, 32034\, United States
ATTACH;FMTTYPE=image/jpeg:https://www.ameliaisland.com/wp-content/uploads/Booze-and-Bites-Amelia-Island-Picture-scaled.jpeg
END:VEVENT
BEGIN:VEVENT
DTSTART;TZID=America/New_York:20270314T143000
DTEND;TZID=America/New_York:20270314T170000
DTSTAMP:20260421T065802
CREATED:20241210T154346Z
LAST-MODIFIED:20260307T141557Z
UID:10026606-1805034600-1805043600@www.ameliaisland.com
SUMMARY:Booze & Bites Tour
DESCRIPTION:Experience walking tours filled with history\, laughs\, great food and fun cocktails!  \nWhether you’re a local or a first-time visitor\, by the end of a tour you’ll have a fresh perspective of the island’s culture and history.  \nEstablished in 2014.
URL:https://www.ameliaisland.com/activity/booze-bites-tour/2027-03-14/
LOCATION:Downtown Fernandina Beach\, S.3rd St. between Centre St. and Ash St.\, Fernandina Beach\, 32034\, United States
ATTACH;FMTTYPE=image/jpeg:https://www.ameliaisland.com/wp-content/uploads/Booze-and-Bites-Amelia-Island-Picture-scaled.jpeg
END:VEVENT
BEGIN:VEVENT
DTSTART;TZID=America/New_York:20270317T143000
DTEND;TZID=America/New_York:20270317T170000
DTSTAMP:20260421T065802
CREATED:20241210T154346Z
LAST-MODIFIED:20260307T141557Z
UID:10029382-1805293800-1805302800@www.ameliaisland.com
SUMMARY:Booze & Bites Tour
DESCRIPTION:Experience walking tours filled with history\, laughs\, great food and fun cocktails!  \nWhether you’re a local or a first-time visitor\, by the end of a tour you’ll have a fresh perspective of the island’s culture and history.  \nEstablished in 2014.
URL:https://www.ameliaisland.com/activity/booze-bites-tour/2027-03-17/
LOCATION:Downtown Fernandina Beach\, S.3rd St. between Centre St. and Ash St.\, Fernandina Beach\, 32034\, United States
ATTACH;FMTTYPE=image/jpeg:https://www.ameliaisland.com/wp-content/uploads/Booze-and-Bites-Amelia-Island-Picture-scaled.jpeg
END:VEVENT
BEGIN:VEVENT
DTSTART;TZID=America/New_York:20270318T143000
DTEND;TZID=America/New_York:20270318T170000
DTSTAMP:20260421T065802
CREATED:20241210T154346Z
LAST-MODIFIED:20260307T141557Z
UID:10029383-1805380200-1805389200@www.ameliaisland.com
SUMMARY:Booze & Bites Tour
DESCRIPTION:Experience walking tours filled with history\, laughs\, great food and fun cocktails!  \nWhether you’re a local or a first-time visitor\, by the end of a tour you’ll have a fresh perspective of the island’s culture and history.  \nEstablished in 2014.
URL:https://www.ameliaisland.com/activity/booze-bites-tour/2027-03-18/
LOCATION:Downtown Fernandina Beach\, S.3rd St. between Centre St. and Ash St.\, Fernandina Beach\, 32034\, United States
ATTACH;FMTTYPE=image/jpeg:https://www.ameliaisland.com/wp-content/uploads/Booze-and-Bites-Amelia-Island-Picture-scaled.jpeg
END:VEVENT
BEGIN:VEVENT
DTSTART;TZID=America/New_York:20270319T143000
DTEND;TZID=America/New_York:20270319T170000
DTSTAMP:20260421T065802
CREATED:20241210T154346Z
LAST-MODIFIED:20260307T141557Z
UID:10026607-1805466600-1805475600@www.ameliaisland.com
SUMMARY:Booze & Bites Tour
DESCRIPTION:Experience walking tours filled with history\, laughs\, great food and fun cocktails!  \nWhether you’re a local or a first-time visitor\, by the end of a tour you’ll have a fresh perspective of the island’s culture and history.  \nEstablished in 2014.
URL:https://www.ameliaisland.com/activity/booze-bites-tour/2027-03-19/
LOCATION:Downtown Fernandina Beach\, S.3rd St. between Centre St. and Ash St.\, Fernandina Beach\, 32034\, United States
ATTACH;FMTTYPE=image/jpeg:https://www.ameliaisland.com/wp-content/uploads/Booze-and-Bites-Amelia-Island-Picture-scaled.jpeg
END:VEVENT
BEGIN:VEVENT
DTSTART;TZID=America/New_York:20270320T143000
DTEND;TZID=America/New_York:20270320T170000
DTSTAMP:20260421T065802
CREATED:20241210T154346Z
LAST-MODIFIED:20260307T141557Z
UID:10026608-1805553000-1805562000@www.ameliaisland.com
SUMMARY:Booze & Bites Tour
DESCRIPTION:Experience walking tours filled with history\, laughs\, great food and fun cocktails!  \nWhether you’re a local or a first-time visitor\, by the end of a tour you’ll have a fresh perspective of the island’s culture and history.  \nEstablished in 2014.
URL:https://www.ameliaisland.com/activity/booze-bites-tour/2027-03-20/
LOCATION:Downtown Fernandina Beach\, S.3rd St. between Centre St. and Ash St.\, Fernandina Beach\, 32034\, United States
ATTACH;FMTTYPE=image/jpeg:https://www.ameliaisland.com/wp-content/uploads/Booze-and-Bites-Amelia-Island-Picture-scaled.jpeg
END:VEVENT
BEGIN:VEVENT
DTSTART;TZID=America/New_York:20270321T143000
DTEND;TZID=America/New_York:20270321T170000
DTSTAMP:20260421T065802
CREATED:20241210T154346Z
LAST-MODIFIED:20260307T141557Z
UID:10026609-1805639400-1805648400@www.ameliaisland.com
SUMMARY:Booze & Bites Tour
DESCRIPTION:Experience walking tours filled with history\, laughs\, great food and fun cocktails!  \nWhether you’re a local or a first-time visitor\, by the end of a tour you’ll have a fresh perspective of the island’s culture and history.  \nEstablished in 2014.
URL:https://www.ameliaisland.com/activity/booze-bites-tour/2027-03-21/
LOCATION:Downtown Fernandina Beach\, S.3rd St. between Centre St. and Ash St.\, Fernandina Beach\, 32034\, United States
ATTACH;FMTTYPE=image/jpeg:https://www.ameliaisland.com/wp-content/uploads/Booze-and-Bites-Amelia-Island-Picture-scaled.jpeg
END:VEVENT
BEGIN:VEVENT
DTSTART;TZID=America/New_York:20270324T143000
DTEND;TZID=America/New_York:20270324T170000
DTSTAMP:20260421T065802
CREATED:20241210T154346Z
LAST-MODIFIED:20260307T141557Z
UID:10029384-1805898600-1805907600@www.ameliaisland.com
SUMMARY:Booze & Bites Tour
DESCRIPTION:Experience walking tours filled with history\, laughs\, great food and fun cocktails!  \nWhether you’re a local or a first-time visitor\, by the end of a tour you’ll have a fresh perspective of the island’s culture and history.  \nEstablished in 2014.
URL:https://www.ameliaisland.com/activity/booze-bites-tour/2027-03-24/
LOCATION:Downtown Fernandina Beach\, S.3rd St. between Centre St. and Ash St.\, Fernandina Beach\, 32034\, United States
ATTACH;FMTTYPE=image/jpeg:https://www.ameliaisland.com/wp-content/uploads/Booze-and-Bites-Amelia-Island-Picture-scaled.jpeg
END:VEVENT
BEGIN:VEVENT
DTSTART;TZID=America/New_York:20270325T143000
DTEND;TZID=America/New_York:20270325T170000
DTSTAMP:20260421T065802
CREATED:20241210T154346Z
LAST-MODIFIED:20260307T141557Z
UID:10029385-1805985000-1805994000@www.ameliaisland.com
SUMMARY:Booze & Bites Tour
DESCRIPTION:Experience walking tours filled with history\, laughs\, great food and fun cocktails!  \nWhether you’re a local or a first-time visitor\, by the end of a tour you’ll have a fresh perspective of the island’s culture and history.  \nEstablished in 2014.
URL:https://www.ameliaisland.com/activity/booze-bites-tour/2027-03-25/
LOCATION:Downtown Fernandina Beach\, S.3rd St. between Centre St. and Ash St.\, Fernandina Beach\, 32034\, United States
ATTACH;FMTTYPE=image/jpeg:https://www.ameliaisland.com/wp-content/uploads/Booze-and-Bites-Amelia-Island-Picture-scaled.jpeg
END:VEVENT
BEGIN:VEVENT
DTSTART;TZID=America/New_York:20270326T143000
DTEND;TZID=America/New_York:20270326T170000
DTSTAMP:20260421T065802
CREATED:20241210T154346Z
LAST-MODIFIED:20260307T141557Z
UID:10026610-1806071400-1806080400@www.ameliaisland.com
SUMMARY:Booze & Bites Tour
DESCRIPTION:Experience walking tours filled with history\, laughs\, great food and fun cocktails!  \nWhether you’re a local or a first-time visitor\, by the end of a tour you’ll have a fresh perspective of the island’s culture and history.  \nEstablished in 2014.
URL:https://www.ameliaisland.com/activity/booze-bites-tour/2027-03-26/
LOCATION:Downtown Fernandina Beach\, S.3rd St. between Centre St. and Ash St.\, Fernandina Beach\, 32034\, United States
ATTACH;FMTTYPE=image/jpeg:https://www.ameliaisland.com/wp-content/uploads/Booze-and-Bites-Amelia-Island-Picture-scaled.jpeg
END:VEVENT
BEGIN:VEVENT
DTSTART;TZID=America/New_York:20270327T143000
DTEND;TZID=America/New_York:20270327T170000
DTSTAMP:20260421T065802
CREATED:20241210T154346Z
LAST-MODIFIED:20260307T141557Z
UID:10026611-1806157800-1806166800@www.ameliaisland.com
SUMMARY:Booze & Bites Tour
DESCRIPTION:Experience walking tours filled with history\, laughs\, great food and fun cocktails!  \nWhether you’re a local or a first-time visitor\, by the end of a tour you’ll have a fresh perspective of the island’s culture and history.  \nEstablished in 2014.
URL:https://www.ameliaisland.com/activity/booze-bites-tour/2027-03-27/
LOCATION:Downtown Fernandina Beach\, S.3rd St. between Centre St. and Ash St.\, Fernandina Beach\, 32034\, United States
ATTACH;FMTTYPE=image/jpeg:https://www.ameliaisland.com/wp-content/uploads/Booze-and-Bites-Amelia-Island-Picture-scaled.jpeg
END:VEVENT
BEGIN:VEVENT
DTSTART;TZID=America/New_York:20270328T143000
DTEND;TZID=America/New_York:20270328T170000
DTSTAMP:20260421T065802
CREATED:20241210T154346Z
LAST-MODIFIED:20260307T141557Z
UID:10026612-1806244200-1806253200@www.ameliaisland.com
SUMMARY:Booze & Bites Tour
DESCRIPTION:Experience walking tours filled with history\, laughs\, great food and fun cocktails!  \nWhether you’re a local or a first-time visitor\, by the end of a tour you’ll have a fresh perspective of the island’s culture and history.  \nEstablished in 2014.
URL:https://www.ameliaisland.com/activity/booze-bites-tour/2027-03-28/
LOCATION:Downtown Fernandina Beach\, S.3rd St. between Centre St. and Ash St.\, Fernandina Beach\, 32034\, United States
ATTACH;FMTTYPE=image/jpeg:https://www.ameliaisland.com/wp-content/uploads/Booze-and-Bites-Amelia-Island-Picture-scaled.jpeg
END:VEVENT
BEGIN:VEVENT
DTSTART;TZID=America/New_York:20270331T143000
DTEND;TZID=America/New_York:20270331T170000
DTSTAMP:20260421T065802
CREATED:20241210T154346Z
LAST-MODIFIED:20260307T141557Z
UID:10029386-1806503400-1806512400@www.ameliaisland.com
SUMMARY:Booze & Bites Tour
DESCRIPTION:Experience walking tours filled with history\, laughs\, great food and fun cocktails!  \nWhether you’re a local or a first-time visitor\, by the end of a tour you’ll have a fresh perspective of the island’s culture and history.  \nEstablished in 2014.
URL:https://www.ameliaisland.com/activity/booze-bites-tour/2027-03-31/
LOCATION:Downtown Fernandina Beach\, S.3rd St. between Centre St. and Ash St.\, Fernandina Beach\, 32034\, United States
ATTACH;FMTTYPE=image/jpeg:https://www.ameliaisland.com/wp-content/uploads/Booze-and-Bites-Amelia-Island-Picture-scaled.jpeg
END:VEVENT
BEGIN:VEVENT
DTSTART;TZID=America/New_York:20270401T143000
DTEND;TZID=America/New_York:20270401T170000
DTSTAMP:20260421T065802
CREATED:20241210T154346Z
LAST-MODIFIED:20260307T141557Z
UID:10029387-1806589800-1806598800@www.ameliaisland.com
SUMMARY:Booze & Bites Tour
DESCRIPTION:Experience walking tours filled with history\, laughs\, great food and fun cocktails!  \nWhether you’re a local or a first-time visitor\, by the end of a tour you’ll have a fresh perspective of the island’s culture and history.  \nEstablished in 2014.
URL:https://www.ameliaisland.com/activity/booze-bites-tour/2027-04-01/
LOCATION:Downtown Fernandina Beach\, S.3rd St. between Centre St. and Ash St.\, Fernandina Beach\, 32034\, United States
ATTACH;FMTTYPE=image/jpeg:https://www.ameliaisland.com/wp-content/uploads/Booze-and-Bites-Amelia-Island-Picture-scaled.jpeg
END:VEVENT
END:VCALENDAR