BEGIN:VCALENDAR
VERSION:2.0
PRODID:-//Amelia Island - ECPv6.8.0//NONSGML v1.0//EN
CALSCALE:GREGORIAN
METHOD:PUBLISH
X-ORIGINAL-URL:https://www.ameliaisland.com
X-WR-CALDESC:Events for Amelia Island
REFRESH-INTERVAL;VALUE=DURATION:PT1H
X-Robots-Tag:noindex
X-PUBLISHED-TTL:PT1H
BEGIN:VTIMEZONE
TZID:America/New_York
BEGIN:DAYLIGHT
TZOFFSETFROM:-0500
TZOFFSETTO:-0400
TZNAME:EDT
DTSTART:20240310T070000
END:DAYLIGHT
BEGIN:STANDARD
TZOFFSETFROM:-0400
TZOFFSETTO:-0500
TZNAME:EST
DTSTART:20241103T060000
END:STANDARD
BEGIN:DAYLIGHT
TZOFFSETFROM:-0500
TZOFFSETTO:-0400
TZNAME:EDT
DTSTART:20250309T070000
END:DAYLIGHT
BEGIN:STANDARD
TZOFFSETFROM:-0400
TZOFFSETTO:-0500
TZNAME:EST
DTSTART:20251102T060000
END:STANDARD
END:VTIMEZONE
BEGIN:VEVENT
DTSTART;TZID=America/New_York:20250816T160000
DTEND;TZID=America/New_York:20250816T200000
DTSTAMP:20260424T195006
CREATED:20250707T170644Z
LAST-MODIFIED:20250707T232732Z
UID:10025102-1755360000-1755374400@www.ameliaisland.com
SUMMARY:Jazz at the Beach – Cabaret Style Fundraiser
DESCRIPTION:Celebrate the 90th Anniversary of historic American Beach in style with culture\, music\, and history. Enjoy smooth jazz in an intimate cabaret-style setting\, while supporting community efforts. \n\nVisit the A. L. Lewis Museum.\nTake a Guided Riding Tour with Coast One Tours and discover the rich Black history of American Beach\, Fernandina Beach\, and Amelia Island with a local expert.\nEnjoy Mocktails\, Food Truck\, Dancing\, and Good Times!\n\nCome Early and spend an Exciting Day on Historic American Beach. \nGet your tickets now – Seating is Limited!
URL:https://www.ameliaisland.com/activity/jazz-at-the-beach-cabaret-style-fundraiser/
LOCATION:American Beach Community Center\, 1600 Julia Street\, Amelia Island\, FL\, 32034\, United States
ATTACH;FMTTYPE=image/jpeg:https://www.ameliaisland.com/wp-content/uploads/90-Anniversary.jpg
END:VEVENT
BEGIN:VEVENT
DTSTART;TZID=America/New_York:20240221T180000
DTEND;TZID=America/New_York:20240221T203000
DTSTAMP:20260424T195006
CREATED:20240306T173941Z
LAST-MODIFIED:20240306T174009Z
UID:10007421-1708538400-1708547400@www.ameliaisland.com
SUMMARY:Queen Quet: "Art of Survival from Carolinas to Florida"
DESCRIPTION:Celebrate Black History with the inspiring presence of Queen Quet\, Chieftess of the Gullah/Geechee Nation. Immerse yourself in the rich culture and traditions of the Gullah/Geechee people as Queen Quet shares her captivating stories and wisdom. This event is a unique opportunity to learn about the vibrant heritage of the Gullah/Geechee community and their significant contributions to American history. Don’t miss out on this unforgettable experience!
URL:https://www.ameliaisland.com/activity/queen-quet-art-of-survival-from-carolinas-to-florida/
LOCATION:American Beach Community Center\, 1600 Julia Street\, Amelia Island\, FL\, 32034\, United States
ATTACH;FMTTYPE=image/jpeg:https://www.ameliaisland.com/wp-content/uploads/Queen-Quet-Black-History-Month.jpeg
END:VEVENT
END:VCALENDAR