BEGIN:VCALENDAR
VERSION:2.0
PRODID:-//Amelia Island - ECPv6.8.0//NONSGML v1.0//EN
CALSCALE:GREGORIAN
METHOD:PUBLISH
X-WR-CALNAME:Amelia Island
X-ORIGINAL-URL:https://www.ameliaisland.com
X-WR-CALDESC:Events for Amelia Island
REFRESH-INTERVAL;VALUE=DURATION:PT1H
X-Robots-Tag:noindex
X-PUBLISHED-TTL:PT1H
BEGIN:VTIMEZONE
TZID:America/New_York
BEGIN:DAYLIGHT
TZOFFSETFROM:-0500
TZOFFSETTO:-0400
TZNAME:EDT
DTSTART:20310309T070000
END:DAYLIGHT
BEGIN:STANDARD
TZOFFSETFROM:-0400
TZOFFSETTO:-0500
TZNAME:EST
DTSTART:20311102T060000
END:STANDARD
END:VTIMEZONE
BEGIN:VEVENT
DTSTART;TZID=America/New_York:20310102T090000
DTEND;TZID=America/New_York:20310102T120000
DTSTAMP:20260423T105318
CREATED:20260202T220636Z
LAST-MODIFIED:20260202T220636Z
UID:10027897-1925110800-1925121600@www.ameliaisland.com
SUMMARY:Ladies Morning at Amelia Shotgun Sports
DESCRIPTION:Ladies Morning at Amelia Shotgun Sports is a fun\, welcoming way for visitors and locals to start their Thursday. Enjoy complimentary coffee and conversation from 9–10 AM\, then take part in optional course time from 10–12\, with beginner-friendly instruction or shooting opportunities for experienced ladies. Whether you’re trying something new or simply meeting new people\, it’s a relaxed\, no-pressure experience designed to make you feel right at home.
URL:https://www.ameliaisland.com/activity/ladies-morning-at-amelia-shotgun-sports/2031-01-02/
LOCATION:Amelia Shotgun Sports\, 86300 Hot Shot Trail\, Yulee\, FL\, 32034\, United States
ATTACH;FMTTYPE=image/jpeg:https://www.ameliaisland.com/wp-content/uploads/Amelia-Shotgun-Sports-2.jpg
END:VEVENT
BEGIN:VEVENT
DTSTART;TZID=America/New_York:20310103T153000
DTEND;TZID=America/New_York:20310103T170000
DTSTAMP:20260423T105318
CREATED:20260210T013114Z
LAST-MODIFIED:20260210T013114Z
UID:10028160-1925220600-1925226000@www.ameliaisland.com
SUMMARY:Amelia Shotgun Sports Men’s League
DESCRIPTION:Kick off your Fridays with great competition\, even better company\, and plenty of time on the course. Men’s League at Amelia Shotgun Sports is all about sharpening skills\, enjoying friendly rivalry\, and building camaraderie in a relaxed\, welcoming environment. \nEvery Friday at 3:30 PM (Unless otherwise noted). Whether you’re brand new to the sport or have years of experience\, all skill levels are encouraged and welcome. This league is designed to be challenging\, fun\, and supportive—no pressure\, just solid practice and good vibes. \nLeague Perks include VIP pricing during scheduled league meets\, and consistent weekly play to build confidence and consistency. \nTo learn more or RSVP\, contact Steve Gross at SueSteve5759@yahoo.com. Come out\, compete\, and make Fridays your favorite day of the week at Amelia Shotgun Sports.
URL:https://www.ameliaisland.com/activity/amelia-shotgun-sports-mens-league/2031-01-03/
LOCATION:Amelia Shotgun Sports\, 86300 Hot Shot Trail\, Yulee\, FL\, 32034\, United States
ATTACH;FMTTYPE=image/jpeg:https://www.ameliaisland.com/wp-content/uploads/Amelia-Shotgun-Sports4.jpg
END:VEVENT
BEGIN:VEVENT
DTSTART;TZID=America/New_York:20310109T090000
DTEND;TZID=America/New_York:20310109T120000
DTSTAMP:20260423T105318
CREATED:20260202T220636Z
LAST-MODIFIED:20260202T220636Z
UID:10027898-1925715600-1925726400@www.ameliaisland.com
SUMMARY:Ladies Morning at Amelia Shotgun Sports
DESCRIPTION:Ladies Morning at Amelia Shotgun Sports is a fun\, welcoming way for visitors and locals to start their Thursday. Enjoy complimentary coffee and conversation from 9–10 AM\, then take part in optional course time from 10–12\, with beginner-friendly instruction or shooting opportunities for experienced ladies. Whether you’re trying something new or simply meeting new people\, it’s a relaxed\, no-pressure experience designed to make you feel right at home.
URL:https://www.ameliaisland.com/activity/ladies-morning-at-amelia-shotgun-sports/2031-01-09/
LOCATION:Amelia Shotgun Sports\, 86300 Hot Shot Trail\, Yulee\, FL\, 32034\, United States
ATTACH;FMTTYPE=image/jpeg:https://www.ameliaisland.com/wp-content/uploads/Amelia-Shotgun-Sports-2.jpg
END:VEVENT
BEGIN:VEVENT
DTSTART;TZID=America/New_York:20310110T153000
DTEND;TZID=America/New_York:20310110T170000
DTSTAMP:20260423T105318
CREATED:20260210T013114Z
LAST-MODIFIED:20260210T013114Z
UID:10028161-1925825400-1925830800@www.ameliaisland.com
SUMMARY:Amelia Shotgun Sports Men’s League
DESCRIPTION:Kick off your Fridays with great competition\, even better company\, and plenty of time on the course. Men’s League at Amelia Shotgun Sports is all about sharpening skills\, enjoying friendly rivalry\, and building camaraderie in a relaxed\, welcoming environment. \nEvery Friday at 3:30 PM (Unless otherwise noted). Whether you’re brand new to the sport or have years of experience\, all skill levels are encouraged and welcome. This league is designed to be challenging\, fun\, and supportive—no pressure\, just solid practice and good vibes. \nLeague Perks include VIP pricing during scheduled league meets\, and consistent weekly play to build confidence and consistency. \nTo learn more or RSVP\, contact Steve Gross at SueSteve5759@yahoo.com. Come out\, compete\, and make Fridays your favorite day of the week at Amelia Shotgun Sports.
URL:https://www.ameliaisland.com/activity/amelia-shotgun-sports-mens-league/2031-01-10/
LOCATION:Amelia Shotgun Sports\, 86300 Hot Shot Trail\, Yulee\, FL\, 32034\, United States
ATTACH;FMTTYPE=image/jpeg:https://www.ameliaisland.com/wp-content/uploads/Amelia-Shotgun-Sports4.jpg
END:VEVENT
BEGIN:VEVENT
DTSTART;TZID=America/New_York:20310116T090000
DTEND;TZID=America/New_York:20310116T120000
DTSTAMP:20260423T105318
CREATED:20260202T220636Z
LAST-MODIFIED:20260202T220636Z
UID:10027899-1926320400-1926331200@www.ameliaisland.com
SUMMARY:Ladies Morning at Amelia Shotgun Sports
DESCRIPTION:Ladies Morning at Amelia Shotgun Sports is a fun\, welcoming way for visitors and locals to start their Thursday. Enjoy complimentary coffee and conversation from 9–10 AM\, then take part in optional course time from 10–12\, with beginner-friendly instruction or shooting opportunities for experienced ladies. Whether you’re trying something new or simply meeting new people\, it’s a relaxed\, no-pressure experience designed to make you feel right at home.
URL:https://www.ameliaisland.com/activity/ladies-morning-at-amelia-shotgun-sports/2031-01-16/
LOCATION:Amelia Shotgun Sports\, 86300 Hot Shot Trail\, Yulee\, FL\, 32034\, United States
ATTACH;FMTTYPE=image/jpeg:https://www.ameliaisland.com/wp-content/uploads/Amelia-Shotgun-Sports-2.jpg
END:VEVENT
BEGIN:VEVENT
DTSTART;TZID=America/New_York:20310117T153000
DTEND;TZID=America/New_York:20310117T170000
DTSTAMP:20260423T105318
CREATED:20260210T013114Z
LAST-MODIFIED:20260210T013114Z
UID:10028162-1926430200-1926435600@www.ameliaisland.com
SUMMARY:Amelia Shotgun Sports Men’s League
DESCRIPTION:Kick off your Fridays with great competition\, even better company\, and plenty of time on the course. Men’s League at Amelia Shotgun Sports is all about sharpening skills\, enjoying friendly rivalry\, and building camaraderie in a relaxed\, welcoming environment. \nEvery Friday at 3:30 PM (Unless otherwise noted). Whether you’re brand new to the sport or have years of experience\, all skill levels are encouraged and welcome. This league is designed to be challenging\, fun\, and supportive—no pressure\, just solid practice and good vibes. \nLeague Perks include VIP pricing during scheduled league meets\, and consistent weekly play to build confidence and consistency. \nTo learn more or RSVP\, contact Steve Gross at SueSteve5759@yahoo.com. Come out\, compete\, and make Fridays your favorite day of the week at Amelia Shotgun Sports.
URL:https://www.ameliaisland.com/activity/amelia-shotgun-sports-mens-league/2031-01-17/
LOCATION:Amelia Shotgun Sports\, 86300 Hot Shot Trail\, Yulee\, FL\, 32034\, United States
ATTACH;FMTTYPE=image/jpeg:https://www.ameliaisland.com/wp-content/uploads/Amelia-Shotgun-Sports4.jpg
END:VEVENT
BEGIN:VEVENT
DTSTART;TZID=America/New_York:20310123T090000
DTEND;TZID=America/New_York:20310123T120000
DTSTAMP:20260423T105318
CREATED:20260202T220636Z
LAST-MODIFIED:20260202T220636Z
UID:10027900-1926925200-1926936000@www.ameliaisland.com
SUMMARY:Ladies Morning at Amelia Shotgun Sports
DESCRIPTION:Ladies Morning at Amelia Shotgun Sports is a fun\, welcoming way for visitors and locals to start their Thursday. Enjoy complimentary coffee and conversation from 9–10 AM\, then take part in optional course time from 10–12\, with beginner-friendly instruction or shooting opportunities for experienced ladies. Whether you’re trying something new or simply meeting new people\, it’s a relaxed\, no-pressure experience designed to make you feel right at home.
URL:https://www.ameliaisland.com/activity/ladies-morning-at-amelia-shotgun-sports/2031-01-23/
LOCATION:Amelia Shotgun Sports\, 86300 Hot Shot Trail\, Yulee\, FL\, 32034\, United States
ATTACH;FMTTYPE=image/jpeg:https://www.ameliaisland.com/wp-content/uploads/Amelia-Shotgun-Sports-2.jpg
END:VEVENT
BEGIN:VEVENT
DTSTART;TZID=America/New_York:20310124T153000
DTEND;TZID=America/New_York:20310124T170000
DTSTAMP:20260423T105318
CREATED:20260210T013114Z
LAST-MODIFIED:20260210T013114Z
UID:10028163-1927035000-1927040400@www.ameliaisland.com
SUMMARY:Amelia Shotgun Sports Men’s League
DESCRIPTION:Kick off your Fridays with great competition\, even better company\, and plenty of time on the course. Men’s League at Amelia Shotgun Sports is all about sharpening skills\, enjoying friendly rivalry\, and building camaraderie in a relaxed\, welcoming environment. \nEvery Friday at 3:30 PM (Unless otherwise noted). Whether you’re brand new to the sport or have years of experience\, all skill levels are encouraged and welcome. This league is designed to be challenging\, fun\, and supportive—no pressure\, just solid practice and good vibes. \nLeague Perks include VIP pricing during scheduled league meets\, and consistent weekly play to build confidence and consistency. \nTo learn more or RSVP\, contact Steve Gross at SueSteve5759@yahoo.com. Come out\, compete\, and make Fridays your favorite day of the week at Amelia Shotgun Sports.
URL:https://www.ameliaisland.com/activity/amelia-shotgun-sports-mens-league/2031-01-24/
LOCATION:Amelia Shotgun Sports\, 86300 Hot Shot Trail\, Yulee\, FL\, 32034\, United States
ATTACH;FMTTYPE=image/jpeg:https://www.ameliaisland.com/wp-content/uploads/Amelia-Shotgun-Sports4.jpg
END:VEVENT
BEGIN:VEVENT
DTSTART;TZID=America/New_York:20310130T090000
DTEND;TZID=America/New_York:20310130T120000
DTSTAMP:20260423T105318
CREATED:20260202T220636Z
LAST-MODIFIED:20260202T220636Z
UID:10027901-1927530000-1927540800@www.ameliaisland.com
SUMMARY:Ladies Morning at Amelia Shotgun Sports
DESCRIPTION:Ladies Morning at Amelia Shotgun Sports is a fun\, welcoming way for visitors and locals to start their Thursday. Enjoy complimentary coffee and conversation from 9–10 AM\, then take part in optional course time from 10–12\, with beginner-friendly instruction or shooting opportunities for experienced ladies. Whether you’re trying something new or simply meeting new people\, it’s a relaxed\, no-pressure experience designed to make you feel right at home.
URL:https://www.ameliaisland.com/activity/ladies-morning-at-amelia-shotgun-sports/2031-01-30/
LOCATION:Amelia Shotgun Sports\, 86300 Hot Shot Trail\, Yulee\, FL\, 32034\, United States
ATTACH;FMTTYPE=image/jpeg:https://www.ameliaisland.com/wp-content/uploads/Amelia-Shotgun-Sports-2.jpg
END:VEVENT
BEGIN:VEVENT
DTSTART;TZID=America/New_York:20310131T153000
DTEND;TZID=America/New_York:20310131T170000
DTSTAMP:20260423T105318
CREATED:20260210T013114Z
LAST-MODIFIED:20260210T013114Z
UID:10028164-1927639800-1927645200@www.ameliaisland.com
SUMMARY:Amelia Shotgun Sports Men’s League
DESCRIPTION:Kick off your Fridays with great competition\, even better company\, and plenty of time on the course. Men’s League at Amelia Shotgun Sports is all about sharpening skills\, enjoying friendly rivalry\, and building camaraderie in a relaxed\, welcoming environment. \nEvery Friday at 3:30 PM (Unless otherwise noted). Whether you’re brand new to the sport or have years of experience\, all skill levels are encouraged and welcome. This league is designed to be challenging\, fun\, and supportive—no pressure\, just solid practice and good vibes. \nLeague Perks include VIP pricing during scheduled league meets\, and consistent weekly play to build confidence and consistency. \nTo learn more or RSVP\, contact Steve Gross at SueSteve5759@yahoo.com. Come out\, compete\, and make Fridays your favorite day of the week at Amelia Shotgun Sports.
URL:https://www.ameliaisland.com/activity/amelia-shotgun-sports-mens-league/2031-01-31/
LOCATION:Amelia Shotgun Sports\, 86300 Hot Shot Trail\, Yulee\, FL\, 32034\, United States
ATTACH;FMTTYPE=image/jpeg:https://www.ameliaisland.com/wp-content/uploads/Amelia-Shotgun-Sports4.jpg
END:VEVENT
BEGIN:VEVENT
DTSTART;TZID=America/New_York:20310207T153000
DTEND;TZID=America/New_York:20310207T170000
DTSTAMP:20260423T105318
CREATED:20260210T013114Z
LAST-MODIFIED:20260210T013114Z
UID:10028165-1928244600-1928250000@www.ameliaisland.com
SUMMARY:Amelia Shotgun Sports Men’s League
DESCRIPTION:Kick off your Fridays with great competition\, even better company\, and plenty of time on the course. Men’s League at Amelia Shotgun Sports is all about sharpening skills\, enjoying friendly rivalry\, and building camaraderie in a relaxed\, welcoming environment. \nEvery Friday at 3:30 PM (Unless otherwise noted). Whether you’re brand new to the sport or have years of experience\, all skill levels are encouraged and welcome. This league is designed to be challenging\, fun\, and supportive—no pressure\, just solid practice and good vibes. \nLeague Perks include VIP pricing during scheduled league meets\, and consistent weekly play to build confidence and consistency. \nTo learn more or RSVP\, contact Steve Gross at SueSteve5759@yahoo.com. Come out\, compete\, and make Fridays your favorite day of the week at Amelia Shotgun Sports.
URL:https://www.ameliaisland.com/activity/amelia-shotgun-sports-mens-league/2031-02-07/
LOCATION:Amelia Shotgun Sports\, 86300 Hot Shot Trail\, Yulee\, FL\, 32034\, United States
ATTACH;FMTTYPE=image/jpeg:https://www.ameliaisland.com/wp-content/uploads/Amelia-Shotgun-Sports4.jpg
END:VEVENT
END:VCALENDAR