BEGIN:VCALENDAR
VERSION:2.0
PRODID:-//Amelia Island - ECPv6.8.0//NONSGML v1.0//EN
CALSCALE:GREGORIAN
METHOD:PUBLISH
X-ORIGINAL-URL:https://www.ameliaisland.com
X-WR-CALDESC:Events for Amelia Island
REFRESH-INTERVAL;VALUE=DURATION:PT1H
X-Robots-Tag:noindex
X-PUBLISHED-TTL:PT1H
BEGIN:VTIMEZONE
TZID:America/New_York
BEGIN:DAYLIGHT
TZOFFSETFROM:-0500
TZOFFSETTO:-0400
TZNAME:EDT
DTSTART:20230312T070000
END:DAYLIGHT
BEGIN:STANDARD
TZOFFSETFROM:-0400
TZOFFSETTO:-0500
TZNAME:EST
DTSTART:20231105T060000
END:STANDARD
BEGIN:DAYLIGHT
TZOFFSETFROM:-0500
TZOFFSETTO:-0400
TZNAME:EDT
DTSTART:20240310T070000
END:DAYLIGHT
BEGIN:STANDARD
TZOFFSETFROM:-0400
TZOFFSETTO:-0500
TZNAME:EST
DTSTART:20241103T060000
END:STANDARD
END:VTIMEZONE
BEGIN:VEVENT
DTSTART;TZID=America/New_York:20240512T100000
DTEND;TZID=America/New_York:20240512T120000
DTSTAMP:20260422T031217
CREATED:20240509T230122Z
LAST-MODIFIED:20240509T230122Z
UID:10008776-1715508000-1715515200@www.ameliaisland.com
SUMMARY:Mother's Day Kayak Fun
DESCRIPTION:Got Mother’s Day Covered? Think outside the box – think kayaking with Amelia Island Kayak Excursions! Treat Mom with a family-fun activity on her special day by getting “off the beaten path” for one of our 2-hour local guided kayak tours. \nComplimentary digital memory photo album. So\, call us at 904.557.5307 to reserve your tour\, and know you now have Mother’s Day covered in an awesome way.
URL:https://www.ameliaisland.com/activity/mothers-day-kayak-fun/
LOCATION:Amelia Island Kayak Excursions\, 3 S Front Street\, Fernandina Beach\, FL\, 32034\, United States
ATTACH;FMTTYPE=image/jpeg:https://www.ameliaisland.com/wp-content/uploads/Amelia-Island-Kayak-Excursion-Mothers-Day-Kayak.jpeg
END:VEVENT
BEGIN:VEVENT
DTSTART;TZID=America/New_York:20240413T120000
DTEND;TZID=America/New_York:20240413T150000
DTSTAMP:20260422T031217
CREATED:20240320T233737Z
LAST-MODIFIED:20240320T233737Z
UID:10008737-1713009600-1713020400@www.ameliaisland.com
SUMMARY:Nassau's Bicentennial & 250th Bartram Anniversary Celebration
DESCRIPTION:In celebrating the unique history of Nassau County during it’s Bicentennial\, Amelia Island Kayak Excursions is celebrating 250 years of William Bartram’s Travels and the local shrimping industry of Nassau County\, FL. \nBefore Lewis and Clark there was William Bartram. In March 1774\, on Amelia Island\, Bartram began his much-anticipated trip to Florida and the St. Johns River. He traveled through Old Fernandina to Lord Egmont’s plantation\, then continued to the St. Johns River while documenting the region’s flora and fauna. Through his travels\, he introduced the world to over 250 native plants! \nTo honor his travels\, you can book either a Kayak Tour with Amelia Island Kayak Excursions or a Historic Van Tour with Amelia Island Footprints\, then gather afterwards at Egan’s Creek Park for an inspiring interpretive talk. \nHistoric Water & Land Tours: (Kayak or Van) \nNaturalist-Led Kayak Tour: Amelia Island Kayak Excursions will host a guided kayak tour focusing on the history\, flora and fauna of Egan’s Creek and the area. Guests will experience gliding through the naturally carved marsh grass paths\, while having a view of the historic Amelia Island Lighthouse. This environment also gives paddlers great views of marsh grasslands with an ever-changing skyline. \nAND/OR \nHistoric Van Tour: The van tour is hosted by Nick Deonas of Amelia Island Footprints. Mr. Deonas is the last of Amelia Island’s 3rd generation of wooden boat builders. This tour showcases the local shrimping industry woven with a captivating narrative of personal back stories that span generations. Enjoy rich history\, beautiful scenery\, and fun company. Along the route\, a few William Bartram sites will be seen. (Book Historic Van Tour: bartram.ameliaislandfootprints.com) \nThis event is great for history buffs\, naturalists\, gardeners\, hikers\, bikers\, paddlers and others who might benefit from the recreational trails and botanical gardens along Bartram’s route. \nReservations required by Calling 904-557-5307 or Booking Online. Space is Limited.
URL:https://www.ameliaisland.com/activity/nassaus-bicentennial-250th-bartram-anniversary-celebration/
LOCATION:Amelia Island Kayak Excursions\, 3 S Front Street\, Fernandina Beach\, FL\, 32034\, United States
ATTACH;FMTTYPE=image/jpeg:https://www.ameliaisland.com/wp-content/uploads/Amelia-Island-Kayak-Excursions-4-1-scaled.jpeg
END:VEVENT
BEGIN:VEVENT
DTSTART;TZID=America/New_York:20240329T100000
DTEND;TZID=America/New_York:20240329T163000
DTSTAMP:20260422T031217
CREATED:20240320T231253Z
LAST-MODIFIED:20240320T231253Z
UID:10008736-1711706400-1711729800@www.ameliaisland.com
SUMMARY:Guided Kayak Tours
DESCRIPTION:Enjoy exploring Amelia Island\, Cumberland Island\, and the local area via kayak\, SUP or private motorboat. \nEveryday’s schedule is different as there are various local waterways to explore. Paddlers can experience “Old Florida”\, meander through the area’s saltmarshes and see the Amelia Light House\, paddle the Amelia River and intracoastal waterways\, enjoy arriving to Cumberland Island via kayak\, and more. \nGuests can enjoy seeing the various aquatic vegetation while keeping an eye out for birds\, dolphin\, manatee and other wildlife that nature has to offer in our area. As a keepsake of their time on the water\, guests receive a complimentary digital photo memory album. Tour options for all experience levels\, and family friendly tours too! \nSome tours are bookable online. However\, for the most options and assistance\, please call 904-557-5307. We are happy to help answer any questions you may have in planning a fun outing.
URL:https://www.ameliaisland.com/activity/guided-kayak-tours/
LOCATION:Amelia Island Kayak Excursions\, 3 S Front Street\, Fernandina Beach\, FL\, 32034\, United States
ATTACH;FMTTYPE=image/jpeg:https://www.ameliaisland.com/wp-content/uploads/Amelia-island-Kayak-Excursions-3-1-scaled.jpeg
END:VEVENT
BEGIN:VEVENT
DTSTART;TZID=America/New_York:20231124T103000
DTEND;TZID=America/New_York:20231124T133000
DTSTAMP:20260422T031217
CREATED:20240306T174427Z
LAST-MODIFIED:20240306T174511Z
UID:10006170-1700821800-1700832600@www.ameliaisland.com
SUMMARY:Kayak\, Shells & Wild Horses
DESCRIPTION:How cool is this!? Arrive on Cumberland Island via kayak where wild horses can often be seen. Get out on the beach\, look for shark’s teeth\, explore the sandbars and rock jetties\, and see marine life in the tidal pools. Paddling options include a waterfront view of Amelia Island’s historic Fort Clinch\, then on to Cumberland Island National Seashore. \nExperience the beautiful coastal atmosphere that this island has to offer. A fun 3-hour experience! Don’t settle for less than the multi-award-winning Kayak Touring Business in the area! Come explore with us! \nCall today to book your adventure\, or you can also inquire about other dates/times.
URL:https://www.ameliaisland.com/activity/kayak-shells-wild-horses/
LOCATION:Amelia Island Kayak Excursions\, 3 S Front Street\, Fernandina Beach\, FL\, 32034\, United States
ATTACH;FMTTYPE=image/jpeg:https://www.ameliaisland.com/wp-content/uploads/Amelia-Island-Kayak-Excursions-Cumberland-Island.jpg
END:VEVENT
BEGIN:VEVENT
DTSTART;TZID=America/New_York:20231122T140000
DTEND;TZID=America/New_York:20231122T160000
DTSTAMP:20260422T031217
CREATED:20240306T174413Z
LAST-MODIFIED:20240306T193929Z
UID:10006169-1700661600-1700668800@www.ameliaisland.com
SUMMARY:Old Florida Kayaking
DESCRIPTION:Looking for something to do!? Join us on our Lofton Creek Guided Kayak Tour – Experience “old Florida” on this 2-hour guided kayak tour. Guests will paddle Florida’s black water known for its reflective properties that enhance the already natural beauty of the creek. Meandering through this wooded environment\, guests can enjoy seeing the various aquatic vegetation while keeping an eye out for birds and other wildlife that nature has to offer in our area. A family favorite and great for all experience levels.Complimentary water\, snack and keepsake digital photo album. Fun\, professional\, guides. Naturalist led tours. Come explore with us! Call today to book your adventure.
URL:https://www.ameliaisland.com/activity/old-florida-kayaking/
LOCATION:Amelia Island Kayak Excursions\, 3 S Front Street\, Fernandina Beach\, FL\, 32034\, United States
ATTACH;FMTTYPE=image/jpeg:https://www.ameliaisland.com/wp-content/uploads/Amelia-Island-Kayak-Excursions-5.jpeg
END:VEVENT
BEGIN:VEVENT
DTSTART;TZID=America/New_York:20231121T123000
DTEND;TZID=America/New_York:20231121T153000
DTSTAMP:20260422T031217
CREATED:20240306T174414Z
LAST-MODIFIED:20240306T193832Z
UID:10006171-1700569800-1700580600@www.ameliaisland.com
SUMMARY:Historic Land & Water Tour
DESCRIPTION:Amelia Island Kayak Excursions and Amelia Island Footprints are beyond excited to announce a one of a kind unique experience with you that includes rich history\, beautiful scenery\, and fun company. Experience a combination of a van tour with Amelia Island’s last wooden boat builder\, and a Master Naturalist led kayak tour along the historic Bartram Trial. The van tour is hosted by the last of Amelia Island’s 3rd generation wooden boat builders. This tour highlights the local shrimping industry woven with a captivating narrative of personal back stories that span generations. On the guided kayak tour\, join a Master Naturalist while paddling along a portion of the historic Bartram Trail. Glide through the naturally carved paths of the marsh grasses in the estuary\, while having a view of Amelia Island’s historic lighthouse. Enjoy viewing the various aquatic vegetation\, while keeping an eye out for birds and other wildlife that nature has to offer in our area.Approximately 3-hours. Time is added to get signed in and for a brief paddling orientation.
URL:https://www.ameliaisland.com/activity/historic-land-water-tour/
LOCATION:Amelia Island Kayak Excursions\, 3 S Front Street\, Fernandina Beach\, FL\, 32034\, United States
ATTACH;FMTTYPE=image/jpeg:https://www.ameliaisland.com/wp-content/uploads/Amelia-Island-Kayak-Excursions-Historic-Land-Water-Tour.jpeg
END:VEVENT
END:VCALENDAR