BEGIN:VCALENDAR
VERSION:2.0
PRODID:-//Amelia Island - ECPv6.8.0//NONSGML v1.0//EN
CALSCALE:GREGORIAN
METHOD:PUBLISH
X-ORIGINAL-URL:https://www.ameliaisland.com
X-WR-CALDESC:Events for Amelia Island
REFRESH-INTERVAL;VALUE=DURATION:PT1H
X-Robots-Tag:noindex
X-PUBLISHED-TTL:PT1H
BEGIN:VTIMEZONE
TZID:America/New_York
BEGIN:DAYLIGHT
TZOFFSETFROM:-0500
TZOFFSETTO:-0400
TZNAME:EDT
DTSTART:20240310T070000
END:DAYLIGHT
BEGIN:STANDARD
TZOFFSETFROM:-0400
TZOFFSETTO:-0500
TZNAME:EST
DTSTART:20241103T060000
END:STANDARD
END:VTIMEZONE
BEGIN:VEVENT
DTSTART;TZID=America/New_York:20241222T153000
DTEND;TZID=America/New_York:20241222T173000
DTSTAMP:20260420T083625
CREATED:20240306T174520Z
LAST-MODIFIED:20241024T194706Z
UID:10016043-1734881400-1734888600@www.ameliaisland.com
SUMMARY:How the Big Band Stole Christmas
DESCRIPTION:We are proud to announce the return of our annual holiday show How the Big Band Stole Christmas for a special 10-year anniversary show. Featuring over thirty world class performers in a classic big band setting including professional singers\, entertainers\, musicians\, dancers\, aerialists & actors.  \nThis family friendly holiday show is sure to get everyone in the spirit with a full theatre production including all your favorite holiday songs\, local celebrity singers\, dancing\, acting\, and an appearance by Saint Nick himself.
URL:https://www.ameliaisland.com/activity/how-the-big-band-stole-christmas-2/2024-12-22/
LOCATION:Amelia Community Theatre\, 207 Cedar Street\, Fernandina Beach\, FL\, 32034\, United States
ATTACH;FMTTYPE=image/jpeg:https://www.ameliaisland.com/wp-content/uploads/How-the-Big-Band-Stole-Christmas-from-their-FB-Page.jpeg
END:VEVENT
BEGIN:VEVENT
DTSTART;TZID=America/New_York:20241221T193000
DTEND;TZID=America/New_York:20241221T220000
DTSTAMP:20260420T083625
CREATED:20240306T174511Z
LAST-MODIFIED:20241011T202053Z
UID:10016045-1734809400-1734818400@www.ameliaisland.com
SUMMARY:How the Big Band Stole Christmas
DESCRIPTION:We are proud to announce the return of our annual holiday show How the Big Band Stole Christmas for a special 10-year anniversary show. Featuring over thirty world class performers in a classic big band setting including professional singers\, entertainers\, musicians\, dancers\, aerialists & actors.  \nThis family friendly holiday show is sure to get everyone in the spirit with a full theatre production including all your favorite holiday songs\, local celebrity singers\, dancing\, acting\, and an appearance by Saint Nick himself.
URL:https://www.ameliaisland.com/activity/how-the-big-band-stole-christmas/2024-12-21/
LOCATION:Amelia Community Theatre\, 207 Cedar Street\, Fernandina Beach\, FL\, 32034\, United States
ATTACH;FMTTYPE=image/jpeg:https://www.ameliaisland.com/wp-content/uploads/How-the-Big-Band-Stole-Christmas-2024-scaled.jpeg
END:VEVENT
BEGIN:VEVENT
DTSTART;TZID=America/New_York:20241221T153000
DTEND;TZID=America/New_York:20241221T173000
DTSTAMP:20260420T083626
CREATED:20240306T174520Z
LAST-MODIFIED:20241024T194706Z
UID:10016042-1734795000-1734802200@www.ameliaisland.com
SUMMARY:How the Big Band Stole Christmas
DESCRIPTION:We are proud to announce the return of our annual holiday show How the Big Band Stole Christmas for a special 10-year anniversary show. Featuring over thirty world class performers in a classic big band setting including professional singers\, entertainers\, musicians\, dancers\, aerialists & actors.  \nThis family friendly holiday show is sure to get everyone in the spirit with a full theatre production including all your favorite holiday songs\, local celebrity singers\, dancing\, acting\, and an appearance by Saint Nick himself.
URL:https://www.ameliaisland.com/activity/how-the-big-band-stole-christmas-2/2024-12-21/
LOCATION:Amelia Community Theatre\, 207 Cedar Street\, Fernandina Beach\, FL\, 32034\, United States
ATTACH;FMTTYPE=image/jpeg:https://www.ameliaisland.com/wp-content/uploads/How-the-Big-Band-Stole-Christmas-from-their-FB-Page.jpeg
END:VEVENT
BEGIN:VEVENT
DTSTART;TZID=America/New_York:20241220T193000
DTEND;TZID=America/New_York:20241220T220000
DTSTAMP:20260420T083626
CREATED:20240306T174511Z
LAST-MODIFIED:20241011T202053Z
UID:10016044-1734723000-1734732000@www.ameliaisland.com
SUMMARY:How the Big Band Stole Christmas
DESCRIPTION:We are proud to announce the return of our annual holiday show How the Big Band Stole Christmas for a special 10-year anniversary show. Featuring over thirty world class performers in a classic big band setting including professional singers\, entertainers\, musicians\, dancers\, aerialists & actors.  \nThis family friendly holiday show is sure to get everyone in the spirit with a full theatre production including all your favorite holiday songs\, local celebrity singers\, dancing\, acting\, and an appearance by Saint Nick himself.
URL:https://www.ameliaisland.com/activity/how-the-big-band-stole-christmas/2024-12-20/
LOCATION:Amelia Community Theatre\, 207 Cedar Street\, Fernandina Beach\, FL\, 32034\, United States
ATTACH;FMTTYPE=image/jpeg:https://www.ameliaisland.com/wp-content/uploads/How-the-Big-Band-Stole-Christmas-2024-scaled.jpeg
END:VEVENT
BEGIN:VEVENT
DTSTART;TZID=America/New_York:20241102T183000
DTEND;TZID=America/New_York:20241102T213000
DTSTAMP:20260420T083626
CREATED:20240910T193216Z
LAST-MODIFIED:20240910T193216Z
UID:10011480-1730572200-1730583000@www.ameliaisland.com
SUMMARY:A Night at the Opera: La dolce vita
DESCRIPTION:Friday\, November 1\, 2024 | 6:30PM hors d’oeuvres 7:30PM Concert\nSaturday\, November 2\, 2024 | 6:30PM hors d’oeuvres 7:30PM Concert\nAmelia Community Theater | 207 Cedar St\, Fernandina Beach\, FL 32034 \nBack by popular demand\, A Night at the Opera is the perfect way to spend an enchanting evening on Amelia Island! This year’s theme\, La dolce vita\, will celebrate all things Italian! Presented by Amelia Island Opera and Amelia Community Theater\, this concert will feature Amelia Island Opera co-founders Robyn Marie Lamp\, Victoria Isernia\, John Tibbetts\, “sparkling” soprano Kyaunnee Richardson\, and “unforgettable” tenor Victor Starksy performing a mix of Italian and Neapolitan songs\, opera classics from favorite Italian composers\, and classic pop tunes with an Italian twist. \nGuests will enjoy delicious Italian-inspired hors d’oeuvres\, bite-sized desserts\, and flowing prosecco while they soak in the melodies. Dress in your best formal wear and get ready for a memorable night of culture in Amelia Island!
URL:https://www.ameliaisland.com/activity/a-night-at-the-opera-la-dolce-vita/2024-11-02/
LOCATION:Amelia Community Theatre\, 207 Cedar Street\, Fernandina Beach\, FL\, 32034\, United States
ATTACH;FMTTYPE=image/jpeg:https://www.ameliaisland.com/wp-content/uploads/Amelia-Island-Opera-La-dolce-vita.jpeg
END:VEVENT
BEGIN:VEVENT
DTSTART;TZID=America/New_York:20241101T183000
DTEND;TZID=America/New_York:20241101T213000
DTSTAMP:20260420T083626
CREATED:20240910T193216Z
LAST-MODIFIED:20240910T193216Z
UID:10011479-1730485800-1730496600@www.ameliaisland.com
SUMMARY:A Night at the Opera: La dolce vita
DESCRIPTION:Friday\, November 1\, 2024 | 6:30PM hors d’oeuvres 7:30PM Concert\nSaturday\, November 2\, 2024 | 6:30PM hors d’oeuvres 7:30PM Concert\nAmelia Community Theater | 207 Cedar St\, Fernandina Beach\, FL 32034 \nBack by popular demand\, A Night at the Opera is the perfect way to spend an enchanting evening on Amelia Island! This year’s theme\, La dolce vita\, will celebrate all things Italian! Presented by Amelia Island Opera and Amelia Community Theater\, this concert will feature Amelia Island Opera co-founders Robyn Marie Lamp\, Victoria Isernia\, John Tibbetts\, “sparkling” soprano Kyaunnee Richardson\, and “unforgettable” tenor Victor Starksy performing a mix of Italian and Neapolitan songs\, opera classics from favorite Italian composers\, and classic pop tunes with an Italian twist. \nGuests will enjoy delicious Italian-inspired hors d’oeuvres\, bite-sized desserts\, and flowing prosecco while they soak in the melodies. Dress in your best formal wear and get ready for a memorable night of culture in Amelia Island!
URL:https://www.ameliaisland.com/activity/a-night-at-the-opera-la-dolce-vita/2024-11-01/
LOCATION:Amelia Community Theatre\, 207 Cedar Street\, Fernandina Beach\, FL\, 32034\, United States
ATTACH;FMTTYPE=image/jpeg:https://www.ameliaisland.com/wp-content/uploads/Amelia-Island-Opera-La-dolce-vita.jpeg
END:VEVENT
END:VCALENDAR