BEGIN:VCALENDAR
VERSION:2.0
PRODID:-//Amelia Island - ECPv6.8.0//NONSGML v1.0//EN
CALSCALE:GREGORIAN
METHOD:PUBLISH
X-WR-CALNAME:Amelia Island
X-ORIGINAL-URL:https://www.ameliaisland.com
X-WR-CALDESC:Events for Amelia Island
REFRESH-INTERVAL;VALUE=DURATION:PT1H
X-Robots-Tag:noindex
X-PUBLISHED-TTL:PT1H
BEGIN:VTIMEZONE
TZID:America/New_York
BEGIN:DAYLIGHT
TZOFFSETFROM:-0500
TZOFFSETTO:-0400
TZNAME:EDT
DTSTART:20240310T070000
END:DAYLIGHT
BEGIN:STANDARD
TZOFFSETFROM:-0400
TZOFFSETTO:-0500
TZNAME:EST
DTSTART:20241103T060000
END:STANDARD
BEGIN:DAYLIGHT
TZOFFSETFROM:-0500
TZOFFSETTO:-0400
TZNAME:EDT
DTSTART:20250309T070000
END:DAYLIGHT
BEGIN:STANDARD
TZOFFSETFROM:-0400
TZOFFSETTO:-0500
TZNAME:EST
DTSTART:20251102T060000
END:STANDARD
END:VTIMEZONE
BEGIN:VEVENT
DTSTART;TZID=America/New_York:20251221T193000
DTEND;TZID=America/New_York:20251221T213000
DTSTAMP:20260420T071402
CREATED:20250919T131153Z
LAST-MODIFIED:20250919T131153Z
UID:10026047-1766345400-1766352600@www.ameliaisland.com
SUMMARY:How the Big Band Stole Christmas
DESCRIPTION:Crescendo Amelia & The Florida Music Academy are proud to announce the return of their annual holiday show\, How the Big Band Stole Christmas\, proudly celebrating over a decade of joy & artistry through music\, dance\, theatre and the spirit of Christmas. \nThis high energy spectacular features over thirty world class performers in a classic yet modern live big band setting including professional singers\, entertainers\, musicians\, dancers\, aerialists\, actors and more. This “must see” Amelia Island tradition is sure to get everyone in the spirit with plenty of laughs\, dazzling musical performances\, and moments that will take your breath away. \nSince 2014\, How the Big Band Stole Christmas has delighted thousands across NE Florida & SE Georgia. This full theatre production will include all your favorite holiday songs\, local celebrity singers\, dancing\, acting\, and tons of exciting surprises with appearances by Saint Nick himself. \nTwo 50-minute acts with a brief intermission. \nAdvance tickets recommended\, this event will sell out!
URL:https://www.ameliaisland.com/activity/how-the-big-band-stole-christmas-3/2025-12-21/2/
LOCATION:Amelia Community Theatre\, 207 Cedar Street\, Fernandina Beach\, FL\, 32034\, United States
ATTACH;FMTTYPE=image/jpeg:https://www.ameliaisland.com/wp-content/uploads/How-the-Big-Band-Stole-Christmas-Crescendo-Amelia.jpg
END:VEVENT
BEGIN:VEVENT
DTSTART;TZID=America/New_York:20251221T153000
DTEND;TZID=America/New_York:20251221T173000
DTSTAMP:20260420T071402
CREATED:20250919T131153Z
LAST-MODIFIED:20250919T131153Z
UID:10026046-1766331000-1766338200@www.ameliaisland.com
SUMMARY:How the Big Band Stole Christmas
DESCRIPTION:Crescendo Amelia & The Florida Music Academy are proud to announce the return of their annual holiday show\, How the Big Band Stole Christmas\, proudly celebrating over a decade of joy & artistry through music\, dance\, theatre and the spirit of Christmas. \nThis high energy spectacular features over thirty world class performers in a classic yet modern live big band setting including professional singers\, entertainers\, musicians\, dancers\, aerialists\, actors and more. This “must see” Amelia Island tradition is sure to get everyone in the spirit with plenty of laughs\, dazzling musical performances\, and moments that will take your breath away. \nSince 2014\, How the Big Band Stole Christmas has delighted thousands across NE Florida & SE Georgia. This full theatre production will include all your favorite holiday songs\, local celebrity singers\, dancing\, acting\, and tons of exciting surprises with appearances by Saint Nick himself. \nTwo 50-minute acts with a brief intermission. \nAdvance tickets recommended\, this event will sell out!
URL:https://www.ameliaisland.com/activity/how-the-big-band-stole-christmas-3/2025-12-21/1/
LOCATION:Amelia Community Theatre\, 207 Cedar Street\, Fernandina Beach\, FL\, 32034\, United States
ATTACH;FMTTYPE=image/jpeg:https://www.ameliaisland.com/wp-content/uploads/How-the-Big-Band-Stole-Christmas-Crescendo-Amelia.jpg
END:VEVENT
BEGIN:VEVENT
DTSTART;TZID=America/New_York:20251220T193000
DTEND;TZID=America/New_York:20251220T213000
DTSTAMP:20260420T071402
CREATED:20250919T131153Z
LAST-MODIFIED:20250919T131153Z
UID:10026045-1766259000-1766266200@www.ameliaisland.com
SUMMARY:How the Big Band Stole Christmas
DESCRIPTION:Crescendo Amelia & The Florida Music Academy are proud to announce the return of their annual holiday show\, How the Big Band Stole Christmas\, proudly celebrating over a decade of joy & artistry through music\, dance\, theatre and the spirit of Christmas. \nThis high energy spectacular features over thirty world class performers in a classic yet modern live big band setting including professional singers\, entertainers\, musicians\, dancers\, aerialists\, actors and more. This “must see” Amelia Island tradition is sure to get everyone in the spirit with plenty of laughs\, dazzling musical performances\, and moments that will take your breath away. \nSince 2014\, How the Big Band Stole Christmas has delighted thousands across NE Florida & SE Georgia. This full theatre production will include all your favorite holiday songs\, local celebrity singers\, dancing\, acting\, and tons of exciting surprises with appearances by Saint Nick himself. \nTwo 50-minute acts with a brief intermission. \nAdvance tickets recommended\, this event will sell out!
URL:https://www.ameliaisland.com/activity/how-the-big-band-stole-christmas-3/2025-12-20/2/
LOCATION:Amelia Community Theatre\, 207 Cedar Street\, Fernandina Beach\, FL\, 32034\, United States
ATTACH;FMTTYPE=image/jpeg:https://www.ameliaisland.com/wp-content/uploads/How-the-Big-Band-Stole-Christmas-Crescendo-Amelia.jpg
END:VEVENT
BEGIN:VEVENT
DTSTART;TZID=America/New_York:20251220T153000
DTEND;TZID=America/New_York:20251220T173000
DTSTAMP:20260420T071402
CREATED:20250919T131153Z
LAST-MODIFIED:20250919T131153Z
UID:10026044-1766244600-1766251800@www.ameliaisland.com
SUMMARY:How the Big Band Stole Christmas
DESCRIPTION:Crescendo Amelia & The Florida Music Academy are proud to announce the return of their annual holiday show\, How the Big Band Stole Christmas\, proudly celebrating over a decade of joy & artistry through music\, dance\, theatre and the spirit of Christmas. \nThis high energy spectacular features over thirty world class performers in a classic yet modern live big band setting including professional singers\, entertainers\, musicians\, dancers\, aerialists\, actors and more. This “must see” Amelia Island tradition is sure to get everyone in the spirit with plenty of laughs\, dazzling musical performances\, and moments that will take your breath away. \nSince 2014\, How the Big Band Stole Christmas has delighted thousands across NE Florida & SE Georgia. This full theatre production will include all your favorite holiday songs\, local celebrity singers\, dancing\, acting\, and tons of exciting surprises with appearances by Saint Nick himself. \nTwo 50-minute acts with a brief intermission. \nAdvance tickets recommended\, this event will sell out!
URL:https://www.ameliaisland.com/activity/how-the-big-band-stole-christmas-3/2025-12-20/1/
LOCATION:Amelia Community Theatre\, 207 Cedar Street\, Fernandina Beach\, FL\, 32034\, United States
ATTACH;FMTTYPE=image/jpeg:https://www.ameliaisland.com/wp-content/uploads/How-the-Big-Band-Stole-Christmas-Crescendo-Amelia.jpg
END:VEVENT
BEGIN:VEVENT
DTSTART;TZID=America/New_York:20251219T193000
DTEND;TZID=America/New_York:20251219T213000
DTSTAMP:20260420T071402
CREATED:20250919T131153Z
LAST-MODIFIED:20250919T131153Z
UID:10026043-1766172600-1766179800@www.ameliaisland.com
SUMMARY:How the Big Band Stole Christmas
DESCRIPTION:Crescendo Amelia & The Florida Music Academy are proud to announce the return of their annual holiday show\, How the Big Band Stole Christmas\, proudly celebrating over a decade of joy & artistry through music\, dance\, theatre and the spirit of Christmas. \nThis high energy spectacular features over thirty world class performers in a classic yet modern live big band setting including professional singers\, entertainers\, musicians\, dancers\, aerialists\, actors and more. This “must see” Amelia Island tradition is sure to get everyone in the spirit with plenty of laughs\, dazzling musical performances\, and moments that will take your breath away. \nSince 2014\, How the Big Band Stole Christmas has delighted thousands across NE Florida & SE Georgia. This full theatre production will include all your favorite holiday songs\, local celebrity singers\, dancing\, acting\, and tons of exciting surprises with appearances by Saint Nick himself. \nTwo 50-minute acts with a brief intermission. \nAdvance tickets recommended\, this event will sell out!
URL:https://www.ameliaisland.com/activity/how-the-big-band-stole-christmas-3/2025-12-19/2/
LOCATION:Amelia Community Theatre\, 207 Cedar Street\, Fernandina Beach\, FL\, 32034\, United States
ATTACH;FMTTYPE=image/jpeg:https://www.ameliaisland.com/wp-content/uploads/How-the-Big-Band-Stole-Christmas-Crescendo-Amelia.jpg
END:VEVENT
BEGIN:VEVENT
DTSTART;TZID=America/New_York:20251219T153000
DTEND;TZID=America/New_York:20251219T173000
DTSTAMP:20260420T071402
CREATED:20250919T131153Z
LAST-MODIFIED:20250919T131153Z
UID:10026042-1766158200-1766165400@www.ameliaisland.com
SUMMARY:How the Big Band Stole Christmas
DESCRIPTION:Crescendo Amelia & The Florida Music Academy are proud to announce the return of their annual holiday show\, How the Big Band Stole Christmas\, proudly celebrating over a decade of joy & artistry through music\, dance\, theatre and the spirit of Christmas. \nThis high energy spectacular features over thirty world class performers in a classic yet modern live big band setting including professional singers\, entertainers\, musicians\, dancers\, aerialists\, actors and more. This “must see” Amelia Island tradition is sure to get everyone in the spirit with plenty of laughs\, dazzling musical performances\, and moments that will take your breath away. \nSince 2014\, How the Big Band Stole Christmas has delighted thousands across NE Florida & SE Georgia. This full theatre production will include all your favorite holiday songs\, local celebrity singers\, dancing\, acting\, and tons of exciting surprises with appearances by Saint Nick himself. \nTwo 50-minute acts with a brief intermission. \nAdvance tickets recommended\, this event will sell out!
URL:https://www.ameliaisland.com/activity/how-the-big-band-stole-christmas-3/2025-12-19/1/
LOCATION:Amelia Community Theatre\, 207 Cedar Street\, Fernandina Beach\, FL\, 32034\, United States
ATTACH;FMTTYPE=image/jpeg:https://www.ameliaisland.com/wp-content/uploads/How-the-Big-Band-Stole-Christmas-Crescendo-Amelia.jpg
END:VEVENT
BEGIN:VEVENT
DTSTART;TZID=America/New_York:20251102T160000
DTEND;TZID=America/New_York:20251102T190000
DTSTAMP:20260420T071402
CREATED:20250821T233122Z
LAST-MODIFIED:20250821T233122Z
UID:10025965-1762099200-1762110000@www.ameliaisland.com
SUMMARY:Viennese Masked Ball
DESCRIPTION:Back by popular demand\, A Night at the Opera promises an enchanting evening filled with music\, elegance\, and unforgettable moments. This year’s theme\, Viennese Masked Ball\, invites guests and performers alike to embrace the mystery by wearing masks and formal attire for a night of sophistication and spectacle. \nPresented by Amelia Island Opera and Amelia Community Theatre\, the concert will showcase captivating performances by Amelia Island Opera co-founders Robyn Marie Lamp and John Tibbetts\, along with renowned soprano Cristina Bakhoum Sanchez\, tenor Wesley Morgan\, and mezzo-soprano Courtney Elvira. The program features a beautiful blend of Viennese opera classics and beloved popular selections—from Mozart to Andrew Lloyd Webber. \nGuests will be treated to delectable hors d’oeuvres\, delightful bite-sized desserts\, and flowing prosecco as they enjoy the musical experience. Put on your finest attire and favorite mask for a night of music\, mystery\, and cultural charm—only on Amelia Island! \nTicket Information:\nTickets are available now at ameliaislandopera.org. Tickets are $75\, with a $1 ticketing fee. For more information or ticket inquiries\, contact Amelia Island Opera at (904) 556-7342 or via email at info@ameliaislandopera.org.
URL:https://www.ameliaisland.com/activity/viennese-masked-ball/2025-11-02/
LOCATION:Amelia Community Theatre\, 207 Cedar Street\, Fernandina Beach\, FL\, 32034\, United States
ATTACH;FMTTYPE=image/jpeg:https://www.ameliaisland.com/wp-content/uploads/Viennese-Insta-1080sq.jpg
END:VEVENT
BEGIN:VEVENT
DTSTART;TZID=America/New_York:20251101T183000
DTEND;TZID=America/New_York:20251101T213000
DTSTAMP:20260420T071402
CREATED:20250821T233122Z
LAST-MODIFIED:20250821T233122Z
UID:10025964-1762021800-1762032600@www.ameliaisland.com
SUMMARY:Viennese Masked Ball
DESCRIPTION:Back by popular demand\, A Night at the Opera promises an enchanting evening filled with music\, elegance\, and unforgettable moments. This year’s theme\, Viennese Masked Ball\, invites guests and performers alike to embrace the mystery by wearing masks and formal attire for a night of sophistication and spectacle. \nPresented by Amelia Island Opera and Amelia Community Theatre\, the concert will showcase captivating performances by Amelia Island Opera co-founders Robyn Marie Lamp and John Tibbetts\, along with renowned soprano Cristina Bakhoum Sanchez\, tenor Wesley Morgan\, and mezzo-soprano Courtney Elvira. The program features a beautiful blend of Viennese opera classics and beloved popular selections—from Mozart to Andrew Lloyd Webber. \nGuests will be treated to delectable hors d’oeuvres\, delightful bite-sized desserts\, and flowing prosecco as they enjoy the musical experience. Put on your finest attire and favorite mask for a night of music\, mystery\, and cultural charm—only on Amelia Island! \nTicket Information:\nTickets are available now at ameliaislandopera.org. Tickets are $75\, with a $1 ticketing fee. For more information or ticket inquiries\, contact Amelia Island Opera at (904) 556-7342 or via email at info@ameliaislandopera.org.
URL:https://www.ameliaisland.com/activity/viennese-masked-ball/2025-11-01/
LOCATION:Amelia Community Theatre\, 207 Cedar Street\, Fernandina Beach\, FL\, 32034\, United States
ATTACH;FMTTYPE=image/jpeg:https://www.ameliaisland.com/wp-content/uploads/Viennese-Insta-1080sq.jpg
END:VEVENT
BEGIN:VEVENT
DTSTART;TZID=America/New_York:20250510T193000
DTEND;TZID=America/New_York:20250510T213000
DTSTAMP:20260420T071402
CREATED:20250320T135736Z
LAST-MODIFIED:20250320T135736Z
UID:10019398-1746905400-1746912600@www.ameliaisland.com
SUMMARY:John Manzari & Luther S. Allison Performance
DESCRIPTION:The Amelia Island Dance Festival is proud to present an exceptional performance by acclaimed tap dancer John Manzari and world-renowned pianist Luther S. Allison on May 9 and 10\, 2025 on Amelia Island. \nManzari\, known for his dynamic and rhythmic tap dancing\, will showcase his impressive technique and musicality alongside the virtuosic playing of Allison\, whose skilled and soulful piano performances have captivated audiences worldwide. \nThe Manzari and Allison performance will take place on May 9 and 10 at the Amelia Community Theatre.
URL:https://www.ameliaisland.com/activity/john-manzari-luther-s-allison-performance/2025-05-10/
LOCATION:Amelia Community Theatre\, 207 Cedar Street\, Fernandina Beach\, FL\, 32034\, United States
ATTACH;FMTTYPE=image/jpeg:https://www.ameliaisland.com/wp-content/uploads/AIDF25spring.jpg
END:VEVENT
BEGIN:VEVENT
DTSTART;TZID=America/New_York:20250509T193000
DTEND;TZID=America/New_York:20250509T213000
DTSTAMP:20260420T071402
CREATED:20250320T135736Z
LAST-MODIFIED:20250320T135736Z
UID:10019397-1746819000-1746826200@www.ameliaisland.com
SUMMARY:John Manzari & Luther S. Allison Performance
DESCRIPTION:The Amelia Island Dance Festival is proud to present an exceptional performance by acclaimed tap dancer John Manzari and world-renowned pianist Luther S. Allison on May 9 and 10\, 2025 on Amelia Island. \nManzari\, known for his dynamic and rhythmic tap dancing\, will showcase his impressive technique and musicality alongside the virtuosic playing of Allison\, whose skilled and soulful piano performances have captivated audiences worldwide. \nThe Manzari and Allison performance will take place on May 9 and 10 at the Amelia Community Theatre.
URL:https://www.ameliaisland.com/activity/john-manzari-luther-s-allison-performance/2025-05-09/
LOCATION:Amelia Community Theatre\, 207 Cedar Street\, Fernandina Beach\, FL\, 32034\, United States
ATTACH;FMTTYPE=image/jpeg:https://www.ameliaisland.com/wp-content/uploads/AIDF25spring.jpg
END:VEVENT
BEGIN:VEVENT
DTSTART;TZID=America/New_York:20250302T193000
DTEND;TZID=America/New_York:20250302T213000
DTSTAMP:20260420T071402
CREATED:20250110T163356Z
LAST-MODIFIED:20250110T163356Z
UID:10018726-1740943800-1740951000@www.ameliaisland.com
SUMMARY:The Nighthawks Band
DESCRIPTION:One Night Only! \nEstablished in 1972\, The Nighthawks celebrate over 50 years in rock and roll. Decades of gigs and countless rabid fans have earned them the name “The Best Bar Band In The World.” \nFounder\, lead singer and harpmaster Mark Wenner is still at the helm\, while drummer Mark Stutso\, guitarist Dan Hovey and bassist Paul Pisciotta all share vocals and songwriting\, making this lineup one of the strongest ever. More than a bar band or blues band\, as they’re frequently labeled\, this is a band that played with Carl Perkins in addition to Muddy Waters.
URL:https://www.ameliaisland.com/activity/the-nighthawks-band/
LOCATION:Amelia Community Theatre\, 207 Cedar Street\, Fernandina Beach\, FL\, 32034\, United States
ATTACH;FMTTYPE=image/jpeg:https://www.ameliaisland.com/wp-content/uploads/Amelia-Community-Theatre.jpg
END:VEVENT
BEGIN:VEVENT
DTSTART;TZID=America/New_York:20241222T193000
DTEND;TZID=America/New_York:20241222T220000
DTSTAMP:20260420T071402
CREATED:20240306T174511Z
LAST-MODIFIED:20241011T202053Z
UID:10016046-1734895800-1734904800@www.ameliaisland.com
SUMMARY:How the Big Band Stole Christmas
DESCRIPTION:We are proud to announce the return of our annual holiday show How the Big Band Stole Christmas for a special 10-year anniversary show. Featuring over thirty world class performers in a classic big band setting including professional singers\, entertainers\, musicians\, dancers\, aerialists & actors.  \nThis family friendly holiday show is sure to get everyone in the spirit with a full theatre production including all your favorite holiday songs\, local celebrity singers\, dancing\, acting\, and an appearance by Saint Nick himself.
URL:https://www.ameliaisland.com/activity/how-the-big-band-stole-christmas/2024-12-22/
LOCATION:Amelia Community Theatre\, 207 Cedar Street\, Fernandina Beach\, FL\, 32034\, United States
ATTACH;FMTTYPE=image/jpeg:https://www.ameliaisland.com/wp-content/uploads/How-the-Big-Band-Stole-Christmas-2024-scaled.jpeg
END:VEVENT
BEGIN:VEVENT
DTSTART;TZID=America/New_York:20241222T153000
DTEND;TZID=America/New_York:20241222T173000
DTSTAMP:20260420T071402
CREATED:20240306T174520Z
LAST-MODIFIED:20241024T194706Z
UID:10016043-1734881400-1734888600@www.ameliaisland.com
SUMMARY:How the Big Band Stole Christmas
DESCRIPTION:We are proud to announce the return of our annual holiday show How the Big Band Stole Christmas for a special 10-year anniversary show. Featuring over thirty world class performers in a classic big band setting including professional singers\, entertainers\, musicians\, dancers\, aerialists & actors.  \nThis family friendly holiday show is sure to get everyone in the spirit with a full theatre production including all your favorite holiday songs\, local celebrity singers\, dancing\, acting\, and an appearance by Saint Nick himself.
URL:https://www.ameliaisland.com/activity/how-the-big-band-stole-christmas-2/2024-12-22/
LOCATION:Amelia Community Theatre\, 207 Cedar Street\, Fernandina Beach\, FL\, 32034\, United States
ATTACH;FMTTYPE=image/jpeg:https://www.ameliaisland.com/wp-content/uploads/How-the-Big-Band-Stole-Christmas-from-their-FB-Page.jpeg
END:VEVENT
BEGIN:VEVENT
DTSTART;TZID=America/New_York:20241221T193000
DTEND;TZID=America/New_York:20241221T220000
DTSTAMP:20260420T071402
CREATED:20240306T174511Z
LAST-MODIFIED:20241011T202053Z
UID:10016045-1734809400-1734818400@www.ameliaisland.com
SUMMARY:How the Big Band Stole Christmas
DESCRIPTION:We are proud to announce the return of our annual holiday show How the Big Band Stole Christmas for a special 10-year anniversary show. Featuring over thirty world class performers in a classic big band setting including professional singers\, entertainers\, musicians\, dancers\, aerialists & actors.  \nThis family friendly holiday show is sure to get everyone in the spirit with a full theatre production including all your favorite holiday songs\, local celebrity singers\, dancing\, acting\, and an appearance by Saint Nick himself.
URL:https://www.ameliaisland.com/activity/how-the-big-band-stole-christmas/2024-12-21/
LOCATION:Amelia Community Theatre\, 207 Cedar Street\, Fernandina Beach\, FL\, 32034\, United States
ATTACH;FMTTYPE=image/jpeg:https://www.ameliaisland.com/wp-content/uploads/How-the-Big-Band-Stole-Christmas-2024-scaled.jpeg
END:VEVENT
BEGIN:VEVENT
DTSTART;TZID=America/New_York:20241221T153000
DTEND;TZID=America/New_York:20241221T173000
DTSTAMP:20260420T071402
CREATED:20240306T174520Z
LAST-MODIFIED:20241024T194706Z
UID:10016042-1734795000-1734802200@www.ameliaisland.com
SUMMARY:How the Big Band Stole Christmas
DESCRIPTION:We are proud to announce the return of our annual holiday show How the Big Band Stole Christmas for a special 10-year anniversary show. Featuring over thirty world class performers in a classic big band setting including professional singers\, entertainers\, musicians\, dancers\, aerialists & actors.  \nThis family friendly holiday show is sure to get everyone in the spirit with a full theatre production including all your favorite holiday songs\, local celebrity singers\, dancing\, acting\, and an appearance by Saint Nick himself.
URL:https://www.ameliaisland.com/activity/how-the-big-band-stole-christmas-2/2024-12-21/
LOCATION:Amelia Community Theatre\, 207 Cedar Street\, Fernandina Beach\, FL\, 32034\, United States
ATTACH;FMTTYPE=image/jpeg:https://www.ameliaisland.com/wp-content/uploads/How-the-Big-Band-Stole-Christmas-from-their-FB-Page.jpeg
END:VEVENT
BEGIN:VEVENT
DTSTART;TZID=America/New_York:20241220T193000
DTEND;TZID=America/New_York:20241220T220000
DTSTAMP:20260420T071402
CREATED:20240306T174511Z
LAST-MODIFIED:20241011T202053Z
UID:10016044-1734723000-1734732000@www.ameliaisland.com
SUMMARY:How the Big Band Stole Christmas
DESCRIPTION:We are proud to announce the return of our annual holiday show How the Big Band Stole Christmas for a special 10-year anniversary show. Featuring over thirty world class performers in a classic big band setting including professional singers\, entertainers\, musicians\, dancers\, aerialists & actors.  \nThis family friendly holiday show is sure to get everyone in the spirit with a full theatre production including all your favorite holiday songs\, local celebrity singers\, dancing\, acting\, and an appearance by Saint Nick himself.
URL:https://www.ameliaisland.com/activity/how-the-big-band-stole-christmas/2024-12-20/
LOCATION:Amelia Community Theatre\, 207 Cedar Street\, Fernandina Beach\, FL\, 32034\, United States
ATTACH;FMTTYPE=image/jpeg:https://www.ameliaisland.com/wp-content/uploads/How-the-Big-Band-Stole-Christmas-2024-scaled.jpeg
END:VEVENT
BEGIN:VEVENT
DTSTART;TZID=America/New_York:20241102T183000
DTEND;TZID=America/New_York:20241102T213000
DTSTAMP:20260420T071402
CREATED:20240910T193216Z
LAST-MODIFIED:20240910T193216Z
UID:10011480-1730572200-1730583000@www.ameliaisland.com
SUMMARY:A Night at the Opera: La dolce vita
DESCRIPTION:Friday\, November 1\, 2024 | 6:30PM hors d’oeuvres 7:30PM Concert\nSaturday\, November 2\, 2024 | 6:30PM hors d’oeuvres 7:30PM Concert\nAmelia Community Theater | 207 Cedar St\, Fernandina Beach\, FL 32034 \nBack by popular demand\, A Night at the Opera is the perfect way to spend an enchanting evening on Amelia Island! This year’s theme\, La dolce vita\, will celebrate all things Italian! Presented by Amelia Island Opera and Amelia Community Theater\, this concert will feature Amelia Island Opera co-founders Robyn Marie Lamp\, Victoria Isernia\, John Tibbetts\, “sparkling” soprano Kyaunnee Richardson\, and “unforgettable” tenor Victor Starksy performing a mix of Italian and Neapolitan songs\, opera classics from favorite Italian composers\, and classic pop tunes with an Italian twist. \nGuests will enjoy delicious Italian-inspired hors d’oeuvres\, bite-sized desserts\, and flowing prosecco while they soak in the melodies. Dress in your best formal wear and get ready for a memorable night of culture in Amelia Island!
URL:https://www.ameliaisland.com/activity/a-night-at-the-opera-la-dolce-vita/2024-11-02/
LOCATION:Amelia Community Theatre\, 207 Cedar Street\, Fernandina Beach\, FL\, 32034\, United States
ATTACH;FMTTYPE=image/jpeg:https://www.ameliaisland.com/wp-content/uploads/Amelia-Island-Opera-La-dolce-vita.jpeg
END:VEVENT
BEGIN:VEVENT
DTSTART;TZID=America/New_York:20241101T183000
DTEND;TZID=America/New_York:20241101T213000
DTSTAMP:20260420T071402
CREATED:20240910T193216Z
LAST-MODIFIED:20240910T193216Z
UID:10011479-1730485800-1730496600@www.ameliaisland.com
SUMMARY:A Night at the Opera: La dolce vita
DESCRIPTION:Friday\, November 1\, 2024 | 6:30PM hors d’oeuvres 7:30PM Concert\nSaturday\, November 2\, 2024 | 6:30PM hors d’oeuvres 7:30PM Concert\nAmelia Community Theater | 207 Cedar St\, Fernandina Beach\, FL 32034 \nBack by popular demand\, A Night at the Opera is the perfect way to spend an enchanting evening on Amelia Island! This year’s theme\, La dolce vita\, will celebrate all things Italian! Presented by Amelia Island Opera and Amelia Community Theater\, this concert will feature Amelia Island Opera co-founders Robyn Marie Lamp\, Victoria Isernia\, John Tibbetts\, “sparkling” soprano Kyaunnee Richardson\, and “unforgettable” tenor Victor Starksy performing a mix of Italian and Neapolitan songs\, opera classics from favorite Italian composers\, and classic pop tunes with an Italian twist. \nGuests will enjoy delicious Italian-inspired hors d’oeuvres\, bite-sized desserts\, and flowing prosecco while they soak in the melodies. Dress in your best formal wear and get ready for a memorable night of culture in Amelia Island!
URL:https://www.ameliaisland.com/activity/a-night-at-the-opera-la-dolce-vita/2024-11-01/
LOCATION:Amelia Community Theatre\, 207 Cedar Street\, Fernandina Beach\, FL\, 32034\, United States
ATTACH;FMTTYPE=image/jpeg:https://www.ameliaisland.com/wp-content/uploads/Amelia-Island-Opera-La-dolce-vita.jpeg
END:VEVENT
END:VCALENDAR