BEGIN:VCALENDAR
VERSION:2.0
PRODID:-//Amelia Island - ECPv6.8.0//NONSGML v1.0//EN
CALSCALE:GREGORIAN
METHOD:PUBLISH
X-ORIGINAL-URL:https://www.ameliaisland.com
X-WR-CALDESC:Events for Amelia Island
REFRESH-INTERVAL;VALUE=DURATION:PT1H
X-Robots-Tag:noindex
X-PUBLISHED-TTL:PT1H
BEGIN:VTIMEZONE
TZID:America/New_York
BEGIN:DAYLIGHT
TZOFFSETFROM:-0500
TZOFFSETTO:-0400
TZNAME:EDT
DTSTART:20280312T070000
END:DAYLIGHT
BEGIN:STANDARD
TZOFFSETFROM:-0400
TZOFFSETTO:-0500
TZNAME:EST
DTSTART:20281105T060000
END:STANDARD
END:VTIMEZONE
BEGIN:VEVENT
DTSTART;TZID=America/New_York:20280225T180000
DTEND;TZID=America/New_York:20280225T190000
DTSTAMP:20260422T104303
CREATED:20250730T160215Z
LAST-MODIFIED:20250730T160215Z
UID:10025503-1835114400-1835118000@www.ameliaisland.com
SUMMARY:Amelia Island Museum of History Ghost Tour
DESCRIPTION:Step into Amelia Island’s storied past and join us for this one of a kind experience. Taking place every Friday at 6 PM\, this one-hour ghost tour covers approximately 14 blocks\, starting at the cemetery behind St. Peter’s Episcopal Church (801 Atlantic Avenue). \nVisit ameliamuseum.org/ghost-tour or check the Amelia Island Museum of History’s Facebook page for more information.
URL:https://www.ameliaisland.com/activity/amelia-island-museum-of-history-ghost-tour/2028-02-25/
ATTACH;FMTTYPE=image/jpeg:https://www.ameliaisland.com/wp-content/uploads/Bosque-Bello-Cemetery-Ghost-Tour.jpg
END:VEVENT
BEGIN:VEVENT
DTSTART;TZID=America/New_York:20280303T180000
DTEND;TZID=America/New_York:20280303T190000
DTSTAMP:20260422T104303
CREATED:20250730T160215Z
LAST-MODIFIED:20250730T160215Z
UID:10025504-1835719200-1835722800@www.ameliaisland.com
SUMMARY:Amelia Island Museum of History Ghost Tour
DESCRIPTION:Step into Amelia Island’s storied past and join us for this one of a kind experience. Taking place every Friday at 6 PM\, this one-hour ghost tour covers approximately 14 blocks\, starting at the cemetery behind St. Peter’s Episcopal Church (801 Atlantic Avenue). \nVisit ameliamuseum.org/ghost-tour or check the Amelia Island Museum of History’s Facebook page for more information.
URL:https://www.ameliaisland.com/activity/amelia-island-museum-of-history-ghost-tour/2028-03-03/
ATTACH;FMTTYPE=image/jpeg:https://www.ameliaisland.com/wp-content/uploads/Bosque-Bello-Cemetery-Ghost-Tour.jpg
END:VEVENT
BEGIN:VEVENT
DTSTART;TZID=America/New_York:20280310T180000
DTEND;TZID=America/New_York:20280310T190000
DTSTAMP:20260422T104303
CREATED:20250730T160215Z
LAST-MODIFIED:20250730T160215Z
UID:10025505-1836324000-1836327600@www.ameliaisland.com
SUMMARY:Amelia Island Museum of History Ghost Tour
DESCRIPTION:Step into Amelia Island’s storied past and join us for this one of a kind experience. Taking place every Friday at 6 PM\, this one-hour ghost tour covers approximately 14 blocks\, starting at the cemetery behind St. Peter’s Episcopal Church (801 Atlantic Avenue). \nVisit ameliamuseum.org/ghost-tour or check the Amelia Island Museum of History’s Facebook page for more information.
URL:https://www.ameliaisland.com/activity/amelia-island-museum-of-history-ghost-tour/2028-03-10/
ATTACH;FMTTYPE=image/jpeg:https://www.ameliaisland.com/wp-content/uploads/Bosque-Bello-Cemetery-Ghost-Tour.jpg
END:VEVENT
BEGIN:VEVENT
DTSTART;TZID=America/New_York:20280317T180000
DTEND;TZID=America/New_York:20280317T190000
DTSTAMP:20260422T104303
CREATED:20250730T160215Z
LAST-MODIFIED:20250730T160215Z
UID:10025506-1836928800-1836932400@www.ameliaisland.com
SUMMARY:Amelia Island Museum of History Ghost Tour
DESCRIPTION:Step into Amelia Island’s storied past and join us for this one of a kind experience. Taking place every Friday at 6 PM\, this one-hour ghost tour covers approximately 14 blocks\, starting at the cemetery behind St. Peter’s Episcopal Church (801 Atlantic Avenue). \nVisit ameliamuseum.org/ghost-tour or check the Amelia Island Museum of History’s Facebook page for more information.
URL:https://www.ameliaisland.com/activity/amelia-island-museum-of-history-ghost-tour/2028-03-17/
ATTACH;FMTTYPE=image/jpeg:https://www.ameliaisland.com/wp-content/uploads/Bosque-Bello-Cemetery-Ghost-Tour.jpg
END:VEVENT
BEGIN:VEVENT
DTSTART;TZID=America/New_York:20280324T180000
DTEND;TZID=America/New_York:20280324T190000
DTSTAMP:20260422T104303
CREATED:20250730T160215Z
LAST-MODIFIED:20250730T160215Z
UID:10025507-1837533600-1837537200@www.ameliaisland.com
SUMMARY:Amelia Island Museum of History Ghost Tour
DESCRIPTION:Step into Amelia Island’s storied past and join us for this one of a kind experience. Taking place every Friday at 6 PM\, this one-hour ghost tour covers approximately 14 blocks\, starting at the cemetery behind St. Peter’s Episcopal Church (801 Atlantic Avenue). \nVisit ameliamuseum.org/ghost-tour or check the Amelia Island Museum of History’s Facebook page for more information.
URL:https://www.ameliaisland.com/activity/amelia-island-museum-of-history-ghost-tour/2028-03-24/
ATTACH;FMTTYPE=image/jpeg:https://www.ameliaisland.com/wp-content/uploads/Bosque-Bello-Cemetery-Ghost-Tour.jpg
END:VEVENT
BEGIN:VEVENT
DTSTART;TZID=America/New_York:20280331T180000
DTEND;TZID=America/New_York:20280331T190000
DTSTAMP:20260422T104303
CREATED:20250730T160215Z
LAST-MODIFIED:20250730T160215Z
UID:10025508-1838138400-1838142000@www.ameliaisland.com
SUMMARY:Amelia Island Museum of History Ghost Tour
DESCRIPTION:Step into Amelia Island’s storied past and join us for this one of a kind experience. Taking place every Friday at 6 PM\, this one-hour ghost tour covers approximately 14 blocks\, starting at the cemetery behind St. Peter’s Episcopal Church (801 Atlantic Avenue). \nVisit ameliamuseum.org/ghost-tour or check the Amelia Island Museum of History’s Facebook page for more information.
URL:https://www.ameliaisland.com/activity/amelia-island-museum-of-history-ghost-tour/2028-03-31/
ATTACH;FMTTYPE=image/jpeg:https://www.ameliaisland.com/wp-content/uploads/Bosque-Bello-Cemetery-Ghost-Tour.jpg
END:VEVENT
BEGIN:VEVENT
DTSTART;TZID=America/New_York:20280407T180000
DTEND;TZID=America/New_York:20280407T190000
DTSTAMP:20260422T104303
CREATED:20250730T160215Z
LAST-MODIFIED:20250730T160215Z
UID:10025509-1838743200-1838746800@www.ameliaisland.com
SUMMARY:Amelia Island Museum of History Ghost Tour
DESCRIPTION:Step into Amelia Island’s storied past and join us for this one of a kind experience. Taking place every Friday at 6 PM\, this one-hour ghost tour covers approximately 14 blocks\, starting at the cemetery behind St. Peter’s Episcopal Church (801 Atlantic Avenue). \nVisit ameliamuseum.org/ghost-tour or check the Amelia Island Museum of History’s Facebook page for more information.
URL:https://www.ameliaisland.com/activity/amelia-island-museum-of-history-ghost-tour/2028-04-07/
ATTACH;FMTTYPE=image/jpeg:https://www.ameliaisland.com/wp-content/uploads/Bosque-Bello-Cemetery-Ghost-Tour.jpg
END:VEVENT
BEGIN:VEVENT
DTSTART;TZID=America/New_York:20280414T180000
DTEND;TZID=America/New_York:20280414T190000
DTSTAMP:20260422T104303
CREATED:20250730T160215Z
LAST-MODIFIED:20250730T160215Z
UID:10025510-1839348000-1839351600@www.ameliaisland.com
SUMMARY:Amelia Island Museum of History Ghost Tour
DESCRIPTION:Step into Amelia Island’s storied past and join us for this one of a kind experience. Taking place every Friday at 6 PM\, this one-hour ghost tour covers approximately 14 blocks\, starting at the cemetery behind St. Peter’s Episcopal Church (801 Atlantic Avenue). \nVisit ameliamuseum.org/ghost-tour or check the Amelia Island Museum of History’s Facebook page for more information.
URL:https://www.ameliaisland.com/activity/amelia-island-museum-of-history-ghost-tour/2028-04-14/
ATTACH;FMTTYPE=image/jpeg:https://www.ameliaisland.com/wp-content/uploads/Bosque-Bello-Cemetery-Ghost-Tour.jpg
END:VEVENT
BEGIN:VEVENT
DTSTART;TZID=America/New_York:20280421T180000
DTEND;TZID=America/New_York:20280421T190000
DTSTAMP:20260422T104303
CREATED:20250730T160215Z
LAST-MODIFIED:20250730T160215Z
UID:10025511-1839952800-1839956400@www.ameliaisland.com
SUMMARY:Amelia Island Museum of History Ghost Tour
DESCRIPTION:Step into Amelia Island’s storied past and join us for this one of a kind experience. Taking place every Friday at 6 PM\, this one-hour ghost tour covers approximately 14 blocks\, starting at the cemetery behind St. Peter’s Episcopal Church (801 Atlantic Avenue). \nVisit ameliamuseum.org/ghost-tour or check the Amelia Island Museum of History’s Facebook page for more information.
URL:https://www.ameliaisland.com/activity/amelia-island-museum-of-history-ghost-tour/2028-04-21/
ATTACH;FMTTYPE=image/jpeg:https://www.ameliaisland.com/wp-content/uploads/Bosque-Bello-Cemetery-Ghost-Tour.jpg
END:VEVENT
BEGIN:VEVENT
DTSTART;TZID=America/New_York:20280428T180000
DTEND;TZID=America/New_York:20280428T190000
DTSTAMP:20260422T104303
CREATED:20250730T160215Z
LAST-MODIFIED:20250730T160215Z
UID:10025512-1840557600-1840561200@www.ameliaisland.com
SUMMARY:Amelia Island Museum of History Ghost Tour
DESCRIPTION:Step into Amelia Island’s storied past and join us for this one of a kind experience. Taking place every Friday at 6 PM\, this one-hour ghost tour covers approximately 14 blocks\, starting at the cemetery behind St. Peter’s Episcopal Church (801 Atlantic Avenue). \nVisit ameliamuseum.org/ghost-tour or check the Amelia Island Museum of History’s Facebook page for more information.
URL:https://www.ameliaisland.com/activity/amelia-island-museum-of-history-ghost-tour/2028-04-28/
ATTACH;FMTTYPE=image/jpeg:https://www.ameliaisland.com/wp-content/uploads/Bosque-Bello-Cemetery-Ghost-Tour.jpg
END:VEVENT
BEGIN:VEVENT
DTSTART;TZID=America/New_York:20280505T180000
DTEND;TZID=America/New_York:20280505T190000
DTSTAMP:20260422T104303
CREATED:20250730T160215Z
LAST-MODIFIED:20250730T160215Z
UID:10025513-1841162400-1841166000@www.ameliaisland.com
SUMMARY:Amelia Island Museum of History Ghost Tour
DESCRIPTION:Step into Amelia Island’s storied past and join us for this one of a kind experience. Taking place every Friday at 6 PM\, this one-hour ghost tour covers approximately 14 blocks\, starting at the cemetery behind St. Peter’s Episcopal Church (801 Atlantic Avenue). \nVisit ameliamuseum.org/ghost-tour or check the Amelia Island Museum of History’s Facebook page for more information.
URL:https://www.ameliaisland.com/activity/amelia-island-museum-of-history-ghost-tour/2028-05-05/
ATTACH;FMTTYPE=image/jpeg:https://www.ameliaisland.com/wp-content/uploads/Bosque-Bello-Cemetery-Ghost-Tour.jpg
END:VEVENT
BEGIN:VEVENT
DTSTART;TZID=America/New_York:20280512T180000
DTEND;TZID=America/New_York:20280512T190000
DTSTAMP:20260422T104303
CREATED:20250730T160215Z
LAST-MODIFIED:20250730T160215Z
UID:10025514-1841767200-1841770800@www.ameliaisland.com
SUMMARY:Amelia Island Museum of History Ghost Tour
DESCRIPTION:Step into Amelia Island’s storied past and join us for this one of a kind experience. Taking place every Friday at 6 PM\, this one-hour ghost tour covers approximately 14 blocks\, starting at the cemetery behind St. Peter’s Episcopal Church (801 Atlantic Avenue). \nVisit ameliamuseum.org/ghost-tour or check the Amelia Island Museum of History’s Facebook page for more information.
URL:https://www.ameliaisland.com/activity/amelia-island-museum-of-history-ghost-tour/2028-05-12/
ATTACH;FMTTYPE=image/jpeg:https://www.ameliaisland.com/wp-content/uploads/Bosque-Bello-Cemetery-Ghost-Tour.jpg
END:VEVENT
BEGIN:VEVENT
DTSTART;TZID=America/New_York:20280519T180000
DTEND;TZID=America/New_York:20280519T190000
DTSTAMP:20260422T104303
CREATED:20250730T160215Z
LAST-MODIFIED:20250730T160215Z
UID:10025515-1842372000-1842375600@www.ameliaisland.com
SUMMARY:Amelia Island Museum of History Ghost Tour
DESCRIPTION:Step into Amelia Island’s storied past and join us for this one of a kind experience. Taking place every Friday at 6 PM\, this one-hour ghost tour covers approximately 14 blocks\, starting at the cemetery behind St. Peter’s Episcopal Church (801 Atlantic Avenue). \nVisit ameliamuseum.org/ghost-tour or check the Amelia Island Museum of History’s Facebook page for more information.
URL:https://www.ameliaisland.com/activity/amelia-island-museum-of-history-ghost-tour/2028-05-19/
ATTACH;FMTTYPE=image/jpeg:https://www.ameliaisland.com/wp-content/uploads/Bosque-Bello-Cemetery-Ghost-Tour.jpg
END:VEVENT
BEGIN:VEVENT
DTSTART;TZID=America/New_York:20280526T180000
DTEND;TZID=America/New_York:20280526T190000
DTSTAMP:20260422T104303
CREATED:20250730T160215Z
LAST-MODIFIED:20250730T160215Z
UID:10025516-1842976800-1842980400@www.ameliaisland.com
SUMMARY:Amelia Island Museum of History Ghost Tour
DESCRIPTION:Step into Amelia Island’s storied past and join us for this one of a kind experience. Taking place every Friday at 6 PM\, this one-hour ghost tour covers approximately 14 blocks\, starting at the cemetery behind St. Peter’s Episcopal Church (801 Atlantic Avenue). \nVisit ameliamuseum.org/ghost-tour or check the Amelia Island Museum of History’s Facebook page for more information.
URL:https://www.ameliaisland.com/activity/amelia-island-museum-of-history-ghost-tour/2028-05-26/
ATTACH;FMTTYPE=image/jpeg:https://www.ameliaisland.com/wp-content/uploads/Bosque-Bello-Cemetery-Ghost-Tour.jpg
END:VEVENT
BEGIN:VEVENT
DTSTART;TZID=America/New_York:20280602T180000
DTEND;TZID=America/New_York:20280602T190000
DTSTAMP:20260422T104303
CREATED:20250730T160215Z
LAST-MODIFIED:20250730T160215Z
UID:10025517-1843581600-1843585200@www.ameliaisland.com
SUMMARY:Amelia Island Museum of History Ghost Tour
DESCRIPTION:Step into Amelia Island’s storied past and join us for this one of a kind experience. Taking place every Friday at 6 PM\, this one-hour ghost tour covers approximately 14 blocks\, starting at the cemetery behind St. Peter’s Episcopal Church (801 Atlantic Avenue). \nVisit ameliamuseum.org/ghost-tour or check the Amelia Island Museum of History’s Facebook page for more information.
URL:https://www.ameliaisland.com/activity/amelia-island-museum-of-history-ghost-tour/2028-06-02/
ATTACH;FMTTYPE=image/jpeg:https://www.ameliaisland.com/wp-content/uploads/Bosque-Bello-Cemetery-Ghost-Tour.jpg
END:VEVENT
BEGIN:VEVENT
DTSTART;TZID=America/New_York:20280609T180000
DTEND;TZID=America/New_York:20280609T190000
DTSTAMP:20260422T104303
CREATED:20250730T160215Z
LAST-MODIFIED:20250730T160215Z
UID:10025518-1844186400-1844190000@www.ameliaisland.com
SUMMARY:Amelia Island Museum of History Ghost Tour
DESCRIPTION:Step into Amelia Island’s storied past and join us for this one of a kind experience. Taking place every Friday at 6 PM\, this one-hour ghost tour covers approximately 14 blocks\, starting at the cemetery behind St. Peter’s Episcopal Church (801 Atlantic Avenue). \nVisit ameliamuseum.org/ghost-tour or check the Amelia Island Museum of History’s Facebook page for more information.
URL:https://www.ameliaisland.com/activity/amelia-island-museum-of-history-ghost-tour/2028-06-09/
ATTACH;FMTTYPE=image/jpeg:https://www.ameliaisland.com/wp-content/uploads/Bosque-Bello-Cemetery-Ghost-Tour.jpg
END:VEVENT
BEGIN:VEVENT
DTSTART;TZID=America/New_York:20280616T180000
DTEND;TZID=America/New_York:20280616T190000
DTSTAMP:20260422T104303
CREATED:20250730T160215Z
LAST-MODIFIED:20250730T160215Z
UID:10025519-1844791200-1844794800@www.ameliaisland.com
SUMMARY:Amelia Island Museum of History Ghost Tour
DESCRIPTION:Step into Amelia Island’s storied past and join us for this one of a kind experience. Taking place every Friday at 6 PM\, this one-hour ghost tour covers approximately 14 blocks\, starting at the cemetery behind St. Peter’s Episcopal Church (801 Atlantic Avenue). \nVisit ameliamuseum.org/ghost-tour or check the Amelia Island Museum of History’s Facebook page for more information.
URL:https://www.ameliaisland.com/activity/amelia-island-museum-of-history-ghost-tour/2028-06-16/
ATTACH;FMTTYPE=image/jpeg:https://www.ameliaisland.com/wp-content/uploads/Bosque-Bello-Cemetery-Ghost-Tour.jpg
END:VEVENT
BEGIN:VEVENT
DTSTART;TZID=America/New_York:20280623T180000
DTEND;TZID=America/New_York:20280623T190000
DTSTAMP:20260422T104303
CREATED:20250730T160215Z
LAST-MODIFIED:20250730T160215Z
UID:10025520-1845396000-1845399600@www.ameliaisland.com
SUMMARY:Amelia Island Museum of History Ghost Tour
DESCRIPTION:Step into Amelia Island’s storied past and join us for this one of a kind experience. Taking place every Friday at 6 PM\, this one-hour ghost tour covers approximately 14 blocks\, starting at the cemetery behind St. Peter’s Episcopal Church (801 Atlantic Avenue). \nVisit ameliamuseum.org/ghost-tour or check the Amelia Island Museum of History’s Facebook page for more information.
URL:https://www.ameliaisland.com/activity/amelia-island-museum-of-history-ghost-tour/2028-06-23/
ATTACH;FMTTYPE=image/jpeg:https://www.ameliaisland.com/wp-content/uploads/Bosque-Bello-Cemetery-Ghost-Tour.jpg
END:VEVENT
BEGIN:VEVENT
DTSTART;TZID=America/New_York:20280630T180000
DTEND;TZID=America/New_York:20280630T190000
DTSTAMP:20260422T104303
CREATED:20250730T160215Z
LAST-MODIFIED:20250730T160215Z
UID:10025521-1846000800-1846004400@www.ameliaisland.com
SUMMARY:Amelia Island Museum of History Ghost Tour
DESCRIPTION:Step into Amelia Island’s storied past and join us for this one of a kind experience. Taking place every Friday at 6 PM\, this one-hour ghost tour covers approximately 14 blocks\, starting at the cemetery behind St. Peter’s Episcopal Church (801 Atlantic Avenue). \nVisit ameliamuseum.org/ghost-tour or check the Amelia Island Museum of History’s Facebook page for more information.
URL:https://www.ameliaisland.com/activity/amelia-island-museum-of-history-ghost-tour/2028-06-30/
ATTACH;FMTTYPE=image/jpeg:https://www.ameliaisland.com/wp-content/uploads/Bosque-Bello-Cemetery-Ghost-Tour.jpg
END:VEVENT
BEGIN:VEVENT
DTSTART;TZID=America/New_York:20280707T180000
DTEND;TZID=America/New_York:20280707T190000
DTSTAMP:20260422T104303
CREATED:20250730T160215Z
LAST-MODIFIED:20250730T160215Z
UID:10025522-1846605600-1846609200@www.ameliaisland.com
SUMMARY:Amelia Island Museum of History Ghost Tour
DESCRIPTION:Step into Amelia Island’s storied past and join us for this one of a kind experience. Taking place every Friday at 6 PM\, this one-hour ghost tour covers approximately 14 blocks\, starting at the cemetery behind St. Peter’s Episcopal Church (801 Atlantic Avenue). \nVisit ameliamuseum.org/ghost-tour or check the Amelia Island Museum of History’s Facebook page for more information.
URL:https://www.ameliaisland.com/activity/amelia-island-museum-of-history-ghost-tour/2028-07-07/
ATTACH;FMTTYPE=image/jpeg:https://www.ameliaisland.com/wp-content/uploads/Bosque-Bello-Cemetery-Ghost-Tour.jpg
END:VEVENT
BEGIN:VEVENT
DTSTART;TZID=America/New_York:20280714T180000
DTEND;TZID=America/New_York:20280714T190000
DTSTAMP:20260422T104303
CREATED:20250730T160215Z
LAST-MODIFIED:20250730T160215Z
UID:10025523-1847210400-1847214000@www.ameliaisland.com
SUMMARY:Amelia Island Museum of History Ghost Tour
DESCRIPTION:Step into Amelia Island’s storied past and join us for this one of a kind experience. Taking place every Friday at 6 PM\, this one-hour ghost tour covers approximately 14 blocks\, starting at the cemetery behind St. Peter’s Episcopal Church (801 Atlantic Avenue). \nVisit ameliamuseum.org/ghost-tour or check the Amelia Island Museum of History’s Facebook page for more information.
URL:https://www.ameliaisland.com/activity/amelia-island-museum-of-history-ghost-tour/2028-07-14/
ATTACH;FMTTYPE=image/jpeg:https://www.ameliaisland.com/wp-content/uploads/Bosque-Bello-Cemetery-Ghost-Tour.jpg
END:VEVENT
BEGIN:VEVENT
DTSTART;TZID=America/New_York:20280721T180000
DTEND;TZID=America/New_York:20280721T190000
DTSTAMP:20260422T104304
CREATED:20250730T160215Z
LAST-MODIFIED:20250730T160215Z
UID:10025524-1847815200-1847818800@www.ameliaisland.com
SUMMARY:Amelia Island Museum of History Ghost Tour
DESCRIPTION:Step into Amelia Island’s storied past and join us for this one of a kind experience. Taking place every Friday at 6 PM\, this one-hour ghost tour covers approximately 14 blocks\, starting at the cemetery behind St. Peter’s Episcopal Church (801 Atlantic Avenue). \nVisit ameliamuseum.org/ghost-tour or check the Amelia Island Museum of History’s Facebook page for more information.
URL:https://www.ameliaisland.com/activity/amelia-island-museum-of-history-ghost-tour/2028-07-21/
ATTACH;FMTTYPE=image/jpeg:https://www.ameliaisland.com/wp-content/uploads/Bosque-Bello-Cemetery-Ghost-Tour.jpg
END:VEVENT
BEGIN:VEVENT
DTSTART;TZID=America/New_York:20280728T180000
DTEND;TZID=America/New_York:20280728T190000
DTSTAMP:20260422T104304
CREATED:20250730T160215Z
LAST-MODIFIED:20250730T160215Z
UID:10025525-1848420000-1848423600@www.ameliaisland.com
SUMMARY:Amelia Island Museum of History Ghost Tour
DESCRIPTION:Step into Amelia Island’s storied past and join us for this one of a kind experience. Taking place every Friday at 6 PM\, this one-hour ghost tour covers approximately 14 blocks\, starting at the cemetery behind St. Peter’s Episcopal Church (801 Atlantic Avenue). \nVisit ameliamuseum.org/ghost-tour or check the Amelia Island Museum of History’s Facebook page for more information.
URL:https://www.ameliaisland.com/activity/amelia-island-museum-of-history-ghost-tour/2028-07-28/
ATTACH;FMTTYPE=image/jpeg:https://www.ameliaisland.com/wp-content/uploads/Bosque-Bello-Cemetery-Ghost-Tour.jpg
END:VEVENT
BEGIN:VEVENT
DTSTART;TZID=America/New_York:20280804T180000
DTEND;TZID=America/New_York:20280804T190000
DTSTAMP:20260422T104304
CREATED:20250730T160215Z
LAST-MODIFIED:20250730T160215Z
UID:10025526-1849024800-1849028400@www.ameliaisland.com
SUMMARY:Amelia Island Museum of History Ghost Tour
DESCRIPTION:Step into Amelia Island’s storied past and join us for this one of a kind experience. Taking place every Friday at 6 PM\, this one-hour ghost tour covers approximately 14 blocks\, starting at the cemetery behind St. Peter’s Episcopal Church (801 Atlantic Avenue). \nVisit ameliamuseum.org/ghost-tour or check the Amelia Island Museum of History’s Facebook page for more information.
URL:https://www.ameliaisland.com/activity/amelia-island-museum-of-history-ghost-tour/2028-08-04/
ATTACH;FMTTYPE=image/jpeg:https://www.ameliaisland.com/wp-content/uploads/Bosque-Bello-Cemetery-Ghost-Tour.jpg
END:VEVENT
BEGIN:VEVENT
DTSTART;TZID=America/New_York:20280811T180000
DTEND;TZID=America/New_York:20280811T190000
DTSTAMP:20260422T104304
CREATED:20250730T160215Z
LAST-MODIFIED:20250730T160215Z
UID:10025527-1849629600-1849633200@www.ameliaisland.com
SUMMARY:Amelia Island Museum of History Ghost Tour
DESCRIPTION:Step into Amelia Island’s storied past and join us for this one of a kind experience. Taking place every Friday at 6 PM\, this one-hour ghost tour covers approximately 14 blocks\, starting at the cemetery behind St. Peter’s Episcopal Church (801 Atlantic Avenue). \nVisit ameliamuseum.org/ghost-tour or check the Amelia Island Museum of History’s Facebook page for more information.
URL:https://www.ameliaisland.com/activity/amelia-island-museum-of-history-ghost-tour/2028-08-11/
ATTACH;FMTTYPE=image/jpeg:https://www.ameliaisland.com/wp-content/uploads/Bosque-Bello-Cemetery-Ghost-Tour.jpg
END:VEVENT
BEGIN:VEVENT
DTSTART;TZID=America/New_York:20280818T180000
DTEND;TZID=America/New_York:20280818T190000
DTSTAMP:20260422T104304
CREATED:20250730T160215Z
LAST-MODIFIED:20250730T160215Z
UID:10025528-1850234400-1850238000@www.ameliaisland.com
SUMMARY:Amelia Island Museum of History Ghost Tour
DESCRIPTION:Step into Amelia Island’s storied past and join us for this one of a kind experience. Taking place every Friday at 6 PM\, this one-hour ghost tour covers approximately 14 blocks\, starting at the cemetery behind St. Peter’s Episcopal Church (801 Atlantic Avenue). \nVisit ameliamuseum.org/ghost-tour or check the Amelia Island Museum of History’s Facebook page for more information.
URL:https://www.ameliaisland.com/activity/amelia-island-museum-of-history-ghost-tour/2028-08-18/
ATTACH;FMTTYPE=image/jpeg:https://www.ameliaisland.com/wp-content/uploads/Bosque-Bello-Cemetery-Ghost-Tour.jpg
END:VEVENT
BEGIN:VEVENT
DTSTART;TZID=America/New_York:20280825T180000
DTEND;TZID=America/New_York:20280825T190000
DTSTAMP:20260422T104304
CREATED:20250730T160215Z
LAST-MODIFIED:20250730T160215Z
UID:10025529-1850839200-1850842800@www.ameliaisland.com
SUMMARY:Amelia Island Museum of History Ghost Tour
DESCRIPTION:Step into Amelia Island’s storied past and join us for this one of a kind experience. Taking place every Friday at 6 PM\, this one-hour ghost tour covers approximately 14 blocks\, starting at the cemetery behind St. Peter’s Episcopal Church (801 Atlantic Avenue). \nVisit ameliamuseum.org/ghost-tour or check the Amelia Island Museum of History’s Facebook page for more information.
URL:https://www.ameliaisland.com/activity/amelia-island-museum-of-history-ghost-tour/2028-08-25/
ATTACH;FMTTYPE=image/jpeg:https://www.ameliaisland.com/wp-content/uploads/Bosque-Bello-Cemetery-Ghost-Tour.jpg
END:VEVENT
BEGIN:VEVENT
DTSTART;TZID=America/New_York:20280901T180000
DTEND;TZID=America/New_York:20280901T190000
DTSTAMP:20260422T104304
CREATED:20250730T160215Z
LAST-MODIFIED:20250730T160215Z
UID:10025530-1851444000-1851447600@www.ameliaisland.com
SUMMARY:Amelia Island Museum of History Ghost Tour
DESCRIPTION:Step into Amelia Island’s storied past and join us for this one of a kind experience. Taking place every Friday at 6 PM\, this one-hour ghost tour covers approximately 14 blocks\, starting at the cemetery behind St. Peter’s Episcopal Church (801 Atlantic Avenue). \nVisit ameliamuseum.org/ghost-tour or check the Amelia Island Museum of History’s Facebook page for more information.
URL:https://www.ameliaisland.com/activity/amelia-island-museum-of-history-ghost-tour/2028-09-01/
ATTACH;FMTTYPE=image/jpeg:https://www.ameliaisland.com/wp-content/uploads/Bosque-Bello-Cemetery-Ghost-Tour.jpg
END:VEVENT
BEGIN:VEVENT
DTSTART;TZID=America/New_York:20280908T180000
DTEND;TZID=America/New_York:20280908T190000
DTSTAMP:20260422T104304
CREATED:20250730T160215Z
LAST-MODIFIED:20250730T160215Z
UID:10025531-1852048800-1852052400@www.ameliaisland.com
SUMMARY:Amelia Island Museum of History Ghost Tour
DESCRIPTION:Step into Amelia Island’s storied past and join us for this one of a kind experience. Taking place every Friday at 6 PM\, this one-hour ghost tour covers approximately 14 blocks\, starting at the cemetery behind St. Peter’s Episcopal Church (801 Atlantic Avenue). \nVisit ameliamuseum.org/ghost-tour or check the Amelia Island Museum of History’s Facebook page for more information.
URL:https://www.ameliaisland.com/activity/amelia-island-museum-of-history-ghost-tour/2028-09-08/
ATTACH;FMTTYPE=image/jpeg:https://www.ameliaisland.com/wp-content/uploads/Bosque-Bello-Cemetery-Ghost-Tour.jpg
END:VEVENT
BEGIN:VEVENT
DTSTART;TZID=America/New_York:20280915T180000
DTEND;TZID=America/New_York:20280915T190000
DTSTAMP:20260422T104304
CREATED:20250730T160215Z
LAST-MODIFIED:20250730T160215Z
UID:10025532-1852653600-1852657200@www.ameliaisland.com
SUMMARY:Amelia Island Museum of History Ghost Tour
DESCRIPTION:Step into Amelia Island’s storied past and join us for this one of a kind experience. Taking place every Friday at 6 PM\, this one-hour ghost tour covers approximately 14 blocks\, starting at the cemetery behind St. Peter’s Episcopal Church (801 Atlantic Avenue). \nVisit ameliamuseum.org/ghost-tour or check the Amelia Island Museum of History’s Facebook page for more information.
URL:https://www.ameliaisland.com/activity/amelia-island-museum-of-history-ghost-tour/2028-09-15/
ATTACH;FMTTYPE=image/jpeg:https://www.ameliaisland.com/wp-content/uploads/Bosque-Bello-Cemetery-Ghost-Tour.jpg
END:VEVENT
END:VCALENDAR