BEGIN:VCALENDAR
VERSION:2.0
PRODID:-//Amelia Island - ECPv6.8.0//NONSGML v1.0//EN
CALSCALE:GREGORIAN
METHOD:PUBLISH
X-ORIGINAL-URL:https://www.ameliaisland.com
X-WR-CALDESC:Events for Amelia Island
REFRESH-INTERVAL;VALUE=DURATION:PT1H
X-Robots-Tag:noindex
X-PUBLISHED-TTL:PT1H
BEGIN:VTIMEZONE
TZID:America/New_York
BEGIN:DAYLIGHT
TZOFFSETFROM:-0500
TZOFFSETTO:-0400
TZNAME:EDT
DTSTART:20270314T070000
END:DAYLIGHT
BEGIN:STANDARD
TZOFFSETFROM:-0400
TZOFFSETTO:-0500
TZNAME:EST
DTSTART:20271107T060000
END:STANDARD
BEGIN:DAYLIGHT
TZOFFSETFROM:-0500
TZOFFSETTO:-0400
TZNAME:EDT
DTSTART:20280312T070000
END:DAYLIGHT
BEGIN:STANDARD
TZOFFSETFROM:-0400
TZOFFSETTO:-0500
TZNAME:EST
DTSTART:20281105T060000
END:STANDARD
END:VTIMEZONE
BEGIN:VEVENT
DTSTART;TZID=America/New_York:20271204T103000
DTEND;TZID=America/New_York:20271204T113000
DTSTAMP:20260419T182830
CREATED:20240530T003130Z
LAST-MODIFIED:20240530T003130Z
UID:10009518-1827916200-1827919800@www.ameliaisland.com
SUMMARY:StoryTime with Ms. Dearsha
DESCRIPTION:Join us at the store for a magical StoryTime with Ms. Dearsha\, our beloved and very talented Director of Children’s Merchandise and Programming! \nStoryTime is every Saturday at 10:30 am in the store. No RSVP needed. Just come on in! \nDive into fantastical worlds\, meet dynamic characters\, and let your imagination soar! We can’t wait to see you!
URL:https://www.ameliaisland.com/activity/storytime-with-ms-dearsha/2027-12-04/
LOCATION:Story & Song Centre for Arts and Culture\, 1430 Park Avenue\, Fernandina Beach\, FL\, 32034
ATTACH;FMTTYPE=image/jpeg:https://www.ameliaisland.com/wp-content/uploads/Story-Song-family-books-shops.jpeg
END:VEVENT
BEGIN:VEVENT
DTSTART;TZID=America/New_York:20271211T103000
DTEND;TZID=America/New_York:20271211T113000
DTSTAMP:20260419T182830
CREATED:20240530T003130Z
LAST-MODIFIED:20240530T003130Z
UID:10009519-1828521000-1828524600@www.ameliaisland.com
SUMMARY:StoryTime with Ms. Dearsha
DESCRIPTION:Join us at the store for a magical StoryTime with Ms. Dearsha\, our beloved and very talented Director of Children’s Merchandise and Programming! \nStoryTime is every Saturday at 10:30 am in the store. No RSVP needed. Just come on in! \nDive into fantastical worlds\, meet dynamic characters\, and let your imagination soar! We can’t wait to see you!
URL:https://www.ameliaisland.com/activity/storytime-with-ms-dearsha/2027-12-11/
LOCATION:Story & Song Centre for Arts and Culture\, 1430 Park Avenue\, Fernandina Beach\, FL\, 32034
ATTACH;FMTTYPE=image/jpeg:https://www.ameliaisland.com/wp-content/uploads/Story-Song-family-books-shops.jpeg
END:VEVENT
BEGIN:VEVENT
DTSTART;TZID=America/New_York:20271218T103000
DTEND;TZID=America/New_York:20271218T113000
DTSTAMP:20260419T182830
CREATED:20240530T003130Z
LAST-MODIFIED:20240530T003130Z
UID:10009520-1829125800-1829129400@www.ameliaisland.com
SUMMARY:StoryTime with Ms. Dearsha
DESCRIPTION:Join us at the store for a magical StoryTime with Ms. Dearsha\, our beloved and very talented Director of Children’s Merchandise and Programming! \nStoryTime is every Saturday at 10:30 am in the store. No RSVP needed. Just come on in! \nDive into fantastical worlds\, meet dynamic characters\, and let your imagination soar! We can’t wait to see you!
URL:https://www.ameliaisland.com/activity/storytime-with-ms-dearsha/2027-12-18/
LOCATION:Story & Song Centre for Arts and Culture\, 1430 Park Avenue\, Fernandina Beach\, FL\, 32034
ATTACH;FMTTYPE=image/jpeg:https://www.ameliaisland.com/wp-content/uploads/Story-Song-family-books-shops.jpeg
END:VEVENT
BEGIN:VEVENT
DTSTART;TZID=America/New_York:20271225T103000
DTEND;TZID=America/New_York:20271225T113000
DTSTAMP:20260419T182830
CREATED:20240530T003130Z
LAST-MODIFIED:20240530T003130Z
UID:10009521-1829730600-1829734200@www.ameliaisland.com
SUMMARY:StoryTime with Ms. Dearsha
DESCRIPTION:Join us at the store for a magical StoryTime with Ms. Dearsha\, our beloved and very talented Director of Children’s Merchandise and Programming! \nStoryTime is every Saturday at 10:30 am in the store. No RSVP needed. Just come on in! \nDive into fantastical worlds\, meet dynamic characters\, and let your imagination soar! We can’t wait to see you!
URL:https://www.ameliaisland.com/activity/storytime-with-ms-dearsha/2027-12-25/
LOCATION:Story & Song Centre for Arts and Culture\, 1430 Park Avenue\, Fernandina Beach\, FL\, 32034
ATTACH;FMTTYPE=image/jpeg:https://www.ameliaisland.com/wp-content/uploads/Story-Song-family-books-shops.jpeg
END:VEVENT
BEGIN:VEVENT
DTSTART;TZID=America/New_York:20280101T103000
DTEND;TZID=America/New_York:20280101T113000
DTSTAMP:20260419T182830
CREATED:20240530T003130Z
LAST-MODIFIED:20240530T003130Z
UID:10009522-1830335400-1830339000@www.ameliaisland.com
SUMMARY:StoryTime with Ms. Dearsha
DESCRIPTION:Join us at the store for a magical StoryTime with Ms. Dearsha\, our beloved and very talented Director of Children’s Merchandise and Programming! \nStoryTime is every Saturday at 10:30 am in the store. No RSVP needed. Just come on in! \nDive into fantastical worlds\, meet dynamic characters\, and let your imagination soar! We can’t wait to see you!
URL:https://www.ameliaisland.com/activity/storytime-with-ms-dearsha/2028-01-01/
LOCATION:Story & Song Centre for Arts and Culture\, 1430 Park Avenue\, Fernandina Beach\, FL\, 32034
ATTACH;FMTTYPE=image/jpeg:https://www.ameliaisland.com/wp-content/uploads/Story-Song-family-books-shops.jpeg
END:VEVENT
BEGIN:VEVENT
DTSTART;TZID=America/New_York:20280108T103000
DTEND;TZID=America/New_York:20280108T113000
DTSTAMP:20260419T182830
CREATED:20240530T003130Z
LAST-MODIFIED:20240530T003130Z
UID:10009523-1830940200-1830943800@www.ameliaisland.com
SUMMARY:StoryTime with Ms. Dearsha
DESCRIPTION:Join us at the store for a magical StoryTime with Ms. Dearsha\, our beloved and very talented Director of Children’s Merchandise and Programming! \nStoryTime is every Saturday at 10:30 am in the store. No RSVP needed. Just come on in! \nDive into fantastical worlds\, meet dynamic characters\, and let your imagination soar! We can’t wait to see you!
URL:https://www.ameliaisland.com/activity/storytime-with-ms-dearsha/2028-01-08/
LOCATION:Story & Song Centre for Arts and Culture\, 1430 Park Avenue\, Fernandina Beach\, FL\, 32034
ATTACH;FMTTYPE=image/jpeg:https://www.ameliaisland.com/wp-content/uploads/Story-Song-family-books-shops.jpeg
END:VEVENT
BEGIN:VEVENT
DTSTART;TZID=America/New_York:20280115T103000
DTEND;TZID=America/New_York:20280115T113000
DTSTAMP:20260419T182830
CREATED:20240530T003130Z
LAST-MODIFIED:20240530T003130Z
UID:10009524-1831545000-1831548600@www.ameliaisland.com
SUMMARY:StoryTime with Ms. Dearsha
DESCRIPTION:Join us at the store for a magical StoryTime with Ms. Dearsha\, our beloved and very talented Director of Children’s Merchandise and Programming! \nStoryTime is every Saturday at 10:30 am in the store. No RSVP needed. Just come on in! \nDive into fantastical worlds\, meet dynamic characters\, and let your imagination soar! We can’t wait to see you!
URL:https://www.ameliaisland.com/activity/storytime-with-ms-dearsha/2028-01-15/
LOCATION:Story & Song Centre for Arts and Culture\, 1430 Park Avenue\, Fernandina Beach\, FL\, 32034
ATTACH;FMTTYPE=image/jpeg:https://www.ameliaisland.com/wp-content/uploads/Story-Song-family-books-shops.jpeg
END:VEVENT
BEGIN:VEVENT
DTSTART;TZID=America/New_York:20280122T103000
DTEND;TZID=America/New_York:20280122T113000
DTSTAMP:20260419T182830
CREATED:20240530T003130Z
LAST-MODIFIED:20240530T003130Z
UID:10009525-1832149800-1832153400@www.ameliaisland.com
SUMMARY:StoryTime with Ms. Dearsha
DESCRIPTION:Join us at the store for a magical StoryTime with Ms. Dearsha\, our beloved and very talented Director of Children’s Merchandise and Programming! \nStoryTime is every Saturday at 10:30 am in the store. No RSVP needed. Just come on in! \nDive into fantastical worlds\, meet dynamic characters\, and let your imagination soar! We can’t wait to see you!
URL:https://www.ameliaisland.com/activity/storytime-with-ms-dearsha/2028-01-22/
LOCATION:Story & Song Centre for Arts and Culture\, 1430 Park Avenue\, Fernandina Beach\, FL\, 32034
ATTACH;FMTTYPE=image/jpeg:https://www.ameliaisland.com/wp-content/uploads/Story-Song-family-books-shops.jpeg
END:VEVENT
BEGIN:VEVENT
DTSTART;TZID=America/New_York:20280129T103000
DTEND;TZID=America/New_York:20280129T113000
DTSTAMP:20260419T182830
CREATED:20240530T003130Z
LAST-MODIFIED:20240530T003130Z
UID:10009526-1832754600-1832758200@www.ameliaisland.com
SUMMARY:StoryTime with Ms. Dearsha
DESCRIPTION:Join us at the store for a magical StoryTime with Ms. Dearsha\, our beloved and very talented Director of Children’s Merchandise and Programming! \nStoryTime is every Saturday at 10:30 am in the store. No RSVP needed. Just come on in! \nDive into fantastical worlds\, meet dynamic characters\, and let your imagination soar! We can’t wait to see you!
URL:https://www.ameliaisland.com/activity/storytime-with-ms-dearsha/2028-01-29/
LOCATION:Story & Song Centre for Arts and Culture\, 1430 Park Avenue\, Fernandina Beach\, FL\, 32034
ATTACH;FMTTYPE=image/jpeg:https://www.ameliaisland.com/wp-content/uploads/Story-Song-family-books-shops.jpeg
END:VEVENT
BEGIN:VEVENT
DTSTART;TZID=America/New_York:20280205T103000
DTEND;TZID=America/New_York:20280205T113000
DTSTAMP:20260419T182830
CREATED:20240530T003130Z
LAST-MODIFIED:20240530T003130Z
UID:10009527-1833359400-1833363000@www.ameliaisland.com
SUMMARY:StoryTime with Ms. Dearsha
DESCRIPTION:Join us at the store for a magical StoryTime with Ms. Dearsha\, our beloved and very talented Director of Children’s Merchandise and Programming! \nStoryTime is every Saturday at 10:30 am in the store. No RSVP needed. Just come on in! \nDive into fantastical worlds\, meet dynamic characters\, and let your imagination soar! We can’t wait to see you!
URL:https://www.ameliaisland.com/activity/storytime-with-ms-dearsha/2028-02-05/
LOCATION:Story & Song Centre for Arts and Culture\, 1430 Park Avenue\, Fernandina Beach\, FL\, 32034
ATTACH;FMTTYPE=image/jpeg:https://www.ameliaisland.com/wp-content/uploads/Story-Song-family-books-shops.jpeg
END:VEVENT
BEGIN:VEVENT
DTSTART;TZID=America/New_York:20280212T103000
DTEND;TZID=America/New_York:20280212T113000
DTSTAMP:20260419T182830
CREATED:20240530T003130Z
LAST-MODIFIED:20240530T003130Z
UID:10009528-1833964200-1833967800@www.ameliaisland.com
SUMMARY:StoryTime with Ms. Dearsha
DESCRIPTION:Join us at the store for a magical StoryTime with Ms. Dearsha\, our beloved and very talented Director of Children’s Merchandise and Programming! \nStoryTime is every Saturday at 10:30 am in the store. No RSVP needed. Just come on in! \nDive into fantastical worlds\, meet dynamic characters\, and let your imagination soar! We can’t wait to see you!
URL:https://www.ameliaisland.com/activity/storytime-with-ms-dearsha/2028-02-12/
LOCATION:Story & Song Centre for Arts and Culture\, 1430 Park Avenue\, Fernandina Beach\, FL\, 32034
ATTACH;FMTTYPE=image/jpeg:https://www.ameliaisland.com/wp-content/uploads/Story-Song-family-books-shops.jpeg
END:VEVENT
BEGIN:VEVENT
DTSTART;TZID=America/New_York:20280219T103000
DTEND;TZID=America/New_York:20280219T113000
DTSTAMP:20260419T182830
CREATED:20240530T003130Z
LAST-MODIFIED:20240530T003130Z
UID:10009529-1834569000-1834572600@www.ameliaisland.com
SUMMARY:StoryTime with Ms. Dearsha
DESCRIPTION:Join us at the store for a magical StoryTime with Ms. Dearsha\, our beloved and very talented Director of Children’s Merchandise and Programming! \nStoryTime is every Saturday at 10:30 am in the store. No RSVP needed. Just come on in! \nDive into fantastical worlds\, meet dynamic characters\, and let your imagination soar! We can’t wait to see you!
URL:https://www.ameliaisland.com/activity/storytime-with-ms-dearsha/2028-02-19/
LOCATION:Story & Song Centre for Arts and Culture\, 1430 Park Avenue\, Fernandina Beach\, FL\, 32034
ATTACH;FMTTYPE=image/jpeg:https://www.ameliaisland.com/wp-content/uploads/Story-Song-family-books-shops.jpeg
END:VEVENT
BEGIN:VEVENT
DTSTART;TZID=America/New_York:20280226T103000
DTEND;TZID=America/New_York:20280226T113000
DTSTAMP:20260419T182830
CREATED:20240530T003130Z
LAST-MODIFIED:20240530T003130Z
UID:10009530-1835173800-1835177400@www.ameliaisland.com
SUMMARY:StoryTime with Ms. Dearsha
DESCRIPTION:Join us at the store for a magical StoryTime with Ms. Dearsha\, our beloved and very talented Director of Children’s Merchandise and Programming! \nStoryTime is every Saturday at 10:30 am in the store. No RSVP needed. Just come on in! \nDive into fantastical worlds\, meet dynamic characters\, and let your imagination soar! We can’t wait to see you!
URL:https://www.ameliaisland.com/activity/storytime-with-ms-dearsha/2028-02-26/
LOCATION:Story & Song Centre for Arts and Culture\, 1430 Park Avenue\, Fernandina Beach\, FL\, 32034
ATTACH;FMTTYPE=image/jpeg:https://www.ameliaisland.com/wp-content/uploads/Story-Song-family-books-shops.jpeg
END:VEVENT
BEGIN:VEVENT
DTSTART;TZID=America/New_York:20280304T103000
DTEND;TZID=America/New_York:20280304T113000
DTSTAMP:20260419T182830
CREATED:20240530T003130Z
LAST-MODIFIED:20240530T003130Z
UID:10009531-1835778600-1835782200@www.ameliaisland.com
SUMMARY:StoryTime with Ms. Dearsha
DESCRIPTION:Join us at the store for a magical StoryTime with Ms. Dearsha\, our beloved and very talented Director of Children’s Merchandise and Programming! \nStoryTime is every Saturday at 10:30 am in the store. No RSVP needed. Just come on in! \nDive into fantastical worlds\, meet dynamic characters\, and let your imagination soar! We can’t wait to see you!
URL:https://www.ameliaisland.com/activity/storytime-with-ms-dearsha/2028-03-04/
LOCATION:Story & Song Centre for Arts and Culture\, 1430 Park Avenue\, Fernandina Beach\, FL\, 32034
ATTACH;FMTTYPE=image/jpeg:https://www.ameliaisland.com/wp-content/uploads/Story-Song-family-books-shops.jpeg
END:VEVENT
BEGIN:VEVENT
DTSTART;TZID=America/New_York:20280311T103000
DTEND;TZID=America/New_York:20280311T113000
DTSTAMP:20260419T182830
CREATED:20240530T003130Z
LAST-MODIFIED:20240530T003130Z
UID:10009532-1836383400-1836387000@www.ameliaisland.com
SUMMARY:StoryTime with Ms. Dearsha
DESCRIPTION:Join us at the store for a magical StoryTime with Ms. Dearsha\, our beloved and very talented Director of Children’s Merchandise and Programming! \nStoryTime is every Saturday at 10:30 am in the store. No RSVP needed. Just come on in! \nDive into fantastical worlds\, meet dynamic characters\, and let your imagination soar! We can’t wait to see you!
URL:https://www.ameliaisland.com/activity/storytime-with-ms-dearsha/2028-03-11/
LOCATION:Story & Song Centre for Arts and Culture\, 1430 Park Avenue\, Fernandina Beach\, FL\, 32034
ATTACH;FMTTYPE=image/jpeg:https://www.ameliaisland.com/wp-content/uploads/Story-Song-family-books-shops.jpeg
END:VEVENT
BEGIN:VEVENT
DTSTART;TZID=America/New_York:20280318T103000
DTEND;TZID=America/New_York:20280318T113000
DTSTAMP:20260419T182830
CREATED:20240530T003130Z
LAST-MODIFIED:20240530T003130Z
UID:10009533-1836988200-1836991800@www.ameliaisland.com
SUMMARY:StoryTime with Ms. Dearsha
DESCRIPTION:Join us at the store for a magical StoryTime with Ms. Dearsha\, our beloved and very talented Director of Children’s Merchandise and Programming! \nStoryTime is every Saturday at 10:30 am in the store. No RSVP needed. Just come on in! \nDive into fantastical worlds\, meet dynamic characters\, and let your imagination soar! We can’t wait to see you!
URL:https://www.ameliaisland.com/activity/storytime-with-ms-dearsha/2028-03-18/
LOCATION:Story & Song Centre for Arts and Culture\, 1430 Park Avenue\, Fernandina Beach\, FL\, 32034
ATTACH;FMTTYPE=image/jpeg:https://www.ameliaisland.com/wp-content/uploads/Story-Song-family-books-shops.jpeg
END:VEVENT
BEGIN:VEVENT
DTSTART;TZID=America/New_York:20280325T103000
DTEND;TZID=America/New_York:20280325T113000
DTSTAMP:20260419T182830
CREATED:20240530T003130Z
LAST-MODIFIED:20240530T003130Z
UID:10009534-1837593000-1837596600@www.ameliaisland.com
SUMMARY:StoryTime with Ms. Dearsha
DESCRIPTION:Join us at the store for a magical StoryTime with Ms. Dearsha\, our beloved and very talented Director of Children’s Merchandise and Programming! \nStoryTime is every Saturday at 10:30 am in the store. No RSVP needed. Just come on in! \nDive into fantastical worlds\, meet dynamic characters\, and let your imagination soar! We can’t wait to see you!
URL:https://www.ameliaisland.com/activity/storytime-with-ms-dearsha/2028-03-25/
LOCATION:Story & Song Centre for Arts and Culture\, 1430 Park Avenue\, Fernandina Beach\, FL\, 32034
ATTACH;FMTTYPE=image/jpeg:https://www.ameliaisland.com/wp-content/uploads/Story-Song-family-books-shops.jpeg
END:VEVENT
BEGIN:VEVENT
DTSTART;TZID=America/New_York:20280401T103000
DTEND;TZID=America/New_York:20280401T113000
DTSTAMP:20260419T182830
CREATED:20240530T003130Z
LAST-MODIFIED:20240530T003130Z
UID:10009535-1838197800-1838201400@www.ameliaisland.com
SUMMARY:StoryTime with Ms. Dearsha
DESCRIPTION:Join us at the store for a magical StoryTime with Ms. Dearsha\, our beloved and very talented Director of Children’s Merchandise and Programming! \nStoryTime is every Saturday at 10:30 am in the store. No RSVP needed. Just come on in! \nDive into fantastical worlds\, meet dynamic characters\, and let your imagination soar! We can’t wait to see you!
URL:https://www.ameliaisland.com/activity/storytime-with-ms-dearsha/2028-04-01/
LOCATION:Story & Song Centre for Arts and Culture\, 1430 Park Avenue\, Fernandina Beach\, FL\, 32034
ATTACH;FMTTYPE=image/jpeg:https://www.ameliaisland.com/wp-content/uploads/Story-Song-family-books-shops.jpeg
END:VEVENT
BEGIN:VEVENT
DTSTART;TZID=America/New_York:20280408T103000
DTEND;TZID=America/New_York:20280408T113000
DTSTAMP:20260419T182830
CREATED:20240530T003130Z
LAST-MODIFIED:20240530T003130Z
UID:10009536-1838802600-1838806200@www.ameliaisland.com
SUMMARY:StoryTime with Ms. Dearsha
DESCRIPTION:Join us at the store for a magical StoryTime with Ms. Dearsha\, our beloved and very talented Director of Children’s Merchandise and Programming! \nStoryTime is every Saturday at 10:30 am in the store. No RSVP needed. Just come on in! \nDive into fantastical worlds\, meet dynamic characters\, and let your imagination soar! We can’t wait to see you!
URL:https://www.ameliaisland.com/activity/storytime-with-ms-dearsha/2028-04-08/
LOCATION:Story & Song Centre for Arts and Culture\, 1430 Park Avenue\, Fernandina Beach\, FL\, 32034
ATTACH;FMTTYPE=image/jpeg:https://www.ameliaisland.com/wp-content/uploads/Story-Song-family-books-shops.jpeg
END:VEVENT
BEGIN:VEVENT
DTSTART;TZID=America/New_York:20280415T103000
DTEND;TZID=America/New_York:20280415T113000
DTSTAMP:20260419T182830
CREATED:20240530T003130Z
LAST-MODIFIED:20240530T003130Z
UID:10009537-1839407400-1839411000@www.ameliaisland.com
SUMMARY:StoryTime with Ms. Dearsha
DESCRIPTION:Join us at the store for a magical StoryTime with Ms. Dearsha\, our beloved and very talented Director of Children’s Merchandise and Programming! \nStoryTime is every Saturday at 10:30 am in the store. No RSVP needed. Just come on in! \nDive into fantastical worlds\, meet dynamic characters\, and let your imagination soar! We can’t wait to see you!
URL:https://www.ameliaisland.com/activity/storytime-with-ms-dearsha/2028-04-15/
LOCATION:Story & Song Centre for Arts and Culture\, 1430 Park Avenue\, Fernandina Beach\, FL\, 32034
ATTACH;FMTTYPE=image/jpeg:https://www.ameliaisland.com/wp-content/uploads/Story-Song-family-books-shops.jpeg
END:VEVENT
BEGIN:VEVENT
DTSTART;TZID=America/New_York:20280422T103000
DTEND;TZID=America/New_York:20280422T113000
DTSTAMP:20260419T182830
CREATED:20240530T003130Z
LAST-MODIFIED:20240530T003130Z
UID:10009538-1840012200-1840015800@www.ameliaisland.com
SUMMARY:StoryTime with Ms. Dearsha
DESCRIPTION:Join us at the store for a magical StoryTime with Ms. Dearsha\, our beloved and very talented Director of Children’s Merchandise and Programming! \nStoryTime is every Saturday at 10:30 am in the store. No RSVP needed. Just come on in! \nDive into fantastical worlds\, meet dynamic characters\, and let your imagination soar! We can’t wait to see you!
URL:https://www.ameliaisland.com/activity/storytime-with-ms-dearsha/2028-04-22/
LOCATION:Story & Song Centre for Arts and Culture\, 1430 Park Avenue\, Fernandina Beach\, FL\, 32034
ATTACH;FMTTYPE=image/jpeg:https://www.ameliaisland.com/wp-content/uploads/Story-Song-family-books-shops.jpeg
END:VEVENT
BEGIN:VEVENT
DTSTART;TZID=America/New_York:20280429T103000
DTEND;TZID=America/New_York:20280429T113000
DTSTAMP:20260419T182830
CREATED:20240530T003130Z
LAST-MODIFIED:20240530T003130Z
UID:10009539-1840617000-1840620600@www.ameliaisland.com
SUMMARY:StoryTime with Ms. Dearsha
DESCRIPTION:Join us at the store for a magical StoryTime with Ms. Dearsha\, our beloved and very talented Director of Children’s Merchandise and Programming! \nStoryTime is every Saturday at 10:30 am in the store. No RSVP needed. Just come on in! \nDive into fantastical worlds\, meet dynamic characters\, and let your imagination soar! We can’t wait to see you!
URL:https://www.ameliaisland.com/activity/storytime-with-ms-dearsha/2028-04-29/
LOCATION:Story & Song Centre for Arts and Culture\, 1430 Park Avenue\, Fernandina Beach\, FL\, 32034
ATTACH;FMTTYPE=image/jpeg:https://www.ameliaisland.com/wp-content/uploads/Story-Song-family-books-shops.jpeg
END:VEVENT
BEGIN:VEVENT
DTSTART;TZID=America/New_York:20280506T103000
DTEND;TZID=America/New_York:20280506T113000
DTSTAMP:20260419T182830
CREATED:20240530T003130Z
LAST-MODIFIED:20240530T003130Z
UID:10009540-1841221800-1841225400@www.ameliaisland.com
SUMMARY:StoryTime with Ms. Dearsha
DESCRIPTION:Join us at the store for a magical StoryTime with Ms. Dearsha\, our beloved and very talented Director of Children’s Merchandise and Programming! \nStoryTime is every Saturday at 10:30 am in the store. No RSVP needed. Just come on in! \nDive into fantastical worlds\, meet dynamic characters\, and let your imagination soar! We can’t wait to see you!
URL:https://www.ameliaisland.com/activity/storytime-with-ms-dearsha/2028-05-06/
LOCATION:Story & Song Centre for Arts and Culture\, 1430 Park Avenue\, Fernandina Beach\, FL\, 32034
ATTACH;FMTTYPE=image/jpeg:https://www.ameliaisland.com/wp-content/uploads/Story-Song-family-books-shops.jpeg
END:VEVENT
BEGIN:VEVENT
DTSTART;TZID=America/New_York:20280513T103000
DTEND;TZID=America/New_York:20280513T113000
DTSTAMP:20260419T182830
CREATED:20240530T003130Z
LAST-MODIFIED:20240530T003130Z
UID:10009541-1841826600-1841830200@www.ameliaisland.com
SUMMARY:StoryTime with Ms. Dearsha
DESCRIPTION:Join us at the store for a magical StoryTime with Ms. Dearsha\, our beloved and very talented Director of Children’s Merchandise and Programming! \nStoryTime is every Saturday at 10:30 am in the store. No RSVP needed. Just come on in! \nDive into fantastical worlds\, meet dynamic characters\, and let your imagination soar! We can’t wait to see you!
URL:https://www.ameliaisland.com/activity/storytime-with-ms-dearsha/2028-05-13/
LOCATION:Story & Song Centre for Arts and Culture\, 1430 Park Avenue\, Fernandina Beach\, FL\, 32034
ATTACH;FMTTYPE=image/jpeg:https://www.ameliaisland.com/wp-content/uploads/Story-Song-family-books-shops.jpeg
END:VEVENT
BEGIN:VEVENT
DTSTART;TZID=America/New_York:20280520T103000
DTEND;TZID=America/New_York:20280520T113000
DTSTAMP:20260419T182830
CREATED:20240530T003130Z
LAST-MODIFIED:20240530T003130Z
UID:10009542-1842431400-1842435000@www.ameliaisland.com
SUMMARY:StoryTime with Ms. Dearsha
DESCRIPTION:Join us at the store for a magical StoryTime with Ms. Dearsha\, our beloved and very talented Director of Children’s Merchandise and Programming! \nStoryTime is every Saturday at 10:30 am in the store. No RSVP needed. Just come on in! \nDive into fantastical worlds\, meet dynamic characters\, and let your imagination soar! We can’t wait to see you!
URL:https://www.ameliaisland.com/activity/storytime-with-ms-dearsha/2028-05-20/
LOCATION:Story & Song Centre for Arts and Culture\, 1430 Park Avenue\, Fernandina Beach\, FL\, 32034
ATTACH;FMTTYPE=image/jpeg:https://www.ameliaisland.com/wp-content/uploads/Story-Song-family-books-shops.jpeg
END:VEVENT
BEGIN:VEVENT
DTSTART;TZID=America/New_York:20280527T103000
DTEND;TZID=America/New_York:20280527T113000
DTSTAMP:20260419T182830
CREATED:20240530T003130Z
LAST-MODIFIED:20240530T003130Z
UID:10009543-1843036200-1843039800@www.ameliaisland.com
SUMMARY:StoryTime with Ms. Dearsha
DESCRIPTION:Join us at the store for a magical StoryTime with Ms. Dearsha\, our beloved and very talented Director of Children’s Merchandise and Programming! \nStoryTime is every Saturday at 10:30 am in the store. No RSVP needed. Just come on in! \nDive into fantastical worlds\, meet dynamic characters\, and let your imagination soar! We can’t wait to see you!
URL:https://www.ameliaisland.com/activity/storytime-with-ms-dearsha/2028-05-27/
LOCATION:Story & Song Centre for Arts and Culture\, 1430 Park Avenue\, Fernandina Beach\, FL\, 32034
ATTACH;FMTTYPE=image/jpeg:https://www.ameliaisland.com/wp-content/uploads/Story-Song-family-books-shops.jpeg
END:VEVENT
BEGIN:VEVENT
DTSTART;TZID=America/New_York:20280603T103000
DTEND;TZID=America/New_York:20280603T113000
DTSTAMP:20260419T182830
CREATED:20240530T003130Z
LAST-MODIFIED:20240530T003130Z
UID:10009544-1843641000-1843644600@www.ameliaisland.com
SUMMARY:StoryTime with Ms. Dearsha
DESCRIPTION:Join us at the store for a magical StoryTime with Ms. Dearsha\, our beloved and very talented Director of Children’s Merchandise and Programming! \nStoryTime is every Saturday at 10:30 am in the store. No RSVP needed. Just come on in! \nDive into fantastical worlds\, meet dynamic characters\, and let your imagination soar! We can’t wait to see you!
URL:https://www.ameliaisland.com/activity/storytime-with-ms-dearsha/2028-06-03/
LOCATION:Story & Song Centre for Arts and Culture\, 1430 Park Avenue\, Fernandina Beach\, FL\, 32034
ATTACH;FMTTYPE=image/jpeg:https://www.ameliaisland.com/wp-content/uploads/Story-Song-family-books-shops.jpeg
END:VEVENT
BEGIN:VEVENT
DTSTART;TZID=America/New_York:20280610T103000
DTEND;TZID=America/New_York:20280610T113000
DTSTAMP:20260419T182830
CREATED:20240530T003130Z
LAST-MODIFIED:20240530T003130Z
UID:10009545-1844245800-1844249400@www.ameliaisland.com
SUMMARY:StoryTime with Ms. Dearsha
DESCRIPTION:Join us at the store for a magical StoryTime with Ms. Dearsha\, our beloved and very talented Director of Children’s Merchandise and Programming! \nStoryTime is every Saturday at 10:30 am in the store. No RSVP needed. Just come on in! \nDive into fantastical worlds\, meet dynamic characters\, and let your imagination soar! We can’t wait to see you!
URL:https://www.ameliaisland.com/activity/storytime-with-ms-dearsha/2028-06-10/
LOCATION:Story & Song Centre for Arts and Culture\, 1430 Park Avenue\, Fernandina Beach\, FL\, 32034
ATTACH;FMTTYPE=image/jpeg:https://www.ameliaisland.com/wp-content/uploads/Story-Song-family-books-shops.jpeg
END:VEVENT
BEGIN:VEVENT
DTSTART;TZID=America/New_York:20280617T103000
DTEND;TZID=America/New_York:20280617T113000
DTSTAMP:20260419T182830
CREATED:20240530T003130Z
LAST-MODIFIED:20240530T003130Z
UID:10009546-1844850600-1844854200@www.ameliaisland.com
SUMMARY:StoryTime with Ms. Dearsha
DESCRIPTION:Join us at the store for a magical StoryTime with Ms. Dearsha\, our beloved and very talented Director of Children’s Merchandise and Programming! \nStoryTime is every Saturday at 10:30 am in the store. No RSVP needed. Just come on in! \nDive into fantastical worlds\, meet dynamic characters\, and let your imagination soar! We can’t wait to see you!
URL:https://www.ameliaisland.com/activity/storytime-with-ms-dearsha/2028-06-17/
LOCATION:Story & Song Centre for Arts and Culture\, 1430 Park Avenue\, Fernandina Beach\, FL\, 32034
ATTACH;FMTTYPE=image/jpeg:https://www.ameliaisland.com/wp-content/uploads/Story-Song-family-books-shops.jpeg
END:VEVENT
BEGIN:VEVENT
DTSTART;TZID=America/New_York:20280624T103000
DTEND;TZID=America/New_York:20280624T113000
DTSTAMP:20260419T182830
CREATED:20240530T003130Z
LAST-MODIFIED:20240530T003130Z
UID:10009547-1845455400-1845459000@www.ameliaisland.com
SUMMARY:StoryTime with Ms. Dearsha
DESCRIPTION:Join us at the store for a magical StoryTime with Ms. Dearsha\, our beloved and very talented Director of Children’s Merchandise and Programming! \nStoryTime is every Saturday at 10:30 am in the store. No RSVP needed. Just come on in! \nDive into fantastical worlds\, meet dynamic characters\, and let your imagination soar! We can’t wait to see you!
URL:https://www.ameliaisland.com/activity/storytime-with-ms-dearsha/2028-06-24/
LOCATION:Story & Song Centre for Arts and Culture\, 1430 Park Avenue\, Fernandina Beach\, FL\, 32034
ATTACH;FMTTYPE=image/jpeg:https://www.ameliaisland.com/wp-content/uploads/Story-Song-family-books-shops.jpeg
END:VEVENT
END:VCALENDAR