BEGIN:VCALENDAR
VERSION:2.0
PRODID:-//Amelia Island - ECPv6.8.0//NONSGML v1.0//EN
CALSCALE:GREGORIAN
METHOD:PUBLISH
X-WR-CALNAME:Amelia Island
X-ORIGINAL-URL:https://www.ameliaisland.com
X-WR-CALDESC:Events for Amelia Island
REFRESH-INTERVAL;VALUE=DURATION:PT1H
X-Robots-Tag:noindex
X-PUBLISHED-TTL:PT1H
BEGIN:VTIMEZONE
TZID:America/New_York
BEGIN:DAYLIGHT
TZOFFSETFROM:-0500
TZOFFSETTO:-0400
TZNAME:EDT
DTSTART:20270314T070000
END:DAYLIGHT
BEGIN:STANDARD
TZOFFSETFROM:-0400
TZOFFSETTO:-0500
TZNAME:EST
DTSTART:20271107T060000
END:STANDARD
BEGIN:DAYLIGHT
TZOFFSETFROM:-0500
TZOFFSETTO:-0400
TZNAME:EDT
DTSTART:20280312T070000
END:DAYLIGHT
BEGIN:STANDARD
TZOFFSETFROM:-0400
TZOFFSETTO:-0500
TZNAME:EST
DTSTART:20281105T060000
END:STANDARD
END:VTIMEZONE
BEGIN:VEVENT
DTSTART;TZID=America/New_York:20270618T180000
DTEND;TZID=America/New_York:20270618T190000
DTSTAMP:20260421T193407
CREATED:20250730T160215Z
LAST-MODIFIED:20250730T160215Z
UID:10025467-1813341600-1813345200@www.ameliaisland.com
SUMMARY:Amelia Island Museum of History Ghost Tour
DESCRIPTION:Step into Amelia Island’s storied past and join us for this one of a kind experience. Taking place every Friday at 6 PM\, this one-hour ghost tour covers approximately 14 blocks\, starting at the cemetery behind St. Peter’s Episcopal Church (801 Atlantic Avenue). \nVisit ameliamuseum.org/ghost-tour or check the Amelia Island Museum of History’s Facebook page for more information.
URL:https://www.ameliaisland.com/activity/amelia-island-museum-of-history-ghost-tour/2027-06-18/
ATTACH;FMTTYPE=image/jpeg:https://www.ameliaisland.com/wp-content/uploads/Bosque-Bello-Cemetery-Ghost-Tour.jpg
END:VEVENT
BEGIN:VEVENT
DTSTART;TZID=America/New_York:20270625T180000
DTEND;TZID=America/New_York:20270625T190000
DTSTAMP:20260421T193407
CREATED:20250730T160215Z
LAST-MODIFIED:20250730T160215Z
UID:10025468-1813946400-1813950000@www.ameliaisland.com
SUMMARY:Amelia Island Museum of History Ghost Tour
DESCRIPTION:Step into Amelia Island’s storied past and join us for this one of a kind experience. Taking place every Friday at 6 PM\, this one-hour ghost tour covers approximately 14 blocks\, starting at the cemetery behind St. Peter’s Episcopal Church (801 Atlantic Avenue). \nVisit ameliamuseum.org/ghost-tour or check the Amelia Island Museum of History’s Facebook page for more information.
URL:https://www.ameliaisland.com/activity/amelia-island-museum-of-history-ghost-tour/2027-06-25/
ATTACH;FMTTYPE=image/jpeg:https://www.ameliaisland.com/wp-content/uploads/Bosque-Bello-Cemetery-Ghost-Tour.jpg
END:VEVENT
BEGIN:VEVENT
DTSTART;TZID=America/New_York:20270702T180000
DTEND;TZID=America/New_York:20270702T190000
DTSTAMP:20260421T193407
CREATED:20250730T160215Z
LAST-MODIFIED:20250730T160215Z
UID:10025469-1814551200-1814554800@www.ameliaisland.com
SUMMARY:Amelia Island Museum of History Ghost Tour
DESCRIPTION:Step into Amelia Island’s storied past and join us for this one of a kind experience. Taking place every Friday at 6 PM\, this one-hour ghost tour covers approximately 14 blocks\, starting at the cemetery behind St. Peter’s Episcopal Church (801 Atlantic Avenue). \nVisit ameliamuseum.org/ghost-tour or check the Amelia Island Museum of History’s Facebook page for more information.
URL:https://www.ameliaisland.com/activity/amelia-island-museum-of-history-ghost-tour/2027-07-02/
ATTACH;FMTTYPE=image/jpeg:https://www.ameliaisland.com/wp-content/uploads/Bosque-Bello-Cemetery-Ghost-Tour.jpg
END:VEVENT
BEGIN:VEVENT
DTSTART;TZID=America/New_York:20270709T180000
DTEND;TZID=America/New_York:20270709T190000
DTSTAMP:20260421T193407
CREATED:20250730T160215Z
LAST-MODIFIED:20250730T160215Z
UID:10025470-1815156000-1815159600@www.ameliaisland.com
SUMMARY:Amelia Island Museum of History Ghost Tour
DESCRIPTION:Step into Amelia Island’s storied past and join us for this one of a kind experience. Taking place every Friday at 6 PM\, this one-hour ghost tour covers approximately 14 blocks\, starting at the cemetery behind St. Peter’s Episcopal Church (801 Atlantic Avenue). \nVisit ameliamuseum.org/ghost-tour or check the Amelia Island Museum of History’s Facebook page for more information.
URL:https://www.ameliaisland.com/activity/amelia-island-museum-of-history-ghost-tour/2027-07-09/
ATTACH;FMTTYPE=image/jpeg:https://www.ameliaisland.com/wp-content/uploads/Bosque-Bello-Cemetery-Ghost-Tour.jpg
END:VEVENT
BEGIN:VEVENT
DTSTART;TZID=America/New_York:20270716T180000
DTEND;TZID=America/New_York:20270716T190000
DTSTAMP:20260421T193407
CREATED:20250730T160215Z
LAST-MODIFIED:20250730T160215Z
UID:10025471-1815760800-1815764400@www.ameliaisland.com
SUMMARY:Amelia Island Museum of History Ghost Tour
DESCRIPTION:Step into Amelia Island’s storied past and join us for this one of a kind experience. Taking place every Friday at 6 PM\, this one-hour ghost tour covers approximately 14 blocks\, starting at the cemetery behind St. Peter’s Episcopal Church (801 Atlantic Avenue). \nVisit ameliamuseum.org/ghost-tour or check the Amelia Island Museum of History’s Facebook page for more information.
URL:https://www.ameliaisland.com/activity/amelia-island-museum-of-history-ghost-tour/2027-07-16/
ATTACH;FMTTYPE=image/jpeg:https://www.ameliaisland.com/wp-content/uploads/Bosque-Bello-Cemetery-Ghost-Tour.jpg
END:VEVENT
BEGIN:VEVENT
DTSTART;TZID=America/New_York:20270723T180000
DTEND;TZID=America/New_York:20270723T190000
DTSTAMP:20260421T193407
CREATED:20250730T160215Z
LAST-MODIFIED:20250730T160215Z
UID:10025472-1816365600-1816369200@www.ameliaisland.com
SUMMARY:Amelia Island Museum of History Ghost Tour
DESCRIPTION:Step into Amelia Island’s storied past and join us for this one of a kind experience. Taking place every Friday at 6 PM\, this one-hour ghost tour covers approximately 14 blocks\, starting at the cemetery behind St. Peter’s Episcopal Church (801 Atlantic Avenue). \nVisit ameliamuseum.org/ghost-tour or check the Amelia Island Museum of History’s Facebook page for more information.
URL:https://www.ameliaisland.com/activity/amelia-island-museum-of-history-ghost-tour/2027-07-23/
ATTACH;FMTTYPE=image/jpeg:https://www.ameliaisland.com/wp-content/uploads/Bosque-Bello-Cemetery-Ghost-Tour.jpg
END:VEVENT
BEGIN:VEVENT
DTSTART;TZID=America/New_York:20270730T180000
DTEND;TZID=America/New_York:20270730T190000
DTSTAMP:20260421T193407
CREATED:20250730T160215Z
LAST-MODIFIED:20250730T160215Z
UID:10025473-1816970400-1816974000@www.ameliaisland.com
SUMMARY:Amelia Island Museum of History Ghost Tour
DESCRIPTION:Step into Amelia Island’s storied past and join us for this one of a kind experience. Taking place every Friday at 6 PM\, this one-hour ghost tour covers approximately 14 blocks\, starting at the cemetery behind St. Peter’s Episcopal Church (801 Atlantic Avenue). \nVisit ameliamuseum.org/ghost-tour or check the Amelia Island Museum of History’s Facebook page for more information.
URL:https://www.ameliaisland.com/activity/amelia-island-museum-of-history-ghost-tour/2027-07-30/
ATTACH;FMTTYPE=image/jpeg:https://www.ameliaisland.com/wp-content/uploads/Bosque-Bello-Cemetery-Ghost-Tour.jpg
END:VEVENT
BEGIN:VEVENT
DTSTART;TZID=America/New_York:20270806T180000
DTEND;TZID=America/New_York:20270806T190000
DTSTAMP:20260421T193407
CREATED:20250730T160215Z
LAST-MODIFIED:20250730T160215Z
UID:10025474-1817575200-1817578800@www.ameliaisland.com
SUMMARY:Amelia Island Museum of History Ghost Tour
DESCRIPTION:Step into Amelia Island’s storied past and join us for this one of a kind experience. Taking place every Friday at 6 PM\, this one-hour ghost tour covers approximately 14 blocks\, starting at the cemetery behind St. Peter’s Episcopal Church (801 Atlantic Avenue). \nVisit ameliamuseum.org/ghost-tour or check the Amelia Island Museum of History’s Facebook page for more information.
URL:https://www.ameliaisland.com/activity/amelia-island-museum-of-history-ghost-tour/2027-08-06/
ATTACH;FMTTYPE=image/jpeg:https://www.ameliaisland.com/wp-content/uploads/Bosque-Bello-Cemetery-Ghost-Tour.jpg
END:VEVENT
BEGIN:VEVENT
DTSTART;TZID=America/New_York:20270813T180000
DTEND;TZID=America/New_York:20270813T190000
DTSTAMP:20260421T193407
CREATED:20250730T160215Z
LAST-MODIFIED:20250730T160215Z
UID:10025475-1818180000-1818183600@www.ameliaisland.com
SUMMARY:Amelia Island Museum of History Ghost Tour
DESCRIPTION:Step into Amelia Island’s storied past and join us for this one of a kind experience. Taking place every Friday at 6 PM\, this one-hour ghost tour covers approximately 14 blocks\, starting at the cemetery behind St. Peter’s Episcopal Church (801 Atlantic Avenue). \nVisit ameliamuseum.org/ghost-tour or check the Amelia Island Museum of History’s Facebook page for more information.
URL:https://www.ameliaisland.com/activity/amelia-island-museum-of-history-ghost-tour/2027-08-13/
ATTACH;FMTTYPE=image/jpeg:https://www.ameliaisland.com/wp-content/uploads/Bosque-Bello-Cemetery-Ghost-Tour.jpg
END:VEVENT
BEGIN:VEVENT
DTSTART;TZID=America/New_York:20270820T180000
DTEND;TZID=America/New_York:20270820T190000
DTSTAMP:20260421T193407
CREATED:20250730T160215Z
LAST-MODIFIED:20250730T160215Z
UID:10025476-1818784800-1818788400@www.ameliaisland.com
SUMMARY:Amelia Island Museum of History Ghost Tour
DESCRIPTION:Step into Amelia Island’s storied past and join us for this one of a kind experience. Taking place every Friday at 6 PM\, this one-hour ghost tour covers approximately 14 blocks\, starting at the cemetery behind St. Peter’s Episcopal Church (801 Atlantic Avenue). \nVisit ameliamuseum.org/ghost-tour or check the Amelia Island Museum of History’s Facebook page for more information.
URL:https://www.ameliaisland.com/activity/amelia-island-museum-of-history-ghost-tour/2027-08-20/
ATTACH;FMTTYPE=image/jpeg:https://www.ameliaisland.com/wp-content/uploads/Bosque-Bello-Cemetery-Ghost-Tour.jpg
END:VEVENT
BEGIN:VEVENT
DTSTART;TZID=America/New_York:20270827T180000
DTEND;TZID=America/New_York:20270827T190000
DTSTAMP:20260421T193407
CREATED:20250730T160215Z
LAST-MODIFIED:20250730T160215Z
UID:10025477-1819389600-1819393200@www.ameliaisland.com
SUMMARY:Amelia Island Museum of History Ghost Tour
DESCRIPTION:Step into Amelia Island’s storied past and join us for this one of a kind experience. Taking place every Friday at 6 PM\, this one-hour ghost tour covers approximately 14 blocks\, starting at the cemetery behind St. Peter’s Episcopal Church (801 Atlantic Avenue). \nVisit ameliamuseum.org/ghost-tour or check the Amelia Island Museum of History’s Facebook page for more information.
URL:https://www.ameliaisland.com/activity/amelia-island-museum-of-history-ghost-tour/2027-08-27/
ATTACH;FMTTYPE=image/jpeg:https://www.ameliaisland.com/wp-content/uploads/Bosque-Bello-Cemetery-Ghost-Tour.jpg
END:VEVENT
BEGIN:VEVENT
DTSTART;TZID=America/New_York:20270903T180000
DTEND;TZID=America/New_York:20270903T190000
DTSTAMP:20260421T193407
CREATED:20250730T160215Z
LAST-MODIFIED:20250730T160215Z
UID:10025478-1819994400-1819998000@www.ameliaisland.com
SUMMARY:Amelia Island Museum of History Ghost Tour
DESCRIPTION:Step into Amelia Island’s storied past and join us for this one of a kind experience. Taking place every Friday at 6 PM\, this one-hour ghost tour covers approximately 14 blocks\, starting at the cemetery behind St. Peter’s Episcopal Church (801 Atlantic Avenue). \nVisit ameliamuseum.org/ghost-tour or check the Amelia Island Museum of History’s Facebook page for more information.
URL:https://www.ameliaisland.com/activity/amelia-island-museum-of-history-ghost-tour/2027-09-03/
ATTACH;FMTTYPE=image/jpeg:https://www.ameliaisland.com/wp-content/uploads/Bosque-Bello-Cemetery-Ghost-Tour.jpg
END:VEVENT
BEGIN:VEVENT
DTSTART;TZID=America/New_York:20270910T180000
DTEND;TZID=America/New_York:20270910T190000
DTSTAMP:20260421T193407
CREATED:20250730T160215Z
LAST-MODIFIED:20250730T160215Z
UID:10025479-1820599200-1820602800@www.ameliaisland.com
SUMMARY:Amelia Island Museum of History Ghost Tour
DESCRIPTION:Step into Amelia Island’s storied past and join us for this one of a kind experience. Taking place every Friday at 6 PM\, this one-hour ghost tour covers approximately 14 blocks\, starting at the cemetery behind St. Peter’s Episcopal Church (801 Atlantic Avenue). \nVisit ameliamuseum.org/ghost-tour or check the Amelia Island Museum of History’s Facebook page for more information.
URL:https://www.ameliaisland.com/activity/amelia-island-museum-of-history-ghost-tour/2027-09-10/
ATTACH;FMTTYPE=image/jpeg:https://www.ameliaisland.com/wp-content/uploads/Bosque-Bello-Cemetery-Ghost-Tour.jpg
END:VEVENT
BEGIN:VEVENT
DTSTART;TZID=America/New_York:20270917T180000
DTEND;TZID=America/New_York:20270917T190000
DTSTAMP:20260421T193407
CREATED:20250730T160215Z
LAST-MODIFIED:20250730T160215Z
UID:10025480-1821204000-1821207600@www.ameliaisland.com
SUMMARY:Amelia Island Museum of History Ghost Tour
DESCRIPTION:Step into Amelia Island’s storied past and join us for this one of a kind experience. Taking place every Friday at 6 PM\, this one-hour ghost tour covers approximately 14 blocks\, starting at the cemetery behind St. Peter’s Episcopal Church (801 Atlantic Avenue). \nVisit ameliamuseum.org/ghost-tour or check the Amelia Island Museum of History’s Facebook page for more information.
URL:https://www.ameliaisland.com/activity/amelia-island-museum-of-history-ghost-tour/2027-09-17/
ATTACH;FMTTYPE=image/jpeg:https://www.ameliaisland.com/wp-content/uploads/Bosque-Bello-Cemetery-Ghost-Tour.jpg
END:VEVENT
BEGIN:VEVENT
DTSTART;TZID=America/New_York:20270924T180000
DTEND;TZID=America/New_York:20270924T190000
DTSTAMP:20260421T193407
CREATED:20250730T160215Z
LAST-MODIFIED:20250730T160215Z
UID:10025481-1821808800-1821812400@www.ameliaisland.com
SUMMARY:Amelia Island Museum of History Ghost Tour
DESCRIPTION:Step into Amelia Island’s storied past and join us for this one of a kind experience. Taking place every Friday at 6 PM\, this one-hour ghost tour covers approximately 14 blocks\, starting at the cemetery behind St. Peter’s Episcopal Church (801 Atlantic Avenue). \nVisit ameliamuseum.org/ghost-tour or check the Amelia Island Museum of History’s Facebook page for more information.
URL:https://www.ameliaisland.com/activity/amelia-island-museum-of-history-ghost-tour/2027-09-24/
ATTACH;FMTTYPE=image/jpeg:https://www.ameliaisland.com/wp-content/uploads/Bosque-Bello-Cemetery-Ghost-Tour.jpg
END:VEVENT
BEGIN:VEVENT
DTSTART;TZID=America/New_York:20271001T180000
DTEND;TZID=America/New_York:20271001T190000
DTSTAMP:20260421T193407
CREATED:20250730T160215Z
LAST-MODIFIED:20250730T160215Z
UID:10025482-1822413600-1822417200@www.ameliaisland.com
SUMMARY:Amelia Island Museum of History Ghost Tour
DESCRIPTION:Step into Amelia Island’s storied past and join us for this one of a kind experience. Taking place every Friday at 6 PM\, this one-hour ghost tour covers approximately 14 blocks\, starting at the cemetery behind St. Peter’s Episcopal Church (801 Atlantic Avenue). \nVisit ameliamuseum.org/ghost-tour or check the Amelia Island Museum of History’s Facebook page for more information.
URL:https://www.ameliaisland.com/activity/amelia-island-museum-of-history-ghost-tour/2027-10-01/
ATTACH;FMTTYPE=image/jpeg:https://www.ameliaisland.com/wp-content/uploads/Bosque-Bello-Cemetery-Ghost-Tour.jpg
END:VEVENT
BEGIN:VEVENT
DTSTART;TZID=America/New_York:20271008T180000
DTEND;TZID=America/New_York:20271008T190000
DTSTAMP:20260421T193407
CREATED:20250730T160215Z
LAST-MODIFIED:20250730T160215Z
UID:10025483-1823018400-1823022000@www.ameliaisland.com
SUMMARY:Amelia Island Museum of History Ghost Tour
DESCRIPTION:Step into Amelia Island’s storied past and join us for this one of a kind experience. Taking place every Friday at 6 PM\, this one-hour ghost tour covers approximately 14 blocks\, starting at the cemetery behind St. Peter’s Episcopal Church (801 Atlantic Avenue). \nVisit ameliamuseum.org/ghost-tour or check the Amelia Island Museum of History’s Facebook page for more information.
URL:https://www.ameliaisland.com/activity/amelia-island-museum-of-history-ghost-tour/2027-10-08/
ATTACH;FMTTYPE=image/jpeg:https://www.ameliaisland.com/wp-content/uploads/Bosque-Bello-Cemetery-Ghost-Tour.jpg
END:VEVENT
BEGIN:VEVENT
DTSTART;TZID=America/New_York:20271015T180000
DTEND;TZID=America/New_York:20271015T190000
DTSTAMP:20260421T193407
CREATED:20250730T160215Z
LAST-MODIFIED:20250730T160215Z
UID:10025484-1823623200-1823626800@www.ameliaisland.com
SUMMARY:Amelia Island Museum of History Ghost Tour
DESCRIPTION:Step into Amelia Island’s storied past and join us for this one of a kind experience. Taking place every Friday at 6 PM\, this one-hour ghost tour covers approximately 14 blocks\, starting at the cemetery behind St. Peter’s Episcopal Church (801 Atlantic Avenue). \nVisit ameliamuseum.org/ghost-tour or check the Amelia Island Museum of History’s Facebook page for more information.
URL:https://www.ameliaisland.com/activity/amelia-island-museum-of-history-ghost-tour/2027-10-15/
ATTACH;FMTTYPE=image/jpeg:https://www.ameliaisland.com/wp-content/uploads/Bosque-Bello-Cemetery-Ghost-Tour.jpg
END:VEVENT
BEGIN:VEVENT
DTSTART;TZID=America/New_York:20271022T180000
DTEND;TZID=America/New_York:20271022T190000
DTSTAMP:20260421T193407
CREATED:20250730T160215Z
LAST-MODIFIED:20250730T160215Z
UID:10025485-1824228000-1824231600@www.ameliaisland.com
SUMMARY:Amelia Island Museum of History Ghost Tour
DESCRIPTION:Step into Amelia Island’s storied past and join us for this one of a kind experience. Taking place every Friday at 6 PM\, this one-hour ghost tour covers approximately 14 blocks\, starting at the cemetery behind St. Peter’s Episcopal Church (801 Atlantic Avenue). \nVisit ameliamuseum.org/ghost-tour or check the Amelia Island Museum of History’s Facebook page for more information.
URL:https://www.ameliaisland.com/activity/amelia-island-museum-of-history-ghost-tour/2027-10-22/
ATTACH;FMTTYPE=image/jpeg:https://www.ameliaisland.com/wp-content/uploads/Bosque-Bello-Cemetery-Ghost-Tour.jpg
END:VEVENT
BEGIN:VEVENT
DTSTART;TZID=America/New_York:20271029T180000
DTEND;TZID=America/New_York:20271029T190000
DTSTAMP:20260421T193407
CREATED:20250730T160215Z
LAST-MODIFIED:20250730T160215Z
UID:10025486-1824832800-1824836400@www.ameliaisland.com
SUMMARY:Amelia Island Museum of History Ghost Tour
DESCRIPTION:Step into Amelia Island’s storied past and join us for this one of a kind experience. Taking place every Friday at 6 PM\, this one-hour ghost tour covers approximately 14 blocks\, starting at the cemetery behind St. Peter’s Episcopal Church (801 Atlantic Avenue). \nVisit ameliamuseum.org/ghost-tour or check the Amelia Island Museum of History’s Facebook page for more information.
URL:https://www.ameliaisland.com/activity/amelia-island-museum-of-history-ghost-tour/2027-10-29/
ATTACH;FMTTYPE=image/jpeg:https://www.ameliaisland.com/wp-content/uploads/Bosque-Bello-Cemetery-Ghost-Tour.jpg
END:VEVENT
BEGIN:VEVENT
DTSTART;TZID=America/New_York:20271105T180000
DTEND;TZID=America/New_York:20271105T190000
DTSTAMP:20260421T193407
CREATED:20250730T160215Z
LAST-MODIFIED:20250730T160215Z
UID:10025487-1825437600-1825441200@www.ameliaisland.com
SUMMARY:Amelia Island Museum of History Ghost Tour
DESCRIPTION:Step into Amelia Island’s storied past and join us for this one of a kind experience. Taking place every Friday at 6 PM\, this one-hour ghost tour covers approximately 14 blocks\, starting at the cemetery behind St. Peter’s Episcopal Church (801 Atlantic Avenue). \nVisit ameliamuseum.org/ghost-tour or check the Amelia Island Museum of History’s Facebook page for more information.
URL:https://www.ameliaisland.com/activity/amelia-island-museum-of-history-ghost-tour/2027-11-05/
ATTACH;FMTTYPE=image/jpeg:https://www.ameliaisland.com/wp-content/uploads/Bosque-Bello-Cemetery-Ghost-Tour.jpg
END:VEVENT
BEGIN:VEVENT
DTSTART;TZID=America/New_York:20271112T180000
DTEND;TZID=America/New_York:20271112T190000
DTSTAMP:20260421T193407
CREATED:20250730T160215Z
LAST-MODIFIED:20250730T160215Z
UID:10025488-1826042400-1826046000@www.ameliaisland.com
SUMMARY:Amelia Island Museum of History Ghost Tour
DESCRIPTION:Step into Amelia Island’s storied past and join us for this one of a kind experience. Taking place every Friday at 6 PM\, this one-hour ghost tour covers approximately 14 blocks\, starting at the cemetery behind St. Peter’s Episcopal Church (801 Atlantic Avenue). \nVisit ameliamuseum.org/ghost-tour or check the Amelia Island Museum of History’s Facebook page for more information.
URL:https://www.ameliaisland.com/activity/amelia-island-museum-of-history-ghost-tour/2027-11-12/
ATTACH;FMTTYPE=image/jpeg:https://www.ameliaisland.com/wp-content/uploads/Bosque-Bello-Cemetery-Ghost-Tour.jpg
END:VEVENT
BEGIN:VEVENT
DTSTART;TZID=America/New_York:20271119T180000
DTEND;TZID=America/New_York:20271119T190000
DTSTAMP:20260421T193407
CREATED:20250730T160215Z
LAST-MODIFIED:20250730T160215Z
UID:10025489-1826647200-1826650800@www.ameliaisland.com
SUMMARY:Amelia Island Museum of History Ghost Tour
DESCRIPTION:Step into Amelia Island’s storied past and join us for this one of a kind experience. Taking place every Friday at 6 PM\, this one-hour ghost tour covers approximately 14 blocks\, starting at the cemetery behind St. Peter’s Episcopal Church (801 Atlantic Avenue). \nVisit ameliamuseum.org/ghost-tour or check the Amelia Island Museum of History’s Facebook page for more information.
URL:https://www.ameliaisland.com/activity/amelia-island-museum-of-history-ghost-tour/2027-11-19/
ATTACH;FMTTYPE=image/jpeg:https://www.ameliaisland.com/wp-content/uploads/Bosque-Bello-Cemetery-Ghost-Tour.jpg
END:VEVENT
BEGIN:VEVENT
DTSTART;TZID=America/New_York:20271126T180000
DTEND;TZID=America/New_York:20271126T190000
DTSTAMP:20260421T193407
CREATED:20250730T160215Z
LAST-MODIFIED:20250730T160215Z
UID:10025490-1827252000-1827255600@www.ameliaisland.com
SUMMARY:Amelia Island Museum of History Ghost Tour
DESCRIPTION:Step into Amelia Island’s storied past and join us for this one of a kind experience. Taking place every Friday at 6 PM\, this one-hour ghost tour covers approximately 14 blocks\, starting at the cemetery behind St. Peter’s Episcopal Church (801 Atlantic Avenue). \nVisit ameliamuseum.org/ghost-tour or check the Amelia Island Museum of History’s Facebook page for more information.
URL:https://www.ameliaisland.com/activity/amelia-island-museum-of-history-ghost-tour/2027-11-26/
ATTACH;FMTTYPE=image/jpeg:https://www.ameliaisland.com/wp-content/uploads/Bosque-Bello-Cemetery-Ghost-Tour.jpg
END:VEVENT
BEGIN:VEVENT
DTSTART;TZID=America/New_York:20271203T180000
DTEND;TZID=America/New_York:20271203T190000
DTSTAMP:20260421T193407
CREATED:20250730T160215Z
LAST-MODIFIED:20250730T160215Z
UID:10025491-1827856800-1827860400@www.ameliaisland.com
SUMMARY:Amelia Island Museum of History Ghost Tour
DESCRIPTION:Step into Amelia Island’s storied past and join us for this one of a kind experience. Taking place every Friday at 6 PM\, this one-hour ghost tour covers approximately 14 blocks\, starting at the cemetery behind St. Peter’s Episcopal Church (801 Atlantic Avenue). \nVisit ameliamuseum.org/ghost-tour or check the Amelia Island Museum of History’s Facebook page for more information.
URL:https://www.ameliaisland.com/activity/amelia-island-museum-of-history-ghost-tour/2027-12-03/
ATTACH;FMTTYPE=image/jpeg:https://www.ameliaisland.com/wp-content/uploads/Bosque-Bello-Cemetery-Ghost-Tour.jpg
END:VEVENT
BEGIN:VEVENT
DTSTART;TZID=America/New_York:20271210T180000
DTEND;TZID=America/New_York:20271210T190000
DTSTAMP:20260421T193407
CREATED:20250730T160215Z
LAST-MODIFIED:20250730T160215Z
UID:10025492-1828461600-1828465200@www.ameliaisland.com
SUMMARY:Amelia Island Museum of History Ghost Tour
DESCRIPTION:Step into Amelia Island’s storied past and join us for this one of a kind experience. Taking place every Friday at 6 PM\, this one-hour ghost tour covers approximately 14 blocks\, starting at the cemetery behind St. Peter’s Episcopal Church (801 Atlantic Avenue). \nVisit ameliamuseum.org/ghost-tour or check the Amelia Island Museum of History’s Facebook page for more information.
URL:https://www.ameliaisland.com/activity/amelia-island-museum-of-history-ghost-tour/2027-12-10/
ATTACH;FMTTYPE=image/jpeg:https://www.ameliaisland.com/wp-content/uploads/Bosque-Bello-Cemetery-Ghost-Tour.jpg
END:VEVENT
BEGIN:VEVENT
DTSTART;TZID=America/New_York:20271217T180000
DTEND;TZID=America/New_York:20271217T190000
DTSTAMP:20260421T193407
CREATED:20250730T160215Z
LAST-MODIFIED:20250730T160215Z
UID:10025493-1829066400-1829070000@www.ameliaisland.com
SUMMARY:Amelia Island Museum of History Ghost Tour
DESCRIPTION:Step into Amelia Island’s storied past and join us for this one of a kind experience. Taking place every Friday at 6 PM\, this one-hour ghost tour covers approximately 14 blocks\, starting at the cemetery behind St. Peter’s Episcopal Church (801 Atlantic Avenue). \nVisit ameliamuseum.org/ghost-tour or check the Amelia Island Museum of History’s Facebook page for more information.
URL:https://www.ameliaisland.com/activity/amelia-island-museum-of-history-ghost-tour/2027-12-17/
ATTACH;FMTTYPE=image/jpeg:https://www.ameliaisland.com/wp-content/uploads/Bosque-Bello-Cemetery-Ghost-Tour.jpg
END:VEVENT
BEGIN:VEVENT
DTSTART;TZID=America/New_York:20271224T180000
DTEND;TZID=America/New_York:20271224T190000
DTSTAMP:20260421T193407
CREATED:20250730T160215Z
LAST-MODIFIED:20250730T160215Z
UID:10025494-1829671200-1829674800@www.ameliaisland.com
SUMMARY:Amelia Island Museum of History Ghost Tour
DESCRIPTION:Step into Amelia Island’s storied past and join us for this one of a kind experience. Taking place every Friday at 6 PM\, this one-hour ghost tour covers approximately 14 blocks\, starting at the cemetery behind St. Peter’s Episcopal Church (801 Atlantic Avenue). \nVisit ameliamuseum.org/ghost-tour or check the Amelia Island Museum of History’s Facebook page for more information.
URL:https://www.ameliaisland.com/activity/amelia-island-museum-of-history-ghost-tour/2027-12-24/
ATTACH;FMTTYPE=image/jpeg:https://www.ameliaisland.com/wp-content/uploads/Bosque-Bello-Cemetery-Ghost-Tour.jpg
END:VEVENT
BEGIN:VEVENT
DTSTART;TZID=America/New_York:20271231T180000
DTEND;TZID=America/New_York:20271231T190000
DTSTAMP:20260421T193407
CREATED:20250730T160215Z
LAST-MODIFIED:20250730T160215Z
UID:10025495-1830276000-1830279600@www.ameliaisland.com
SUMMARY:Amelia Island Museum of History Ghost Tour
DESCRIPTION:Step into Amelia Island’s storied past and join us for this one of a kind experience. Taking place every Friday at 6 PM\, this one-hour ghost tour covers approximately 14 blocks\, starting at the cemetery behind St. Peter’s Episcopal Church (801 Atlantic Avenue). \nVisit ameliamuseum.org/ghost-tour or check the Amelia Island Museum of History’s Facebook page for more information.
URL:https://www.ameliaisland.com/activity/amelia-island-museum-of-history-ghost-tour/2027-12-31/
ATTACH;FMTTYPE=image/jpeg:https://www.ameliaisland.com/wp-content/uploads/Bosque-Bello-Cemetery-Ghost-Tour.jpg
END:VEVENT
BEGIN:VEVENT
DTSTART;TZID=America/New_York:20280107T180000
DTEND;TZID=America/New_York:20280107T190000
DTSTAMP:20260421T193407
CREATED:20250730T160215Z
LAST-MODIFIED:20250730T160215Z
UID:10025496-1830880800-1830884400@www.ameliaisland.com
SUMMARY:Amelia Island Museum of History Ghost Tour
DESCRIPTION:Step into Amelia Island’s storied past and join us for this one of a kind experience. Taking place every Friday at 6 PM\, this one-hour ghost tour covers approximately 14 blocks\, starting at the cemetery behind St. Peter’s Episcopal Church (801 Atlantic Avenue). \nVisit ameliamuseum.org/ghost-tour or check the Amelia Island Museum of History’s Facebook page for more information.
URL:https://www.ameliaisland.com/activity/amelia-island-museum-of-history-ghost-tour/2028-01-07/
ATTACH;FMTTYPE=image/jpeg:https://www.ameliaisland.com/wp-content/uploads/Bosque-Bello-Cemetery-Ghost-Tour.jpg
END:VEVENT
END:VCALENDAR