BEGIN:VCALENDAR
VERSION:2.0
PRODID:-//Amelia Island - ECPv6.8.0//NONSGML v1.0//EN
CALSCALE:GREGORIAN
METHOD:PUBLISH
X-WR-CALNAME:Amelia Island
X-ORIGINAL-URL:https://www.ameliaisland.com
X-WR-CALDESC:Events for Amelia Island
REFRESH-INTERVAL;VALUE=DURATION:PT1H
X-Robots-Tag:noindex
X-PUBLISHED-TTL:PT1H
BEGIN:VTIMEZONE
TZID:America/New_York
BEGIN:DAYLIGHT
TZOFFSETFROM:-0500
TZOFFSETTO:-0400
TZNAME:EDT
DTSTART:20270314T070000
END:DAYLIGHT
BEGIN:STANDARD
TZOFFSETFROM:-0400
TZOFFSETTO:-0500
TZNAME:EST
DTSTART:20271107T060000
END:STANDARD
END:VTIMEZONE
BEGIN:VEVENT
DTSTART;TZID=America/New_York:20270327T103000
DTEND;TZID=America/New_York:20270327T113000
DTSTAMP:20260419T131603
CREATED:20240530T003130Z
LAST-MODIFIED:20240530T003130Z
UID:10009482-1806143400-1806147000@www.ameliaisland.com
SUMMARY:StoryTime with Ms. Dearsha
DESCRIPTION:Join us at the store for a magical StoryTime with Ms. Dearsha\, our beloved and very talented Director of Children’s Merchandise and Programming! \nStoryTime is every Saturday at 10:30 am in the store. No RSVP needed. Just come on in! \nDive into fantastical worlds\, meet dynamic characters\, and let your imagination soar! We can’t wait to see you!
URL:https://www.ameliaisland.com/activity/storytime-with-ms-dearsha/2027-03-27/
LOCATION:Story & Song Centre for Arts and Culture\, 1430 Park Avenue\, Fernandina Beach\, FL\, 32034
ATTACH;FMTTYPE=image/jpeg:https://www.ameliaisland.com/wp-content/uploads/Story-Song-family-books-shops.jpeg
END:VEVENT
BEGIN:VEVENT
DTSTART;TZID=America/New_York:20270403T103000
DTEND;TZID=America/New_York:20270403T113000
DTSTAMP:20260419T131603
CREATED:20240530T003130Z
LAST-MODIFIED:20240530T003130Z
UID:10009483-1806748200-1806751800@www.ameliaisland.com
SUMMARY:StoryTime with Ms. Dearsha
DESCRIPTION:Join us at the store for a magical StoryTime with Ms. Dearsha\, our beloved and very talented Director of Children’s Merchandise and Programming! \nStoryTime is every Saturday at 10:30 am in the store. No RSVP needed. Just come on in! \nDive into fantastical worlds\, meet dynamic characters\, and let your imagination soar! We can’t wait to see you!
URL:https://www.ameliaisland.com/activity/storytime-with-ms-dearsha/2027-04-03/
LOCATION:Story & Song Centre for Arts and Culture\, 1430 Park Avenue\, Fernandina Beach\, FL\, 32034
ATTACH;FMTTYPE=image/jpeg:https://www.ameliaisland.com/wp-content/uploads/Story-Song-family-books-shops.jpeg
END:VEVENT
BEGIN:VEVENT
DTSTART;TZID=America/New_York:20270410T103000
DTEND;TZID=America/New_York:20270410T113000
DTSTAMP:20260419T131603
CREATED:20240530T003130Z
LAST-MODIFIED:20240530T003130Z
UID:10009484-1807353000-1807356600@www.ameliaisland.com
SUMMARY:StoryTime with Ms. Dearsha
DESCRIPTION:Join us at the store for a magical StoryTime with Ms. Dearsha\, our beloved and very talented Director of Children’s Merchandise and Programming! \nStoryTime is every Saturday at 10:30 am in the store. No RSVP needed. Just come on in! \nDive into fantastical worlds\, meet dynamic characters\, and let your imagination soar! We can’t wait to see you!
URL:https://www.ameliaisland.com/activity/storytime-with-ms-dearsha/2027-04-10/
LOCATION:Story & Song Centre for Arts and Culture\, 1430 Park Avenue\, Fernandina Beach\, FL\, 32034
ATTACH;FMTTYPE=image/jpeg:https://www.ameliaisland.com/wp-content/uploads/Story-Song-family-books-shops.jpeg
END:VEVENT
BEGIN:VEVENT
DTSTART;TZID=America/New_York:20270417T103000
DTEND;TZID=America/New_York:20270417T113000
DTSTAMP:20260419T131603
CREATED:20240530T003130Z
LAST-MODIFIED:20240530T003130Z
UID:10009485-1807957800-1807961400@www.ameliaisland.com
SUMMARY:StoryTime with Ms. Dearsha
DESCRIPTION:Join us at the store for a magical StoryTime with Ms. Dearsha\, our beloved and very talented Director of Children’s Merchandise and Programming! \nStoryTime is every Saturday at 10:30 am in the store. No RSVP needed. Just come on in! \nDive into fantastical worlds\, meet dynamic characters\, and let your imagination soar! We can’t wait to see you!
URL:https://www.ameliaisland.com/activity/storytime-with-ms-dearsha/2027-04-17/
LOCATION:Story & Song Centre for Arts and Culture\, 1430 Park Avenue\, Fernandina Beach\, FL\, 32034
ATTACH;FMTTYPE=image/jpeg:https://www.ameliaisland.com/wp-content/uploads/Story-Song-family-books-shops.jpeg
END:VEVENT
BEGIN:VEVENT
DTSTART;TZID=America/New_York:20270424T103000
DTEND;TZID=America/New_York:20270424T113000
DTSTAMP:20260419T131604
CREATED:20240530T003130Z
LAST-MODIFIED:20240530T003130Z
UID:10009486-1808562600-1808566200@www.ameliaisland.com
SUMMARY:StoryTime with Ms. Dearsha
DESCRIPTION:Join us at the store for a magical StoryTime with Ms. Dearsha\, our beloved and very talented Director of Children’s Merchandise and Programming! \nStoryTime is every Saturday at 10:30 am in the store. No RSVP needed. Just come on in! \nDive into fantastical worlds\, meet dynamic characters\, and let your imagination soar! We can’t wait to see you!
URL:https://www.ameliaisland.com/activity/storytime-with-ms-dearsha/2027-04-24/
LOCATION:Story & Song Centre for Arts and Culture\, 1430 Park Avenue\, Fernandina Beach\, FL\, 32034
ATTACH;FMTTYPE=image/jpeg:https://www.ameliaisland.com/wp-content/uploads/Story-Song-family-books-shops.jpeg
END:VEVENT
BEGIN:VEVENT
DTSTART;TZID=America/New_York:20270501T103000
DTEND;TZID=America/New_York:20270501T113000
DTSTAMP:20260419T131604
CREATED:20240530T003130Z
LAST-MODIFIED:20240530T003130Z
UID:10009487-1809167400-1809171000@www.ameliaisland.com
SUMMARY:StoryTime with Ms. Dearsha
DESCRIPTION:Join us at the store for a magical StoryTime with Ms. Dearsha\, our beloved and very talented Director of Children’s Merchandise and Programming! \nStoryTime is every Saturday at 10:30 am in the store. No RSVP needed. Just come on in! \nDive into fantastical worlds\, meet dynamic characters\, and let your imagination soar! We can’t wait to see you!
URL:https://www.ameliaisland.com/activity/storytime-with-ms-dearsha/2027-05-01/
LOCATION:Story & Song Centre for Arts and Culture\, 1430 Park Avenue\, Fernandina Beach\, FL\, 32034
ATTACH;FMTTYPE=image/jpeg:https://www.ameliaisland.com/wp-content/uploads/Story-Song-family-books-shops.jpeg
END:VEVENT
BEGIN:VEVENT
DTSTART;TZID=America/New_York:20270508T103000
DTEND;TZID=America/New_York:20270508T113000
DTSTAMP:20260419T131604
CREATED:20240530T003130Z
LAST-MODIFIED:20240530T003130Z
UID:10009488-1809772200-1809775800@www.ameliaisland.com
SUMMARY:StoryTime with Ms. Dearsha
DESCRIPTION:Join us at the store for a magical StoryTime with Ms. Dearsha\, our beloved and very talented Director of Children’s Merchandise and Programming! \nStoryTime is every Saturday at 10:30 am in the store. No RSVP needed. Just come on in! \nDive into fantastical worlds\, meet dynamic characters\, and let your imagination soar! We can’t wait to see you!
URL:https://www.ameliaisland.com/activity/storytime-with-ms-dearsha/2027-05-08/
LOCATION:Story & Song Centre for Arts and Culture\, 1430 Park Avenue\, Fernandina Beach\, FL\, 32034
ATTACH;FMTTYPE=image/jpeg:https://www.ameliaisland.com/wp-content/uploads/Story-Song-family-books-shops.jpeg
END:VEVENT
BEGIN:VEVENT
DTSTART;TZID=America/New_York:20270515T103000
DTEND;TZID=America/New_York:20270515T113000
DTSTAMP:20260419T131604
CREATED:20240530T003130Z
LAST-MODIFIED:20240530T003130Z
UID:10009489-1810377000-1810380600@www.ameliaisland.com
SUMMARY:StoryTime with Ms. Dearsha
DESCRIPTION:Join us at the store for a magical StoryTime with Ms. Dearsha\, our beloved and very talented Director of Children’s Merchandise and Programming! \nStoryTime is every Saturday at 10:30 am in the store. No RSVP needed. Just come on in! \nDive into fantastical worlds\, meet dynamic characters\, and let your imagination soar! We can’t wait to see you!
URL:https://www.ameliaisland.com/activity/storytime-with-ms-dearsha/2027-05-15/
LOCATION:Story & Song Centre for Arts and Culture\, 1430 Park Avenue\, Fernandina Beach\, FL\, 32034
ATTACH;FMTTYPE=image/jpeg:https://www.ameliaisland.com/wp-content/uploads/Story-Song-family-books-shops.jpeg
END:VEVENT
BEGIN:VEVENT
DTSTART;TZID=America/New_York:20270522T103000
DTEND;TZID=America/New_York:20270522T113000
DTSTAMP:20260419T131604
CREATED:20240530T003130Z
LAST-MODIFIED:20240530T003130Z
UID:10009490-1810981800-1810985400@www.ameliaisland.com
SUMMARY:StoryTime with Ms. Dearsha
DESCRIPTION:Join us at the store for a magical StoryTime with Ms. Dearsha\, our beloved and very talented Director of Children’s Merchandise and Programming! \nStoryTime is every Saturday at 10:30 am in the store. No RSVP needed. Just come on in! \nDive into fantastical worlds\, meet dynamic characters\, and let your imagination soar! We can’t wait to see you!
URL:https://www.ameliaisland.com/activity/storytime-with-ms-dearsha/2027-05-22/
LOCATION:Story & Song Centre for Arts and Culture\, 1430 Park Avenue\, Fernandina Beach\, FL\, 32034
ATTACH;FMTTYPE=image/jpeg:https://www.ameliaisland.com/wp-content/uploads/Story-Song-family-books-shops.jpeg
END:VEVENT
BEGIN:VEVENT
DTSTART;TZID=America/New_York:20270529T103000
DTEND;TZID=America/New_York:20270529T113000
DTSTAMP:20260419T131604
CREATED:20240530T003130Z
LAST-MODIFIED:20240530T003130Z
UID:10009491-1811586600-1811590200@www.ameliaisland.com
SUMMARY:StoryTime with Ms. Dearsha
DESCRIPTION:Join us at the store for a magical StoryTime with Ms. Dearsha\, our beloved and very talented Director of Children’s Merchandise and Programming! \nStoryTime is every Saturday at 10:30 am in the store. No RSVP needed. Just come on in! \nDive into fantastical worlds\, meet dynamic characters\, and let your imagination soar! We can’t wait to see you!
URL:https://www.ameliaisland.com/activity/storytime-with-ms-dearsha/2027-05-29/
LOCATION:Story & Song Centre for Arts and Culture\, 1430 Park Avenue\, Fernandina Beach\, FL\, 32034
ATTACH;FMTTYPE=image/jpeg:https://www.ameliaisland.com/wp-content/uploads/Story-Song-family-books-shops.jpeg
END:VEVENT
BEGIN:VEVENT
DTSTART;TZID=America/New_York:20270605T103000
DTEND;TZID=America/New_York:20270605T113000
DTSTAMP:20260419T131604
CREATED:20240530T003130Z
LAST-MODIFIED:20240530T003130Z
UID:10009492-1812191400-1812195000@www.ameliaisland.com
SUMMARY:StoryTime with Ms. Dearsha
DESCRIPTION:Join us at the store for a magical StoryTime with Ms. Dearsha\, our beloved and very talented Director of Children’s Merchandise and Programming! \nStoryTime is every Saturday at 10:30 am in the store. No RSVP needed. Just come on in! \nDive into fantastical worlds\, meet dynamic characters\, and let your imagination soar! We can’t wait to see you!
URL:https://www.ameliaisland.com/activity/storytime-with-ms-dearsha/2027-06-05/
LOCATION:Story & Song Centre for Arts and Culture\, 1430 Park Avenue\, Fernandina Beach\, FL\, 32034
ATTACH;FMTTYPE=image/jpeg:https://www.ameliaisland.com/wp-content/uploads/Story-Song-family-books-shops.jpeg
END:VEVENT
BEGIN:VEVENT
DTSTART;TZID=America/New_York:20270612T103000
DTEND;TZID=America/New_York:20270612T113000
DTSTAMP:20260419T131604
CREATED:20240530T003130Z
LAST-MODIFIED:20240530T003130Z
UID:10009493-1812796200-1812799800@www.ameliaisland.com
SUMMARY:StoryTime with Ms. Dearsha
DESCRIPTION:Join us at the store for a magical StoryTime with Ms. Dearsha\, our beloved and very talented Director of Children’s Merchandise and Programming! \nStoryTime is every Saturday at 10:30 am in the store. No RSVP needed. Just come on in! \nDive into fantastical worlds\, meet dynamic characters\, and let your imagination soar! We can’t wait to see you!
URL:https://www.ameliaisland.com/activity/storytime-with-ms-dearsha/2027-06-12/
LOCATION:Story & Song Centre for Arts and Culture\, 1430 Park Avenue\, Fernandina Beach\, FL\, 32034
ATTACH;FMTTYPE=image/jpeg:https://www.ameliaisland.com/wp-content/uploads/Story-Song-family-books-shops.jpeg
END:VEVENT
BEGIN:VEVENT
DTSTART;TZID=America/New_York:20270619T103000
DTEND;TZID=America/New_York:20270619T113000
DTSTAMP:20260419T131604
CREATED:20240530T003130Z
LAST-MODIFIED:20240530T003130Z
UID:10009494-1813401000-1813404600@www.ameliaisland.com
SUMMARY:StoryTime with Ms. Dearsha
DESCRIPTION:Join us at the store for a magical StoryTime with Ms. Dearsha\, our beloved and very talented Director of Children’s Merchandise and Programming! \nStoryTime is every Saturday at 10:30 am in the store. No RSVP needed. Just come on in! \nDive into fantastical worlds\, meet dynamic characters\, and let your imagination soar! We can’t wait to see you!
URL:https://www.ameliaisland.com/activity/storytime-with-ms-dearsha/2027-06-19/
LOCATION:Story & Song Centre for Arts and Culture\, 1430 Park Avenue\, Fernandina Beach\, FL\, 32034
ATTACH;FMTTYPE=image/jpeg:https://www.ameliaisland.com/wp-content/uploads/Story-Song-family-books-shops.jpeg
END:VEVENT
BEGIN:VEVENT
DTSTART;TZID=America/New_York:20270626T103000
DTEND;TZID=America/New_York:20270626T113000
DTSTAMP:20260419T131604
CREATED:20240530T003130Z
LAST-MODIFIED:20240530T003130Z
UID:10009495-1814005800-1814009400@www.ameliaisland.com
SUMMARY:StoryTime with Ms. Dearsha
DESCRIPTION:Join us at the store for a magical StoryTime with Ms. Dearsha\, our beloved and very talented Director of Children’s Merchandise and Programming! \nStoryTime is every Saturday at 10:30 am in the store. No RSVP needed. Just come on in! \nDive into fantastical worlds\, meet dynamic characters\, and let your imagination soar! We can’t wait to see you!
URL:https://www.ameliaisland.com/activity/storytime-with-ms-dearsha/2027-06-26/
LOCATION:Story & Song Centre for Arts and Culture\, 1430 Park Avenue\, Fernandina Beach\, FL\, 32034
ATTACH;FMTTYPE=image/jpeg:https://www.ameliaisland.com/wp-content/uploads/Story-Song-family-books-shops.jpeg
END:VEVENT
BEGIN:VEVENT
DTSTART;TZID=America/New_York:20270703T103000
DTEND;TZID=America/New_York:20270703T113000
DTSTAMP:20260419T131604
CREATED:20240530T003130Z
LAST-MODIFIED:20240530T003130Z
UID:10009496-1814610600-1814614200@www.ameliaisland.com
SUMMARY:StoryTime with Ms. Dearsha
DESCRIPTION:Join us at the store for a magical StoryTime with Ms. Dearsha\, our beloved and very talented Director of Children’s Merchandise and Programming! \nStoryTime is every Saturday at 10:30 am in the store. No RSVP needed. Just come on in! \nDive into fantastical worlds\, meet dynamic characters\, and let your imagination soar! We can’t wait to see you!
URL:https://www.ameliaisland.com/activity/storytime-with-ms-dearsha/2027-07-03/
LOCATION:Story & Song Centre for Arts and Culture\, 1430 Park Avenue\, Fernandina Beach\, FL\, 32034
ATTACH;FMTTYPE=image/jpeg:https://www.ameliaisland.com/wp-content/uploads/Story-Song-family-books-shops.jpeg
END:VEVENT
BEGIN:VEVENT
DTSTART;TZID=America/New_York:20270710T103000
DTEND;TZID=America/New_York:20270710T113000
DTSTAMP:20260419T131604
CREATED:20240530T003130Z
LAST-MODIFIED:20240530T003130Z
UID:10009497-1815215400-1815219000@www.ameliaisland.com
SUMMARY:StoryTime with Ms. Dearsha
DESCRIPTION:Join us at the store for a magical StoryTime with Ms. Dearsha\, our beloved and very talented Director of Children’s Merchandise and Programming! \nStoryTime is every Saturday at 10:30 am in the store. No RSVP needed. Just come on in! \nDive into fantastical worlds\, meet dynamic characters\, and let your imagination soar! We can’t wait to see you!
URL:https://www.ameliaisland.com/activity/storytime-with-ms-dearsha/2027-07-10/
LOCATION:Story & Song Centre for Arts and Culture\, 1430 Park Avenue\, Fernandina Beach\, FL\, 32034
ATTACH;FMTTYPE=image/jpeg:https://www.ameliaisland.com/wp-content/uploads/Story-Song-family-books-shops.jpeg
END:VEVENT
BEGIN:VEVENT
DTSTART;TZID=America/New_York:20270717T103000
DTEND;TZID=America/New_York:20270717T113000
DTSTAMP:20260419T131604
CREATED:20240530T003130Z
LAST-MODIFIED:20240530T003130Z
UID:10009498-1815820200-1815823800@www.ameliaisland.com
SUMMARY:StoryTime with Ms. Dearsha
DESCRIPTION:Join us at the store for a magical StoryTime with Ms. Dearsha\, our beloved and very talented Director of Children’s Merchandise and Programming! \nStoryTime is every Saturday at 10:30 am in the store. No RSVP needed. Just come on in! \nDive into fantastical worlds\, meet dynamic characters\, and let your imagination soar! We can’t wait to see you!
URL:https://www.ameliaisland.com/activity/storytime-with-ms-dearsha/2027-07-17/
LOCATION:Story & Song Centre for Arts and Culture\, 1430 Park Avenue\, Fernandina Beach\, FL\, 32034
ATTACH;FMTTYPE=image/jpeg:https://www.ameliaisland.com/wp-content/uploads/Story-Song-family-books-shops.jpeg
END:VEVENT
BEGIN:VEVENT
DTSTART;TZID=America/New_York:20270724T103000
DTEND;TZID=America/New_York:20270724T113000
DTSTAMP:20260419T131604
CREATED:20240530T003130Z
LAST-MODIFIED:20240530T003130Z
UID:10009499-1816425000-1816428600@www.ameliaisland.com
SUMMARY:StoryTime with Ms. Dearsha
DESCRIPTION:Join us at the store for a magical StoryTime with Ms. Dearsha\, our beloved and very talented Director of Children’s Merchandise and Programming! \nStoryTime is every Saturday at 10:30 am in the store. No RSVP needed. Just come on in! \nDive into fantastical worlds\, meet dynamic characters\, and let your imagination soar! We can’t wait to see you!
URL:https://www.ameliaisland.com/activity/storytime-with-ms-dearsha/2027-07-24/
LOCATION:Story & Song Centre for Arts and Culture\, 1430 Park Avenue\, Fernandina Beach\, FL\, 32034
ATTACH;FMTTYPE=image/jpeg:https://www.ameliaisland.com/wp-content/uploads/Story-Song-family-books-shops.jpeg
END:VEVENT
BEGIN:VEVENT
DTSTART;TZID=America/New_York:20270731T103000
DTEND;TZID=America/New_York:20270731T113000
DTSTAMP:20260419T131604
CREATED:20240530T003130Z
LAST-MODIFIED:20240530T003130Z
UID:10009500-1817029800-1817033400@www.ameliaisland.com
SUMMARY:StoryTime with Ms. Dearsha
DESCRIPTION:Join us at the store for a magical StoryTime with Ms. Dearsha\, our beloved and very talented Director of Children’s Merchandise and Programming! \nStoryTime is every Saturday at 10:30 am in the store. No RSVP needed. Just come on in! \nDive into fantastical worlds\, meet dynamic characters\, and let your imagination soar! We can’t wait to see you!
URL:https://www.ameliaisland.com/activity/storytime-with-ms-dearsha/2027-07-31/
LOCATION:Story & Song Centre for Arts and Culture\, 1430 Park Avenue\, Fernandina Beach\, FL\, 32034
ATTACH;FMTTYPE=image/jpeg:https://www.ameliaisland.com/wp-content/uploads/Story-Song-family-books-shops.jpeg
END:VEVENT
BEGIN:VEVENT
DTSTART;TZID=America/New_York:20270807T103000
DTEND;TZID=America/New_York:20270807T113000
DTSTAMP:20260419T131604
CREATED:20240530T003130Z
LAST-MODIFIED:20240530T003130Z
UID:10009501-1817634600-1817638200@www.ameliaisland.com
SUMMARY:StoryTime with Ms. Dearsha
DESCRIPTION:Join us at the store for a magical StoryTime with Ms. Dearsha\, our beloved and very talented Director of Children’s Merchandise and Programming! \nStoryTime is every Saturday at 10:30 am in the store. No RSVP needed. Just come on in! \nDive into fantastical worlds\, meet dynamic characters\, and let your imagination soar! We can’t wait to see you!
URL:https://www.ameliaisland.com/activity/storytime-with-ms-dearsha/2027-08-07/
LOCATION:Story & Song Centre for Arts and Culture\, 1430 Park Avenue\, Fernandina Beach\, FL\, 32034
ATTACH;FMTTYPE=image/jpeg:https://www.ameliaisland.com/wp-content/uploads/Story-Song-family-books-shops.jpeg
END:VEVENT
BEGIN:VEVENT
DTSTART;TZID=America/New_York:20270814T103000
DTEND;TZID=America/New_York:20270814T113000
DTSTAMP:20260419T131604
CREATED:20240530T003130Z
LAST-MODIFIED:20240530T003130Z
UID:10009502-1818239400-1818243000@www.ameliaisland.com
SUMMARY:StoryTime with Ms. Dearsha
DESCRIPTION:Join us at the store for a magical StoryTime with Ms. Dearsha\, our beloved and very talented Director of Children’s Merchandise and Programming! \nStoryTime is every Saturday at 10:30 am in the store. No RSVP needed. Just come on in! \nDive into fantastical worlds\, meet dynamic characters\, and let your imagination soar! We can’t wait to see you!
URL:https://www.ameliaisland.com/activity/storytime-with-ms-dearsha/2027-08-14/
LOCATION:Story & Song Centre for Arts and Culture\, 1430 Park Avenue\, Fernandina Beach\, FL\, 32034
ATTACH;FMTTYPE=image/jpeg:https://www.ameliaisland.com/wp-content/uploads/Story-Song-family-books-shops.jpeg
END:VEVENT
BEGIN:VEVENT
DTSTART;TZID=America/New_York:20270821T103000
DTEND;TZID=America/New_York:20270821T113000
DTSTAMP:20260419T131604
CREATED:20240530T003130Z
LAST-MODIFIED:20240530T003130Z
UID:10009503-1818844200-1818847800@www.ameliaisland.com
SUMMARY:StoryTime with Ms. Dearsha
DESCRIPTION:Join us at the store for a magical StoryTime with Ms. Dearsha\, our beloved and very talented Director of Children’s Merchandise and Programming! \nStoryTime is every Saturday at 10:30 am in the store. No RSVP needed. Just come on in! \nDive into fantastical worlds\, meet dynamic characters\, and let your imagination soar! We can’t wait to see you!
URL:https://www.ameliaisland.com/activity/storytime-with-ms-dearsha/2027-08-21/
LOCATION:Story & Song Centre for Arts and Culture\, 1430 Park Avenue\, Fernandina Beach\, FL\, 32034
ATTACH;FMTTYPE=image/jpeg:https://www.ameliaisland.com/wp-content/uploads/Story-Song-family-books-shops.jpeg
END:VEVENT
BEGIN:VEVENT
DTSTART;TZID=America/New_York:20270828T103000
DTEND;TZID=America/New_York:20270828T113000
DTSTAMP:20260419T131604
CREATED:20240530T003130Z
LAST-MODIFIED:20240530T003130Z
UID:10009504-1819449000-1819452600@www.ameliaisland.com
SUMMARY:StoryTime with Ms. Dearsha
DESCRIPTION:Join us at the store for a magical StoryTime with Ms. Dearsha\, our beloved and very talented Director of Children’s Merchandise and Programming! \nStoryTime is every Saturday at 10:30 am in the store. No RSVP needed. Just come on in! \nDive into fantastical worlds\, meet dynamic characters\, and let your imagination soar! We can’t wait to see you!
URL:https://www.ameliaisland.com/activity/storytime-with-ms-dearsha/2027-08-28/
LOCATION:Story & Song Centre for Arts and Culture\, 1430 Park Avenue\, Fernandina Beach\, FL\, 32034
ATTACH;FMTTYPE=image/jpeg:https://www.ameliaisland.com/wp-content/uploads/Story-Song-family-books-shops.jpeg
END:VEVENT
BEGIN:VEVENT
DTSTART;TZID=America/New_York:20270904T103000
DTEND;TZID=America/New_York:20270904T113000
DTSTAMP:20260419T131604
CREATED:20240530T003130Z
LAST-MODIFIED:20240530T003130Z
UID:10009505-1820053800-1820057400@www.ameliaisland.com
SUMMARY:StoryTime with Ms. Dearsha
DESCRIPTION:Join us at the store for a magical StoryTime with Ms. Dearsha\, our beloved and very talented Director of Children’s Merchandise and Programming! \nStoryTime is every Saturday at 10:30 am in the store. No RSVP needed. Just come on in! \nDive into fantastical worlds\, meet dynamic characters\, and let your imagination soar! We can’t wait to see you!
URL:https://www.ameliaisland.com/activity/storytime-with-ms-dearsha/2027-09-04/
LOCATION:Story & Song Centre for Arts and Culture\, 1430 Park Avenue\, Fernandina Beach\, FL\, 32034
ATTACH;FMTTYPE=image/jpeg:https://www.ameliaisland.com/wp-content/uploads/Story-Song-family-books-shops.jpeg
END:VEVENT
BEGIN:VEVENT
DTSTART;TZID=America/New_York:20270911T103000
DTEND;TZID=America/New_York:20270911T113000
DTSTAMP:20260419T131604
CREATED:20240530T003130Z
LAST-MODIFIED:20240530T003130Z
UID:10009506-1820658600-1820662200@www.ameliaisland.com
SUMMARY:StoryTime with Ms. Dearsha
DESCRIPTION:Join us at the store for a magical StoryTime with Ms. Dearsha\, our beloved and very talented Director of Children’s Merchandise and Programming! \nStoryTime is every Saturday at 10:30 am in the store. No RSVP needed. Just come on in! \nDive into fantastical worlds\, meet dynamic characters\, and let your imagination soar! We can’t wait to see you!
URL:https://www.ameliaisland.com/activity/storytime-with-ms-dearsha/2027-09-11/
LOCATION:Story & Song Centre for Arts and Culture\, 1430 Park Avenue\, Fernandina Beach\, FL\, 32034
ATTACH;FMTTYPE=image/jpeg:https://www.ameliaisland.com/wp-content/uploads/Story-Song-family-books-shops.jpeg
END:VEVENT
BEGIN:VEVENT
DTSTART;TZID=America/New_York:20270918T103000
DTEND;TZID=America/New_York:20270918T113000
DTSTAMP:20260419T131604
CREATED:20240530T003130Z
LAST-MODIFIED:20240530T003130Z
UID:10009507-1821263400-1821267000@www.ameliaisland.com
SUMMARY:StoryTime with Ms. Dearsha
DESCRIPTION:Join us at the store for a magical StoryTime with Ms. Dearsha\, our beloved and very talented Director of Children’s Merchandise and Programming! \nStoryTime is every Saturday at 10:30 am in the store. No RSVP needed. Just come on in! \nDive into fantastical worlds\, meet dynamic characters\, and let your imagination soar! We can’t wait to see you!
URL:https://www.ameliaisland.com/activity/storytime-with-ms-dearsha/2027-09-18/
LOCATION:Story & Song Centre for Arts and Culture\, 1430 Park Avenue\, Fernandina Beach\, FL\, 32034
ATTACH;FMTTYPE=image/jpeg:https://www.ameliaisland.com/wp-content/uploads/Story-Song-family-books-shops.jpeg
END:VEVENT
BEGIN:VEVENT
DTSTART;TZID=America/New_York:20270925T103000
DTEND;TZID=America/New_York:20270925T113000
DTSTAMP:20260419T131604
CREATED:20240530T003130Z
LAST-MODIFIED:20240530T003130Z
UID:10009508-1821868200-1821871800@www.ameliaisland.com
SUMMARY:StoryTime with Ms. Dearsha
DESCRIPTION:Join us at the store for a magical StoryTime with Ms. Dearsha\, our beloved and very talented Director of Children’s Merchandise and Programming! \nStoryTime is every Saturday at 10:30 am in the store. No RSVP needed. Just come on in! \nDive into fantastical worlds\, meet dynamic characters\, and let your imagination soar! We can’t wait to see you!
URL:https://www.ameliaisland.com/activity/storytime-with-ms-dearsha/2027-09-25/
LOCATION:Story & Song Centre for Arts and Culture\, 1430 Park Avenue\, Fernandina Beach\, FL\, 32034
ATTACH;FMTTYPE=image/jpeg:https://www.ameliaisland.com/wp-content/uploads/Story-Song-family-books-shops.jpeg
END:VEVENT
BEGIN:VEVENT
DTSTART;TZID=America/New_York:20271002T103000
DTEND;TZID=America/New_York:20271002T113000
DTSTAMP:20260419T131604
CREATED:20240530T003130Z
LAST-MODIFIED:20240530T003130Z
UID:10009509-1822473000-1822476600@www.ameliaisland.com
SUMMARY:StoryTime with Ms. Dearsha
DESCRIPTION:Join us at the store for a magical StoryTime with Ms. Dearsha\, our beloved and very talented Director of Children’s Merchandise and Programming! \nStoryTime is every Saturday at 10:30 am in the store. No RSVP needed. Just come on in! \nDive into fantastical worlds\, meet dynamic characters\, and let your imagination soar! We can’t wait to see you!
URL:https://www.ameliaisland.com/activity/storytime-with-ms-dearsha/2027-10-02/
LOCATION:Story & Song Centre for Arts and Culture\, 1430 Park Avenue\, Fernandina Beach\, FL\, 32034
ATTACH;FMTTYPE=image/jpeg:https://www.ameliaisland.com/wp-content/uploads/Story-Song-family-books-shops.jpeg
END:VEVENT
BEGIN:VEVENT
DTSTART;TZID=America/New_York:20271009T103000
DTEND;TZID=America/New_York:20271009T113000
DTSTAMP:20260419T131604
CREATED:20240530T003130Z
LAST-MODIFIED:20240530T003130Z
UID:10009510-1823077800-1823081400@www.ameliaisland.com
SUMMARY:StoryTime with Ms. Dearsha
DESCRIPTION:Join us at the store for a magical StoryTime with Ms. Dearsha\, our beloved and very talented Director of Children’s Merchandise and Programming! \nStoryTime is every Saturday at 10:30 am in the store. No RSVP needed. Just come on in! \nDive into fantastical worlds\, meet dynamic characters\, and let your imagination soar! We can’t wait to see you!
URL:https://www.ameliaisland.com/activity/storytime-with-ms-dearsha/2027-10-09/
LOCATION:Story & Song Centre for Arts and Culture\, 1430 Park Avenue\, Fernandina Beach\, FL\, 32034
ATTACH;FMTTYPE=image/jpeg:https://www.ameliaisland.com/wp-content/uploads/Story-Song-family-books-shops.jpeg
END:VEVENT
BEGIN:VEVENT
DTSTART;TZID=America/New_York:20271016T103000
DTEND;TZID=America/New_York:20271016T113000
DTSTAMP:20260419T131604
CREATED:20240530T003130Z
LAST-MODIFIED:20240530T003130Z
UID:10009511-1823682600-1823686200@www.ameliaisland.com
SUMMARY:StoryTime with Ms. Dearsha
DESCRIPTION:Join us at the store for a magical StoryTime with Ms. Dearsha\, our beloved and very talented Director of Children’s Merchandise and Programming! \nStoryTime is every Saturday at 10:30 am in the store. No RSVP needed. Just come on in! \nDive into fantastical worlds\, meet dynamic characters\, and let your imagination soar! We can’t wait to see you!
URL:https://www.ameliaisland.com/activity/storytime-with-ms-dearsha/2027-10-16/
LOCATION:Story & Song Centre for Arts and Culture\, 1430 Park Avenue\, Fernandina Beach\, FL\, 32034
ATTACH;FMTTYPE=image/jpeg:https://www.ameliaisland.com/wp-content/uploads/Story-Song-family-books-shops.jpeg
END:VEVENT
END:VCALENDAR