BEGIN:VCALENDAR
VERSION:2.0
PRODID:-//Amelia Island - ECPv6.8.0//NONSGML v1.0//EN
CALSCALE:GREGORIAN
METHOD:PUBLISH
X-ORIGINAL-URL:https://www.ameliaisland.com
X-WR-CALDESC:Events for Amelia Island
REFRESH-INTERVAL;VALUE=DURATION:PT1H
X-Robots-Tag:noindex
X-PUBLISHED-TTL:PT1H
BEGIN:VTIMEZONE
TZID:America/New_York
BEGIN:DAYLIGHT
TZOFFSETFROM:-0500
TZOFFSETTO:-0400
TZNAME:EDT
DTSTART:20280312T070000
END:DAYLIGHT
BEGIN:STANDARD
TZOFFSETFROM:-0400
TZOFFSETTO:-0500
TZNAME:EST
DTSTART:20281105T060000
END:STANDARD
BEGIN:DAYLIGHT
TZOFFSETFROM:-0500
TZOFFSETTO:-0400
TZNAME:EDT
DTSTART:20290311T070000
END:DAYLIGHT
BEGIN:STANDARD
TZOFFSETFROM:-0400
TZOFFSETTO:-0500
TZNAME:EST
DTSTART:20291104T060000
END:STANDARD
END:VTIMEZONE
BEGIN:VEVENT
DTSTART;TZID=America/New_York:20280429T120000
DTEND;TZID=America/New_York:20280429T140000
DTSTAMP:20260420T084303
CREATED:20241017T125209Z
LAST-MODIFIED:20241017T125209Z
UID:10016169-1840622400-1840629600@www.ameliaisland.com
SUMMARY:Island Art Association - Critique Group
DESCRIPTION:An open discussion and critique group meets on the last Saturday of each month at Story & Song Bookstore Bistro from 12:00 noon-2:00 pm. All mediums are welcome. Artists may bring works in progress to receive the group’s support and views. \nStory & Song’s Bistro offers a breakfast and lunch menu.
URL:https://www.ameliaisland.com/activity/island-art-association-critique-group/2028-04-29/
LOCATION:Story & Song Centre for Arts and Culture\, 1430 Park Avenue\, Fernandina Beach\, FL\, 32034
ATTACH;FMTTYPE=image/jpeg:https://www.ameliaisland.com/wp-content/uploads/Story-Song-.jpg
END:VEVENT
BEGIN:VEVENT
DTSTART;TZID=America/New_York:20280527T120000
DTEND;TZID=America/New_York:20280527T140000
DTSTAMP:20260420T084303
CREATED:20241017T125209Z
LAST-MODIFIED:20241017T125209Z
UID:10016170-1843041600-1843048800@www.ameliaisland.com
SUMMARY:Island Art Association - Critique Group
DESCRIPTION:An open discussion and critique group meets on the last Saturday of each month at Story & Song Bookstore Bistro from 12:00 noon-2:00 pm. All mediums are welcome. Artists may bring works in progress to receive the group’s support and views. \nStory & Song’s Bistro offers a breakfast and lunch menu.
URL:https://www.ameliaisland.com/activity/island-art-association-critique-group/2028-05-27/
LOCATION:Story & Song Centre for Arts and Culture\, 1430 Park Avenue\, Fernandina Beach\, FL\, 32034
ATTACH;FMTTYPE=image/jpeg:https://www.ameliaisland.com/wp-content/uploads/Story-Song-.jpg
END:VEVENT
BEGIN:VEVENT
DTSTART;TZID=America/New_York:20280624T120000
DTEND;TZID=America/New_York:20280624T140000
DTSTAMP:20260420T084303
CREATED:20241017T125209Z
LAST-MODIFIED:20241017T125209Z
UID:10016171-1845460800-1845468000@www.ameliaisland.com
SUMMARY:Island Art Association - Critique Group
DESCRIPTION:An open discussion and critique group meets on the last Saturday of each month at Story & Song Bookstore Bistro from 12:00 noon-2:00 pm. All mediums are welcome. Artists may bring works in progress to receive the group’s support and views. \nStory & Song’s Bistro offers a breakfast and lunch menu.
URL:https://www.ameliaisland.com/activity/island-art-association-critique-group/2028-06-24/
LOCATION:Story & Song Centre for Arts and Culture\, 1430 Park Avenue\, Fernandina Beach\, FL\, 32034
ATTACH;FMTTYPE=image/jpeg:https://www.ameliaisland.com/wp-content/uploads/Story-Song-.jpg
END:VEVENT
BEGIN:VEVENT
DTSTART;TZID=America/New_York:20280729T120000
DTEND;TZID=America/New_York:20280729T140000
DTSTAMP:20260420T084303
CREATED:20241017T125209Z
LAST-MODIFIED:20241017T125209Z
UID:10016172-1848484800-1848492000@www.ameliaisland.com
SUMMARY:Island Art Association - Critique Group
DESCRIPTION:An open discussion and critique group meets on the last Saturday of each month at Story & Song Bookstore Bistro from 12:00 noon-2:00 pm. All mediums are welcome. Artists may bring works in progress to receive the group’s support and views. \nStory & Song’s Bistro offers a breakfast and lunch menu.
URL:https://www.ameliaisland.com/activity/island-art-association-critique-group/2028-07-29/
LOCATION:Story & Song Centre for Arts and Culture\, 1430 Park Avenue\, Fernandina Beach\, FL\, 32034
ATTACH;FMTTYPE=image/jpeg:https://www.ameliaisland.com/wp-content/uploads/Story-Song-.jpg
END:VEVENT
BEGIN:VEVENT
DTSTART;TZID=America/New_York:20280826T120000
DTEND;TZID=America/New_York:20280826T140000
DTSTAMP:20260420T084303
CREATED:20241017T125209Z
LAST-MODIFIED:20241017T125209Z
UID:10016173-1850904000-1850911200@www.ameliaisland.com
SUMMARY:Island Art Association - Critique Group
DESCRIPTION:An open discussion and critique group meets on the last Saturday of each month at Story & Song Bookstore Bistro from 12:00 noon-2:00 pm. All mediums are welcome. Artists may bring works in progress to receive the group’s support and views. \nStory & Song’s Bistro offers a breakfast and lunch menu.
URL:https://www.ameliaisland.com/activity/island-art-association-critique-group/2028-08-26/
LOCATION:Story & Song Centre for Arts and Culture\, 1430 Park Avenue\, Fernandina Beach\, FL\, 32034
ATTACH;FMTTYPE=image/jpeg:https://www.ameliaisland.com/wp-content/uploads/Story-Song-.jpg
END:VEVENT
BEGIN:VEVENT
DTSTART;TZID=America/New_York:20280930T120000
DTEND;TZID=America/New_York:20280930T140000
DTSTAMP:20260420T084303
CREATED:20241017T125209Z
LAST-MODIFIED:20241017T125209Z
UID:10016174-1853928000-1853935200@www.ameliaisland.com
SUMMARY:Island Art Association - Critique Group
DESCRIPTION:An open discussion and critique group meets on the last Saturday of each month at Story & Song Bookstore Bistro from 12:00 noon-2:00 pm. All mediums are welcome. Artists may bring works in progress to receive the group’s support and views. \nStory & Song’s Bistro offers a breakfast and lunch menu.
URL:https://www.ameliaisland.com/activity/island-art-association-critique-group/2028-09-30/
LOCATION:Story & Song Centre for Arts and Culture\, 1430 Park Avenue\, Fernandina Beach\, FL\, 32034
ATTACH;FMTTYPE=image/jpeg:https://www.ameliaisland.com/wp-content/uploads/Story-Song-.jpg
END:VEVENT
BEGIN:VEVENT
DTSTART;TZID=America/New_York:20281028T120000
DTEND;TZID=America/New_York:20281028T140000
DTSTAMP:20260420T084303
CREATED:20241017T125209Z
LAST-MODIFIED:20241017T125209Z
UID:10016175-1856347200-1856354400@www.ameliaisland.com
SUMMARY:Island Art Association - Critique Group
DESCRIPTION:An open discussion and critique group meets on the last Saturday of each month at Story & Song Bookstore Bistro from 12:00 noon-2:00 pm. All mediums are welcome. Artists may bring works in progress to receive the group’s support and views. \nStory & Song’s Bistro offers a breakfast and lunch menu.
URL:https://www.ameliaisland.com/activity/island-art-association-critique-group/2028-10-28/
LOCATION:Story & Song Centre for Arts and Culture\, 1430 Park Avenue\, Fernandina Beach\, FL\, 32034
ATTACH;FMTTYPE=image/jpeg:https://www.ameliaisland.com/wp-content/uploads/Story-Song-.jpg
END:VEVENT
BEGIN:VEVENT
DTSTART;TZID=America/New_York:20281125T120000
DTEND;TZID=America/New_York:20281125T140000
DTSTAMP:20260420T084303
CREATED:20241017T125209Z
LAST-MODIFIED:20241017T125209Z
UID:10016176-1858766400-1858773600@www.ameliaisland.com
SUMMARY:Island Art Association - Critique Group
DESCRIPTION:An open discussion and critique group meets on the last Saturday of each month at Story & Song Bookstore Bistro from 12:00 noon-2:00 pm. All mediums are welcome. Artists may bring works in progress to receive the group’s support and views. \nStory & Song’s Bistro offers a breakfast and lunch menu.
URL:https://www.ameliaisland.com/activity/island-art-association-critique-group/2028-11-25/
LOCATION:Story & Song Centre for Arts and Culture\, 1430 Park Avenue\, Fernandina Beach\, FL\, 32034
ATTACH;FMTTYPE=image/jpeg:https://www.ameliaisland.com/wp-content/uploads/Story-Song-.jpg
END:VEVENT
BEGIN:VEVENT
DTSTART;TZID=America/New_York:20281230T120000
DTEND;TZID=America/New_York:20281230T140000
DTSTAMP:20260420T084303
CREATED:20241017T125209Z
LAST-MODIFIED:20241017T125209Z
UID:10016177-1861790400-1861797600@www.ameliaisland.com
SUMMARY:Island Art Association - Critique Group
DESCRIPTION:An open discussion and critique group meets on the last Saturday of each month at Story & Song Bookstore Bistro from 12:00 noon-2:00 pm. All mediums are welcome. Artists may bring works in progress to receive the group’s support and views. \nStory & Song’s Bistro offers a breakfast and lunch menu.
URL:https://www.ameliaisland.com/activity/island-art-association-critique-group/2028-12-30/
LOCATION:Story & Song Centre for Arts and Culture\, 1430 Park Avenue\, Fernandina Beach\, FL\, 32034
ATTACH;FMTTYPE=image/jpeg:https://www.ameliaisland.com/wp-content/uploads/Story-Song-.jpg
END:VEVENT
BEGIN:VEVENT
DTSTART;TZID=America/New_York:20290127T120000
DTEND;TZID=America/New_York:20290127T140000
DTSTAMP:20260420T084303
CREATED:20241017T125209Z
LAST-MODIFIED:20241017T125209Z
UID:10016178-1864209600-1864216800@www.ameliaisland.com
SUMMARY:Island Art Association - Critique Group
DESCRIPTION:An open discussion and critique group meets on the last Saturday of each month at Story & Song Bookstore Bistro from 12:00 noon-2:00 pm. All mediums are welcome. Artists may bring works in progress to receive the group’s support and views. \nStory & Song’s Bistro offers a breakfast and lunch menu.
URL:https://www.ameliaisland.com/activity/island-art-association-critique-group/2029-01-27/
LOCATION:Story & Song Centre for Arts and Culture\, 1430 Park Avenue\, Fernandina Beach\, FL\, 32034
ATTACH;FMTTYPE=image/jpeg:https://www.ameliaisland.com/wp-content/uploads/Story-Song-.jpg
END:VEVENT
BEGIN:VEVENT
DTSTART;TZID=America/New_York:20290224T120000
DTEND;TZID=America/New_York:20290224T140000
DTSTAMP:20260420T084303
CREATED:20241017T125209Z
LAST-MODIFIED:20241017T125209Z
UID:10016179-1866628800-1866636000@www.ameliaisland.com
SUMMARY:Island Art Association - Critique Group
DESCRIPTION:An open discussion and critique group meets on the last Saturday of each month at Story & Song Bookstore Bistro from 12:00 noon-2:00 pm. All mediums are welcome. Artists may bring works in progress to receive the group’s support and views. \nStory & Song’s Bistro offers a breakfast and lunch menu.
URL:https://www.ameliaisland.com/activity/island-art-association-critique-group/2029-02-24/
LOCATION:Story & Song Centre for Arts and Culture\, 1430 Park Avenue\, Fernandina Beach\, FL\, 32034
ATTACH;FMTTYPE=image/jpeg:https://www.ameliaisland.com/wp-content/uploads/Story-Song-.jpg
END:VEVENT
BEGIN:VEVENT
DTSTART;TZID=America/New_York:20290331T120000
DTEND;TZID=America/New_York:20290331T140000
DTSTAMP:20260420T084303
CREATED:20241017T125209Z
LAST-MODIFIED:20241017T125209Z
UID:10016180-1869652800-1869660000@www.ameliaisland.com
SUMMARY:Island Art Association - Critique Group
DESCRIPTION:An open discussion and critique group meets on the last Saturday of each month at Story & Song Bookstore Bistro from 12:00 noon-2:00 pm. All mediums are welcome. Artists may bring works in progress to receive the group’s support and views. \nStory & Song’s Bistro offers a breakfast and lunch menu.
URL:https://www.ameliaisland.com/activity/island-art-association-critique-group/2029-03-31/
LOCATION:Story & Song Centre for Arts and Culture\, 1430 Park Avenue\, Fernandina Beach\, FL\, 32034
ATTACH;FMTTYPE=image/jpeg:https://www.ameliaisland.com/wp-content/uploads/Story-Song-.jpg
END:VEVENT
BEGIN:VEVENT
DTSTART;TZID=America/New_York:20290428T120000
DTEND;TZID=America/New_York:20290428T140000
DTSTAMP:20260420T084303
CREATED:20241017T125209Z
LAST-MODIFIED:20241017T125209Z
UID:10016181-1872072000-1872079200@www.ameliaisland.com
SUMMARY:Island Art Association - Critique Group
DESCRIPTION:An open discussion and critique group meets on the last Saturday of each month at Story & Song Bookstore Bistro from 12:00 noon-2:00 pm. All mediums are welcome. Artists may bring works in progress to receive the group’s support and views. \nStory & Song’s Bistro offers a breakfast and lunch menu.
URL:https://www.ameliaisland.com/activity/island-art-association-critique-group/2029-04-28/
LOCATION:Story & Song Centre for Arts and Culture\, 1430 Park Avenue\, Fernandina Beach\, FL\, 32034
ATTACH;FMTTYPE=image/jpeg:https://www.ameliaisland.com/wp-content/uploads/Story-Song-.jpg
END:VEVENT
BEGIN:VEVENT
DTSTART;TZID=America/New_York:20290526T120000
DTEND;TZID=America/New_York:20290526T140000
DTSTAMP:20260420T084303
CREATED:20241017T125209Z
LAST-MODIFIED:20241017T125209Z
UID:10016182-1874491200-1874498400@www.ameliaisland.com
SUMMARY:Island Art Association - Critique Group
DESCRIPTION:An open discussion and critique group meets on the last Saturday of each month at Story & Song Bookstore Bistro from 12:00 noon-2:00 pm. All mediums are welcome. Artists may bring works in progress to receive the group’s support and views. \nStory & Song’s Bistro offers a breakfast and lunch menu.
URL:https://www.ameliaisland.com/activity/island-art-association-critique-group/2029-05-26/
LOCATION:Story & Song Centre for Arts and Culture\, 1430 Park Avenue\, Fernandina Beach\, FL\, 32034
ATTACH;FMTTYPE=image/jpeg:https://www.ameliaisland.com/wp-content/uploads/Story-Song-.jpg
END:VEVENT
BEGIN:VEVENT
DTSTART;TZID=America/New_York:20290630T120000
DTEND;TZID=America/New_York:20290630T140000
DTSTAMP:20260420T084303
CREATED:20241017T125209Z
LAST-MODIFIED:20241017T125209Z
UID:10016183-1877515200-1877522400@www.ameliaisland.com
SUMMARY:Island Art Association - Critique Group
DESCRIPTION:An open discussion and critique group meets on the last Saturday of each month at Story & Song Bookstore Bistro from 12:00 noon-2:00 pm. All mediums are welcome. Artists may bring works in progress to receive the group’s support and views. \nStory & Song’s Bistro offers a breakfast and lunch menu.
URL:https://www.ameliaisland.com/activity/island-art-association-critique-group/2029-06-30/
LOCATION:Story & Song Centre for Arts and Culture\, 1430 Park Avenue\, Fernandina Beach\, FL\, 32034
ATTACH;FMTTYPE=image/jpeg:https://www.ameliaisland.com/wp-content/uploads/Story-Song-.jpg
END:VEVENT
BEGIN:VEVENT
DTSTART;TZID=America/New_York:20290728T120000
DTEND;TZID=America/New_York:20290728T140000
DTSTAMP:20260420T084303
CREATED:20241017T125209Z
LAST-MODIFIED:20241017T125209Z
UID:10016184-1879934400-1879941600@www.ameliaisland.com
SUMMARY:Island Art Association - Critique Group
DESCRIPTION:An open discussion and critique group meets on the last Saturday of each month at Story & Song Bookstore Bistro from 12:00 noon-2:00 pm. All mediums are welcome. Artists may bring works in progress to receive the group’s support and views. \nStory & Song’s Bistro offers a breakfast and lunch menu.
URL:https://www.ameliaisland.com/activity/island-art-association-critique-group/2029-07-28/
LOCATION:Story & Song Centre for Arts and Culture\, 1430 Park Avenue\, Fernandina Beach\, FL\, 32034
ATTACH;FMTTYPE=image/jpeg:https://www.ameliaisland.com/wp-content/uploads/Story-Song-.jpg
END:VEVENT
BEGIN:VEVENT
DTSTART;TZID=America/New_York:20290825T120000
DTEND;TZID=America/New_York:20290825T140000
DTSTAMP:20260420T084303
CREATED:20241017T125209Z
LAST-MODIFIED:20241017T125209Z
UID:10016185-1882353600-1882360800@www.ameliaisland.com
SUMMARY:Island Art Association - Critique Group
DESCRIPTION:An open discussion and critique group meets on the last Saturday of each month at Story & Song Bookstore Bistro from 12:00 noon-2:00 pm. All mediums are welcome. Artists may bring works in progress to receive the group’s support and views. \nStory & Song’s Bistro offers a breakfast and lunch menu.
URL:https://www.ameliaisland.com/activity/island-art-association-critique-group/2029-08-25/
LOCATION:Story & Song Centre for Arts and Culture\, 1430 Park Avenue\, Fernandina Beach\, FL\, 32034
ATTACH;FMTTYPE=image/jpeg:https://www.ameliaisland.com/wp-content/uploads/Story-Song-.jpg
END:VEVENT
BEGIN:VEVENT
DTSTART;TZID=America/New_York:20290929T120000
DTEND;TZID=America/New_York:20290929T140000
DTSTAMP:20260420T084303
CREATED:20241017T125209Z
LAST-MODIFIED:20241017T125209Z
UID:10016186-1885377600-1885384800@www.ameliaisland.com
SUMMARY:Island Art Association - Critique Group
DESCRIPTION:An open discussion and critique group meets on the last Saturday of each month at Story & Song Bookstore Bistro from 12:00 noon-2:00 pm. All mediums are welcome. Artists may bring works in progress to receive the group’s support and views. \nStory & Song’s Bistro offers a breakfast and lunch menu.
URL:https://www.ameliaisland.com/activity/island-art-association-critique-group/2029-09-29/
LOCATION:Story & Song Centre for Arts and Culture\, 1430 Park Avenue\, Fernandina Beach\, FL\, 32034
ATTACH;FMTTYPE=image/jpeg:https://www.ameliaisland.com/wp-content/uploads/Story-Song-.jpg
END:VEVENT
END:VCALENDAR