BEGIN:VCALENDAR
VERSION:2.0
PRODID:-//Amelia Island - ECPv6.8.0//NONSGML v1.0//EN
CALSCALE:GREGORIAN
METHOD:PUBLISH
X-ORIGINAL-URL:https://www.ameliaisland.com
X-WR-CALDESC:Events for Amelia Island
REFRESH-INTERVAL;VALUE=DURATION:PT1H
X-Robots-Tag:noindex
X-PUBLISHED-TTL:PT1H
BEGIN:VTIMEZONE
TZID:America/New_York
BEGIN:DAYLIGHT
TZOFFSETFROM:-0500
TZOFFSETTO:-0400
TZNAME:EDT
DTSTART:20270314T070000
END:DAYLIGHT
BEGIN:STANDARD
TZOFFSETFROM:-0400
TZOFFSETTO:-0500
TZNAME:EST
DTSTART:20271107T060000
END:STANDARD
BEGIN:DAYLIGHT
TZOFFSETFROM:-0500
TZOFFSETTO:-0400
TZNAME:EDT
DTSTART:20280312T070000
END:DAYLIGHT
BEGIN:STANDARD
TZOFFSETFROM:-0400
TZOFFSETTO:-0500
TZNAME:EST
DTSTART:20281105T060000
END:STANDARD
BEGIN:DAYLIGHT
TZOFFSETFROM:-0500
TZOFFSETTO:-0400
TZNAME:EDT
DTSTART:20290311T070000
END:DAYLIGHT
BEGIN:STANDARD
TZOFFSETFROM:-0400
TZOFFSETTO:-0500
TZNAME:EST
DTSTART:20291104T060000
END:STANDARD
END:VTIMEZONE
BEGIN:VEVENT
DTSTART;TZID=America/New_York:20270519T170000
DTEND;TZID=America/New_York:20270519T190000
DTSTAMP:20260419T212552
CREATED:20240611T235936Z
LAST-MODIFIED:20240611T235936Z
UID:10009949-1810746000-1810753200@www.ameliaisland.com
SUMMARY:Cinema & Conversation
DESCRIPTION:On the 3rd Wednesday of the month\, join us to watch a film chosen for its meaningful theme\, and stay for a facilitated discussion after. \nFree and open to all.
URL:https://www.ameliaisland.com/activity/cinema-conversation/2027-05-19/
LOCATION:Story & Song Centre for Arts and Culture\, 1430 Park Avenue\, Fernandina Beach\, FL\, 32034
ATTACH;FMTTYPE=image/jpeg:https://www.ameliaisland.com/wp-content/uploads/Cinema-Conversation-story-song.jpeg
END:VEVENT
BEGIN:VEVENT
DTSTART;TZID=America/New_York:20270616T170000
DTEND;TZID=America/New_York:20270616T190000
DTSTAMP:20260419T212552
CREATED:20240611T235936Z
LAST-MODIFIED:20240611T235936Z
UID:10009950-1813165200-1813172400@www.ameliaisland.com
SUMMARY:Cinema & Conversation
DESCRIPTION:On the 3rd Wednesday of the month\, join us to watch a film chosen for its meaningful theme\, and stay for a facilitated discussion after. \nFree and open to all.
URL:https://www.ameliaisland.com/activity/cinema-conversation/2027-06-16/
LOCATION:Story & Song Centre for Arts and Culture\, 1430 Park Avenue\, Fernandina Beach\, FL\, 32034
ATTACH;FMTTYPE=image/jpeg:https://www.ameliaisland.com/wp-content/uploads/Cinema-Conversation-story-song.jpeg
END:VEVENT
BEGIN:VEVENT
DTSTART;TZID=America/New_York:20270721T170000
DTEND;TZID=America/New_York:20270721T190000
DTSTAMP:20260419T212552
CREATED:20240611T235936Z
LAST-MODIFIED:20240611T235936Z
UID:10009951-1816189200-1816196400@www.ameliaisland.com
SUMMARY:Cinema & Conversation
DESCRIPTION:On the 3rd Wednesday of the month\, join us to watch a film chosen for its meaningful theme\, and stay for a facilitated discussion after. \nFree and open to all.
URL:https://www.ameliaisland.com/activity/cinema-conversation/2027-07-21/
LOCATION:Story & Song Centre for Arts and Culture\, 1430 Park Avenue\, Fernandina Beach\, FL\, 32034
ATTACH;FMTTYPE=image/jpeg:https://www.ameliaisland.com/wp-content/uploads/Cinema-Conversation-story-song.jpeg
END:VEVENT
BEGIN:VEVENT
DTSTART;TZID=America/New_York:20270818T170000
DTEND;TZID=America/New_York:20270818T190000
DTSTAMP:20260419T212552
CREATED:20240611T235936Z
LAST-MODIFIED:20240611T235936Z
UID:10009952-1818608400-1818615600@www.ameliaisland.com
SUMMARY:Cinema & Conversation
DESCRIPTION:On the 3rd Wednesday of the month\, join us to watch a film chosen for its meaningful theme\, and stay for a facilitated discussion after. \nFree and open to all.
URL:https://www.ameliaisland.com/activity/cinema-conversation/2027-08-18/
LOCATION:Story & Song Centre for Arts and Culture\, 1430 Park Avenue\, Fernandina Beach\, FL\, 32034
ATTACH;FMTTYPE=image/jpeg:https://www.ameliaisland.com/wp-content/uploads/Cinema-Conversation-story-song.jpeg
END:VEVENT
BEGIN:VEVENT
DTSTART;TZID=America/New_York:20270915T170000
DTEND;TZID=America/New_York:20270915T190000
DTSTAMP:20260419T212552
CREATED:20240611T235936Z
LAST-MODIFIED:20240611T235936Z
UID:10009953-1821027600-1821034800@www.ameliaisland.com
SUMMARY:Cinema & Conversation
DESCRIPTION:On the 3rd Wednesday of the month\, join us to watch a film chosen for its meaningful theme\, and stay for a facilitated discussion after. \nFree and open to all.
URL:https://www.ameliaisland.com/activity/cinema-conversation/2027-09-15/
LOCATION:Story & Song Centre for Arts and Culture\, 1430 Park Avenue\, Fernandina Beach\, FL\, 32034
ATTACH;FMTTYPE=image/jpeg:https://www.ameliaisland.com/wp-content/uploads/Cinema-Conversation-story-song.jpeg
END:VEVENT
BEGIN:VEVENT
DTSTART;TZID=America/New_York:20271020T170000
DTEND;TZID=America/New_York:20271020T190000
DTSTAMP:20260419T212552
CREATED:20240611T235936Z
LAST-MODIFIED:20240611T235936Z
UID:10009954-1824051600-1824058800@www.ameliaisland.com
SUMMARY:Cinema & Conversation
DESCRIPTION:On the 3rd Wednesday of the month\, join us to watch a film chosen for its meaningful theme\, and stay for a facilitated discussion after. \nFree and open to all.
URL:https://www.ameliaisland.com/activity/cinema-conversation/2027-10-20/
LOCATION:Story & Song Centre for Arts and Culture\, 1430 Park Avenue\, Fernandina Beach\, FL\, 32034
ATTACH;FMTTYPE=image/jpeg:https://www.ameliaisland.com/wp-content/uploads/Cinema-Conversation-story-song.jpeg
END:VEVENT
BEGIN:VEVENT
DTSTART;TZID=America/New_York:20271117T170000
DTEND;TZID=America/New_York:20271117T190000
DTSTAMP:20260419T212552
CREATED:20240611T235936Z
LAST-MODIFIED:20240611T235936Z
UID:10009955-1826470800-1826478000@www.ameliaisland.com
SUMMARY:Cinema & Conversation
DESCRIPTION:On the 3rd Wednesday of the month\, join us to watch a film chosen for its meaningful theme\, and stay for a facilitated discussion after. \nFree and open to all.
URL:https://www.ameliaisland.com/activity/cinema-conversation/2027-11-17/
LOCATION:Story & Song Centre for Arts and Culture\, 1430 Park Avenue\, Fernandina Beach\, FL\, 32034
ATTACH;FMTTYPE=image/jpeg:https://www.ameliaisland.com/wp-content/uploads/Cinema-Conversation-story-song.jpeg
END:VEVENT
BEGIN:VEVENT
DTSTART;TZID=America/New_York:20271215T170000
DTEND;TZID=America/New_York:20271215T190000
DTSTAMP:20260419T212552
CREATED:20240611T235936Z
LAST-MODIFIED:20240611T235936Z
UID:10009956-1828890000-1828897200@www.ameliaisland.com
SUMMARY:Cinema & Conversation
DESCRIPTION:On the 3rd Wednesday of the month\, join us to watch a film chosen for its meaningful theme\, and stay for a facilitated discussion after. \nFree and open to all.
URL:https://www.ameliaisland.com/activity/cinema-conversation/2027-12-15/
LOCATION:Story & Song Centre for Arts and Culture\, 1430 Park Avenue\, Fernandina Beach\, FL\, 32034
ATTACH;FMTTYPE=image/jpeg:https://www.ameliaisland.com/wp-content/uploads/Cinema-Conversation-story-song.jpeg
END:VEVENT
BEGIN:VEVENT
DTSTART;TZID=America/New_York:20280119T170000
DTEND;TZID=America/New_York:20280119T190000
DTSTAMP:20260419T212552
CREATED:20240611T235936Z
LAST-MODIFIED:20240611T235936Z
UID:10009957-1831914000-1831921200@www.ameliaisland.com
SUMMARY:Cinema & Conversation
DESCRIPTION:On the 3rd Wednesday of the month\, join us to watch a film chosen for its meaningful theme\, and stay for a facilitated discussion after. \nFree and open to all.
URL:https://www.ameliaisland.com/activity/cinema-conversation/2028-01-19/
LOCATION:Story & Song Centre for Arts and Culture\, 1430 Park Avenue\, Fernandina Beach\, FL\, 32034
ATTACH;FMTTYPE=image/jpeg:https://www.ameliaisland.com/wp-content/uploads/Cinema-Conversation-story-song.jpeg
END:VEVENT
BEGIN:VEVENT
DTSTART;TZID=America/New_York:20280216T170000
DTEND;TZID=America/New_York:20280216T190000
DTSTAMP:20260419T212552
CREATED:20240611T235936Z
LAST-MODIFIED:20240611T235936Z
UID:10009958-1834333200-1834340400@www.ameliaisland.com
SUMMARY:Cinema & Conversation
DESCRIPTION:On the 3rd Wednesday of the month\, join us to watch a film chosen for its meaningful theme\, and stay for a facilitated discussion after. \nFree and open to all.
URL:https://www.ameliaisland.com/activity/cinema-conversation/2028-02-16/
LOCATION:Story & Song Centre for Arts and Culture\, 1430 Park Avenue\, Fernandina Beach\, FL\, 32034
ATTACH;FMTTYPE=image/jpeg:https://www.ameliaisland.com/wp-content/uploads/Cinema-Conversation-story-song.jpeg
END:VEVENT
BEGIN:VEVENT
DTSTART;TZID=America/New_York:20280315T170000
DTEND;TZID=America/New_York:20280315T190000
DTSTAMP:20260419T212552
CREATED:20240611T235936Z
LAST-MODIFIED:20240611T235936Z
UID:10009959-1836752400-1836759600@www.ameliaisland.com
SUMMARY:Cinema & Conversation
DESCRIPTION:On the 3rd Wednesday of the month\, join us to watch a film chosen for its meaningful theme\, and stay for a facilitated discussion after. \nFree and open to all.
URL:https://www.ameliaisland.com/activity/cinema-conversation/2028-03-15/
LOCATION:Story & Song Centre for Arts and Culture\, 1430 Park Avenue\, Fernandina Beach\, FL\, 32034
ATTACH;FMTTYPE=image/jpeg:https://www.ameliaisland.com/wp-content/uploads/Cinema-Conversation-story-song.jpeg
END:VEVENT
BEGIN:VEVENT
DTSTART;TZID=America/New_York:20280419T170000
DTEND;TZID=America/New_York:20280419T190000
DTSTAMP:20260419T212552
CREATED:20240611T235936Z
LAST-MODIFIED:20240611T235936Z
UID:10009960-1839776400-1839783600@www.ameliaisland.com
SUMMARY:Cinema & Conversation
DESCRIPTION:On the 3rd Wednesday of the month\, join us to watch a film chosen for its meaningful theme\, and stay for a facilitated discussion after. \nFree and open to all.
URL:https://www.ameliaisland.com/activity/cinema-conversation/2028-04-19/
LOCATION:Story & Song Centre for Arts and Culture\, 1430 Park Avenue\, Fernandina Beach\, FL\, 32034
ATTACH;FMTTYPE=image/jpeg:https://www.ameliaisland.com/wp-content/uploads/Cinema-Conversation-story-song.jpeg
END:VEVENT
BEGIN:VEVENT
DTSTART;TZID=America/New_York:20280517T170000
DTEND;TZID=America/New_York:20280517T190000
DTSTAMP:20260419T212552
CREATED:20240611T235936Z
LAST-MODIFIED:20240611T235936Z
UID:10009961-1842195600-1842202800@www.ameliaisland.com
SUMMARY:Cinema & Conversation
DESCRIPTION:On the 3rd Wednesday of the month\, join us to watch a film chosen for its meaningful theme\, and stay for a facilitated discussion after. \nFree and open to all.
URL:https://www.ameliaisland.com/activity/cinema-conversation/2028-05-17/
LOCATION:Story & Song Centre for Arts and Culture\, 1430 Park Avenue\, Fernandina Beach\, FL\, 32034
ATTACH;FMTTYPE=image/jpeg:https://www.ameliaisland.com/wp-content/uploads/Cinema-Conversation-story-song.jpeg
END:VEVENT
BEGIN:VEVENT
DTSTART;TZID=America/New_York:20280621T170000
DTEND;TZID=America/New_York:20280621T190000
DTSTAMP:20260419T212552
CREATED:20240611T235936Z
LAST-MODIFIED:20240611T235936Z
UID:10009962-1845219600-1845226800@www.ameliaisland.com
SUMMARY:Cinema & Conversation
DESCRIPTION:On the 3rd Wednesday of the month\, join us to watch a film chosen for its meaningful theme\, and stay for a facilitated discussion after. \nFree and open to all.
URL:https://www.ameliaisland.com/activity/cinema-conversation/2028-06-21/
LOCATION:Story & Song Centre for Arts and Culture\, 1430 Park Avenue\, Fernandina Beach\, FL\, 32034
ATTACH;FMTTYPE=image/jpeg:https://www.ameliaisland.com/wp-content/uploads/Cinema-Conversation-story-song.jpeg
END:VEVENT
BEGIN:VEVENT
DTSTART;TZID=America/New_York:20280719T170000
DTEND;TZID=America/New_York:20280719T190000
DTSTAMP:20260419T212552
CREATED:20240611T235936Z
LAST-MODIFIED:20240611T235936Z
UID:10009963-1847638800-1847646000@www.ameliaisland.com
SUMMARY:Cinema & Conversation
DESCRIPTION:On the 3rd Wednesday of the month\, join us to watch a film chosen for its meaningful theme\, and stay for a facilitated discussion after. \nFree and open to all.
URL:https://www.ameliaisland.com/activity/cinema-conversation/2028-07-19/
LOCATION:Story & Song Centre for Arts and Culture\, 1430 Park Avenue\, Fernandina Beach\, FL\, 32034
ATTACH;FMTTYPE=image/jpeg:https://www.ameliaisland.com/wp-content/uploads/Cinema-Conversation-story-song.jpeg
END:VEVENT
BEGIN:VEVENT
DTSTART;TZID=America/New_York:20280816T170000
DTEND;TZID=America/New_York:20280816T190000
DTSTAMP:20260419T212552
CREATED:20240611T235936Z
LAST-MODIFIED:20240611T235936Z
UID:10009964-1850058000-1850065200@www.ameliaisland.com
SUMMARY:Cinema & Conversation
DESCRIPTION:On the 3rd Wednesday of the month\, join us to watch a film chosen for its meaningful theme\, and stay for a facilitated discussion after. \nFree and open to all.
URL:https://www.ameliaisland.com/activity/cinema-conversation/2028-08-16/
LOCATION:Story & Song Centre for Arts and Culture\, 1430 Park Avenue\, Fernandina Beach\, FL\, 32034
ATTACH;FMTTYPE=image/jpeg:https://www.ameliaisland.com/wp-content/uploads/Cinema-Conversation-story-song.jpeg
END:VEVENT
BEGIN:VEVENT
DTSTART;TZID=America/New_York:20280920T170000
DTEND;TZID=America/New_York:20280920T190000
DTSTAMP:20260419T212552
CREATED:20240611T235936Z
LAST-MODIFIED:20240611T235936Z
UID:10009965-1853082000-1853089200@www.ameliaisland.com
SUMMARY:Cinema & Conversation
DESCRIPTION:On the 3rd Wednesday of the month\, join us to watch a film chosen for its meaningful theme\, and stay for a facilitated discussion after. \nFree and open to all.
URL:https://www.ameliaisland.com/activity/cinema-conversation/2028-09-20/
LOCATION:Story & Song Centre for Arts and Culture\, 1430 Park Avenue\, Fernandina Beach\, FL\, 32034
ATTACH;FMTTYPE=image/jpeg:https://www.ameliaisland.com/wp-content/uploads/Cinema-Conversation-story-song.jpeg
END:VEVENT
BEGIN:VEVENT
DTSTART;TZID=America/New_York:20281018T170000
DTEND;TZID=America/New_York:20281018T190000
DTSTAMP:20260419T212552
CREATED:20240611T235936Z
LAST-MODIFIED:20240611T235936Z
UID:10009966-1855501200-1855508400@www.ameliaisland.com
SUMMARY:Cinema & Conversation
DESCRIPTION:On the 3rd Wednesday of the month\, join us to watch a film chosen for its meaningful theme\, and stay for a facilitated discussion after. \nFree and open to all.
URL:https://www.ameliaisland.com/activity/cinema-conversation/2028-10-18/
LOCATION:Story & Song Centre for Arts and Culture\, 1430 Park Avenue\, Fernandina Beach\, FL\, 32034
ATTACH;FMTTYPE=image/jpeg:https://www.ameliaisland.com/wp-content/uploads/Cinema-Conversation-story-song.jpeg
END:VEVENT
BEGIN:VEVENT
DTSTART;TZID=America/New_York:20281115T170000
DTEND;TZID=America/New_York:20281115T190000
DTSTAMP:20260419T212552
CREATED:20240611T235936Z
LAST-MODIFIED:20240611T235936Z
UID:10009967-1857920400-1857927600@www.ameliaisland.com
SUMMARY:Cinema & Conversation
DESCRIPTION:On the 3rd Wednesday of the month\, join us to watch a film chosen for its meaningful theme\, and stay for a facilitated discussion after. \nFree and open to all.
URL:https://www.ameliaisland.com/activity/cinema-conversation/2028-11-15/
LOCATION:Story & Song Centre for Arts and Culture\, 1430 Park Avenue\, Fernandina Beach\, FL\, 32034
ATTACH;FMTTYPE=image/jpeg:https://www.ameliaisland.com/wp-content/uploads/Cinema-Conversation-story-song.jpeg
END:VEVENT
BEGIN:VEVENT
DTSTART;TZID=America/New_York:20281220T170000
DTEND;TZID=America/New_York:20281220T190000
DTSTAMP:20260419T212552
CREATED:20240611T235936Z
LAST-MODIFIED:20240611T235936Z
UID:10009968-1860944400-1860951600@www.ameliaisland.com
SUMMARY:Cinema & Conversation
DESCRIPTION:On the 3rd Wednesday of the month\, join us to watch a film chosen for its meaningful theme\, and stay for a facilitated discussion after. \nFree and open to all.
URL:https://www.ameliaisland.com/activity/cinema-conversation/2028-12-20/
LOCATION:Story & Song Centre for Arts and Culture\, 1430 Park Avenue\, Fernandina Beach\, FL\, 32034
ATTACH;FMTTYPE=image/jpeg:https://www.ameliaisland.com/wp-content/uploads/Cinema-Conversation-story-song.jpeg
END:VEVENT
BEGIN:VEVENT
DTSTART;TZID=America/New_York:20290117T170000
DTEND;TZID=America/New_York:20290117T190000
DTSTAMP:20260419T212552
CREATED:20240611T235936Z
LAST-MODIFIED:20240611T235936Z
UID:10009969-1863363600-1863370800@www.ameliaisland.com
SUMMARY:Cinema & Conversation
DESCRIPTION:On the 3rd Wednesday of the month\, join us to watch a film chosen for its meaningful theme\, and stay for a facilitated discussion after. \nFree and open to all.
URL:https://www.ameliaisland.com/activity/cinema-conversation/2029-01-17/
LOCATION:Story & Song Centre for Arts and Culture\, 1430 Park Avenue\, Fernandina Beach\, FL\, 32034
ATTACH;FMTTYPE=image/jpeg:https://www.ameliaisland.com/wp-content/uploads/Cinema-Conversation-story-song.jpeg
END:VEVENT
BEGIN:VEVENT
DTSTART;TZID=America/New_York:20290221T170000
DTEND;TZID=America/New_York:20290221T190000
DTSTAMP:20260419T212552
CREATED:20240611T235936Z
LAST-MODIFIED:20240611T235936Z
UID:10009970-1866387600-1866394800@www.ameliaisland.com
SUMMARY:Cinema & Conversation
DESCRIPTION:On the 3rd Wednesday of the month\, join us to watch a film chosen for its meaningful theme\, and stay for a facilitated discussion after. \nFree and open to all.
URL:https://www.ameliaisland.com/activity/cinema-conversation/2029-02-21/
LOCATION:Story & Song Centre for Arts and Culture\, 1430 Park Avenue\, Fernandina Beach\, FL\, 32034
ATTACH;FMTTYPE=image/jpeg:https://www.ameliaisland.com/wp-content/uploads/Cinema-Conversation-story-song.jpeg
END:VEVENT
BEGIN:VEVENT
DTSTART;TZID=America/New_York:20290321T170000
DTEND;TZID=America/New_York:20290321T190000
DTSTAMP:20260419T212552
CREATED:20240611T235936Z
LAST-MODIFIED:20240611T235936Z
UID:10009971-1868806800-1868814000@www.ameliaisland.com
SUMMARY:Cinema & Conversation
DESCRIPTION:On the 3rd Wednesday of the month\, join us to watch a film chosen for its meaningful theme\, and stay for a facilitated discussion after. \nFree and open to all.
URL:https://www.ameliaisland.com/activity/cinema-conversation/2029-03-21/
LOCATION:Story & Song Centre for Arts and Culture\, 1430 Park Avenue\, Fernandina Beach\, FL\, 32034
ATTACH;FMTTYPE=image/jpeg:https://www.ameliaisland.com/wp-content/uploads/Cinema-Conversation-story-song.jpeg
END:VEVENT
BEGIN:VEVENT
DTSTART;TZID=America/New_York:20290418T170000
DTEND;TZID=America/New_York:20290418T190000
DTSTAMP:20260419T212552
CREATED:20240611T235936Z
LAST-MODIFIED:20240611T235936Z
UID:10009972-1871226000-1871233200@www.ameliaisland.com
SUMMARY:Cinema & Conversation
DESCRIPTION:On the 3rd Wednesday of the month\, join us to watch a film chosen for its meaningful theme\, and stay for a facilitated discussion after. \nFree and open to all.
URL:https://www.ameliaisland.com/activity/cinema-conversation/2029-04-18/
LOCATION:Story & Song Centre for Arts and Culture\, 1430 Park Avenue\, Fernandina Beach\, FL\, 32034
ATTACH;FMTTYPE=image/jpeg:https://www.ameliaisland.com/wp-content/uploads/Cinema-Conversation-story-song.jpeg
END:VEVENT
BEGIN:VEVENT
DTSTART;TZID=America/New_York:20290516T170000
DTEND;TZID=America/New_York:20290516T190000
DTSTAMP:20260419T212552
CREATED:20240611T235936Z
LAST-MODIFIED:20240611T235936Z
UID:10009973-1873645200-1873652400@www.ameliaisland.com
SUMMARY:Cinema & Conversation
DESCRIPTION:On the 3rd Wednesday of the month\, join us to watch a film chosen for its meaningful theme\, and stay for a facilitated discussion after. \nFree and open to all.
URL:https://www.ameliaisland.com/activity/cinema-conversation/2029-05-16/
LOCATION:Story & Song Centre for Arts and Culture\, 1430 Park Avenue\, Fernandina Beach\, FL\, 32034
ATTACH;FMTTYPE=image/jpeg:https://www.ameliaisland.com/wp-content/uploads/Cinema-Conversation-story-song.jpeg
END:VEVENT
END:VCALENDAR