BEGIN:VCALENDAR
VERSION:2.0
PRODID:-//Amelia Island - ECPv6.8.0//NONSGML v1.0//EN
CALSCALE:GREGORIAN
METHOD:PUBLISH
X-WR-CALNAME:Amelia Island
X-ORIGINAL-URL:https://www.ameliaisland.com
X-WR-CALDESC:Events for Amelia Island
REFRESH-INTERVAL;VALUE=DURATION:PT1H
X-Robots-Tag:noindex
X-PUBLISHED-TTL:PT1H
BEGIN:VTIMEZONE
TZID:America/New_York
BEGIN:DAYLIGHT
TZOFFSETFROM:-0500
TZOFFSETTO:-0400
TZNAME:EDT
DTSTART:20260308T070000
END:DAYLIGHT
BEGIN:STANDARD
TZOFFSETFROM:-0400
TZOFFSETTO:-0500
TZNAME:EST
DTSTART:20261101T060000
END:STANDARD
END:VTIMEZONE
BEGIN:VEVENT
DTSTART;TZID=America/New_York:20260502T080000
DTEND;TZID=America/New_York:20260502T150000
DTSTAMP:20260420T080452
CREATED:20251217T171227Z
LAST-MODIFIED:20260105T224250Z
UID:10026419-1777708800-1777734000@www.ameliaisland.com
SUMMARY:9th Annual May Merriment NSCA
DESCRIPTION:Join us for the 9th Annual May Merriment NSCA at Amelia Shotgun Sports in Northeast Florida — just 10 minutes off I-95! \nEnjoy free breakfast & lunch for qualifying shooters\, plus cold water at every other station. \nNEW 2-Day Format:\nTwo separate 100-target Sporting Clays events — Green Course and Orange Course — available over two full days. Shoot both events on Saturday\, both on Sunday\, or split them between days. \nSchedule – Same Both Days:\n8:00 – 10:00 AM: Practice Targets Available\n8:30 AM – 2:30 PM: Green Course – European Start\n10:00 AM – 2:30 PM: Orange Course – European Start\nBreakfast: 8:00 – 11:30 AM\nLunch: 11:30 AM – 2:00 PM\nIncluded for any registered shooter arriving before 10:00 AM
URL:https://www.ameliaisland.com/activity/9th-annual-may-merriment-nsca/2026-05-02/
LOCATION:Amelia Shotgun Sports\, 86300 Hot Shot Trail\, Yulee\, FL\, 32034\, United States
ATTACH;FMTTYPE=image/jpeg:https://www.ameliaisland.com/wp-content/uploads/Amelia-Shotgun-Sports2.jpg
END:VEVENT
BEGIN:VEVENT
DTSTART;TZID=America/New_York:20260503T080000
DTEND;TZID=America/New_York:20260503T150000
DTSTAMP:20260420T080452
CREATED:20251217T171227Z
LAST-MODIFIED:20260105T224250Z
UID:10026422-1777795200-1777820400@www.ameliaisland.com
SUMMARY:9th Annual May Merriment NSCA
DESCRIPTION:Join us for the 9th Annual May Merriment NSCA at Amelia Shotgun Sports in Northeast Florida — just 10 minutes off I-95! \nEnjoy free breakfast & lunch for qualifying shooters\, plus cold water at every other station. \nNEW 2-Day Format:\nTwo separate 100-target Sporting Clays events — Green Course and Orange Course — available over two full days. Shoot both events on Saturday\, both on Sunday\, or split them between days. \nSchedule – Same Both Days:\n8:00 – 10:00 AM: Practice Targets Available\n8:30 AM – 2:30 PM: Green Course – European Start\n10:00 AM – 2:30 PM: Orange Course – European Start\nBreakfast: 8:00 – 11:30 AM\nLunch: 11:30 AM – 2:00 PM\nIncluded for any registered shooter arriving before 10:00 AM
URL:https://www.ameliaisland.com/activity/9th-annual-may-merriment-nsca/2026-05-03/
LOCATION:Amelia Shotgun Sports\, 86300 Hot Shot Trail\, Yulee\, FL\, 32034\, United States
ATTACH;FMTTYPE=image/jpeg:https://www.ameliaisland.com/wp-content/uploads/Amelia-Shotgun-Sports2.jpg
END:VEVENT
END:VCALENDAR