BEGIN:VCALENDAR
VERSION:2.0
PRODID:-//Amelia Island - ECPv6.8.0//NONSGML v1.0//EN
CALSCALE:GREGORIAN
METHOD:PUBLISH
X-WR-CALNAME:Amelia Island
X-ORIGINAL-URL:https://www.ameliaisland.com
X-WR-CALDESC:Events for Amelia Island
REFRESH-INTERVAL;VALUE=DURATION:PT1H
X-Robots-Tag:noindex
X-PUBLISHED-TTL:PT1H
BEGIN:VTIMEZONE
TZID:America/New_York
BEGIN:DAYLIGHT
TZOFFSETFROM:-0500
TZOFFSETTO:-0400
TZNAME:EDT
DTSTART:20260308T070000
END:DAYLIGHT
BEGIN:STANDARD
TZOFFSETFROM:-0400
TZOFFSETTO:-0500
TZNAME:EST
DTSTART:20261101T060000
END:STANDARD
BEGIN:DAYLIGHT
TZOFFSETFROM:-0500
TZOFFSETTO:-0400
TZNAME:EDT
DTSTART:20270314T070000
END:DAYLIGHT
BEGIN:STANDARD
TZOFFSETFROM:-0400
TZOFFSETTO:-0500
TZNAME:EST
DTSTART:20271107T060000
END:STANDARD
BEGIN:DAYLIGHT
TZOFFSETFROM:-0500
TZOFFSETTO:-0400
TZNAME:EDT
DTSTART:20280312T070000
END:DAYLIGHT
BEGIN:STANDARD
TZOFFSETFROM:-0400
TZOFFSETTO:-0500
TZNAME:EST
DTSTART:20281105T060000
END:STANDARD
END:VTIMEZONE
BEGIN:VEVENT
DTSTART;TZID=America/New_York:20260425T120000
DTEND;TZID=America/New_York:20260425T140000
DTSTAMP:20260420T053425
CREATED:20241017T125209Z
LAST-MODIFIED:20241017T125209Z
UID:10016145-1777118400-1777125600@www.ameliaisland.com
SUMMARY:Island Art Association - Critique Group
DESCRIPTION:An open discussion and critique group meets on the last Saturday of each month at Story & Song Bookstore Bistro from 12:00 noon-2:00 pm. All mediums are welcome. Artists may bring works in progress to receive the group’s support and views. \nStory & Song’s Bistro offers a breakfast and lunch menu.
URL:https://www.ameliaisland.com/activity/island-art-association-critique-group/2026-04-25/
LOCATION:Story & Song Centre for Arts and Culture\, 1430 Park Avenue\, Fernandina Beach\, FL\, 32034
ATTACH;FMTTYPE=image/jpeg:https://www.ameliaisland.com/wp-content/uploads/Story-Song-.jpg
END:VEVENT
BEGIN:VEVENT
DTSTART;TZID=America/New_York:20260530T120000
DTEND;TZID=America/New_York:20260530T140000
DTSTAMP:20260420T053425
CREATED:20241017T125209Z
LAST-MODIFIED:20241017T125209Z
UID:10016146-1780142400-1780149600@www.ameliaisland.com
SUMMARY:Island Art Association - Critique Group
DESCRIPTION:An open discussion and critique group meets on the last Saturday of each month at Story & Song Bookstore Bistro from 12:00 noon-2:00 pm. All mediums are welcome. Artists may bring works in progress to receive the group’s support and views. \nStory & Song’s Bistro offers a breakfast and lunch menu.
URL:https://www.ameliaisland.com/activity/island-art-association-critique-group/2026-05-30/
LOCATION:Story & Song Centre for Arts and Culture\, 1430 Park Avenue\, Fernandina Beach\, FL\, 32034
ATTACH;FMTTYPE=image/jpeg:https://www.ameliaisland.com/wp-content/uploads/Story-Song-.jpg
END:VEVENT
BEGIN:VEVENT
DTSTART;TZID=America/New_York:20260627T120000
DTEND;TZID=America/New_York:20260627T140000
DTSTAMP:20260420T053425
CREATED:20241017T125209Z
LAST-MODIFIED:20241017T125209Z
UID:10016147-1782561600-1782568800@www.ameliaisland.com
SUMMARY:Island Art Association - Critique Group
DESCRIPTION:An open discussion and critique group meets on the last Saturday of each month at Story & Song Bookstore Bistro from 12:00 noon-2:00 pm. All mediums are welcome. Artists may bring works in progress to receive the group’s support and views. \nStory & Song’s Bistro offers a breakfast and lunch menu.
URL:https://www.ameliaisland.com/activity/island-art-association-critique-group/2026-06-27/
LOCATION:Story & Song Centre for Arts and Culture\, 1430 Park Avenue\, Fernandina Beach\, FL\, 32034
ATTACH;FMTTYPE=image/jpeg:https://www.ameliaisland.com/wp-content/uploads/Story-Song-.jpg
END:VEVENT
BEGIN:VEVENT
DTSTART;TZID=America/New_York:20260725T120000
DTEND;TZID=America/New_York:20260725T140000
DTSTAMP:20260420T053425
CREATED:20241017T125209Z
LAST-MODIFIED:20241017T125209Z
UID:10016148-1784980800-1784988000@www.ameliaisland.com
SUMMARY:Island Art Association - Critique Group
DESCRIPTION:An open discussion and critique group meets on the last Saturday of each month at Story & Song Bookstore Bistro from 12:00 noon-2:00 pm. All mediums are welcome. Artists may bring works in progress to receive the group’s support and views. \nStory & Song’s Bistro offers a breakfast and lunch menu.
URL:https://www.ameliaisland.com/activity/island-art-association-critique-group/2026-07-25/
LOCATION:Story & Song Centre for Arts and Culture\, 1430 Park Avenue\, Fernandina Beach\, FL\, 32034
ATTACH;FMTTYPE=image/jpeg:https://www.ameliaisland.com/wp-content/uploads/Story-Song-.jpg
END:VEVENT
BEGIN:VEVENT
DTSTART;TZID=America/New_York:20260829T120000
DTEND;TZID=America/New_York:20260829T140000
DTSTAMP:20260420T053425
CREATED:20241017T125209Z
LAST-MODIFIED:20241017T125209Z
UID:10016149-1788004800-1788012000@www.ameliaisland.com
SUMMARY:Island Art Association - Critique Group
DESCRIPTION:An open discussion and critique group meets on the last Saturday of each month at Story & Song Bookstore Bistro from 12:00 noon-2:00 pm. All mediums are welcome. Artists may bring works in progress to receive the group’s support and views. \nStory & Song’s Bistro offers a breakfast and lunch menu.
URL:https://www.ameliaisland.com/activity/island-art-association-critique-group/2026-08-29/
LOCATION:Story & Song Centre for Arts and Culture\, 1430 Park Avenue\, Fernandina Beach\, FL\, 32034
ATTACH;FMTTYPE=image/jpeg:https://www.ameliaisland.com/wp-content/uploads/Story-Song-.jpg
END:VEVENT
BEGIN:VEVENT
DTSTART;TZID=America/New_York:20260926T120000
DTEND;TZID=America/New_York:20260926T140000
DTSTAMP:20260420T053425
CREATED:20241017T125209Z
LAST-MODIFIED:20241017T125209Z
UID:10016150-1790424000-1790431200@www.ameliaisland.com
SUMMARY:Island Art Association - Critique Group
DESCRIPTION:An open discussion and critique group meets on the last Saturday of each month at Story & Song Bookstore Bistro from 12:00 noon-2:00 pm. All mediums are welcome. Artists may bring works in progress to receive the group’s support and views. \nStory & Song’s Bistro offers a breakfast and lunch menu.
URL:https://www.ameliaisland.com/activity/island-art-association-critique-group/2026-09-26/
LOCATION:Story & Song Centre for Arts and Culture\, 1430 Park Avenue\, Fernandina Beach\, FL\, 32034
ATTACH;FMTTYPE=image/jpeg:https://www.ameliaisland.com/wp-content/uploads/Story-Song-.jpg
END:VEVENT
BEGIN:VEVENT
DTSTART;TZID=America/New_York:20261031T120000
DTEND;TZID=America/New_York:20261031T140000
DTSTAMP:20260420T053425
CREATED:20241017T125209Z
LAST-MODIFIED:20241017T125209Z
UID:10016151-1793448000-1793455200@www.ameliaisland.com
SUMMARY:Island Art Association - Critique Group
DESCRIPTION:An open discussion and critique group meets on the last Saturday of each month at Story & Song Bookstore Bistro from 12:00 noon-2:00 pm. All mediums are welcome. Artists may bring works in progress to receive the group’s support and views. \nStory & Song’s Bistro offers a breakfast and lunch menu.
URL:https://www.ameliaisland.com/activity/island-art-association-critique-group/2026-10-31/
LOCATION:Story & Song Centre for Arts and Culture\, 1430 Park Avenue\, Fernandina Beach\, FL\, 32034
ATTACH;FMTTYPE=image/jpeg:https://www.ameliaisland.com/wp-content/uploads/Story-Song-.jpg
END:VEVENT
BEGIN:VEVENT
DTSTART;TZID=America/New_York:20261128T120000
DTEND;TZID=America/New_York:20261128T140000
DTSTAMP:20260420T053425
CREATED:20241017T125209Z
LAST-MODIFIED:20241017T125209Z
UID:10016152-1795867200-1795874400@www.ameliaisland.com
SUMMARY:Island Art Association - Critique Group
DESCRIPTION:An open discussion and critique group meets on the last Saturday of each month at Story & Song Bookstore Bistro from 12:00 noon-2:00 pm. All mediums are welcome. Artists may bring works in progress to receive the group’s support and views. \nStory & Song’s Bistro offers a breakfast and lunch menu.
URL:https://www.ameliaisland.com/activity/island-art-association-critique-group/2026-11-28/
LOCATION:Story & Song Centre for Arts and Culture\, 1430 Park Avenue\, Fernandina Beach\, FL\, 32034
ATTACH;FMTTYPE=image/jpeg:https://www.ameliaisland.com/wp-content/uploads/Story-Song-.jpg
END:VEVENT
BEGIN:VEVENT
DTSTART;TZID=America/New_York:20261226T120000
DTEND;TZID=America/New_York:20261226T140000
DTSTAMP:20260420T053425
CREATED:20241017T125209Z
LAST-MODIFIED:20241017T125209Z
UID:10016153-1798286400-1798293600@www.ameliaisland.com
SUMMARY:Island Art Association - Critique Group
DESCRIPTION:An open discussion and critique group meets on the last Saturday of each month at Story & Song Bookstore Bistro from 12:00 noon-2:00 pm. All mediums are welcome. Artists may bring works in progress to receive the group’s support and views. \nStory & Song’s Bistro offers a breakfast and lunch menu.
URL:https://www.ameliaisland.com/activity/island-art-association-critique-group/2026-12-26/
LOCATION:Story & Song Centre for Arts and Culture\, 1430 Park Avenue\, Fernandina Beach\, FL\, 32034
ATTACH;FMTTYPE=image/jpeg:https://www.ameliaisland.com/wp-content/uploads/Story-Song-.jpg
END:VEVENT
BEGIN:VEVENT
DTSTART;TZID=America/New_York:20270130T120000
DTEND;TZID=America/New_York:20270130T140000
DTSTAMP:20260420T053425
CREATED:20241017T125209Z
LAST-MODIFIED:20241017T125209Z
UID:10016154-1801310400-1801317600@www.ameliaisland.com
SUMMARY:Island Art Association - Critique Group
DESCRIPTION:An open discussion and critique group meets on the last Saturday of each month at Story & Song Bookstore Bistro from 12:00 noon-2:00 pm. All mediums are welcome. Artists may bring works in progress to receive the group’s support and views. \nStory & Song’s Bistro offers a breakfast and lunch menu.
URL:https://www.ameliaisland.com/activity/island-art-association-critique-group/2027-01-30/
LOCATION:Story & Song Centre for Arts and Culture\, 1430 Park Avenue\, Fernandina Beach\, FL\, 32034
ATTACH;FMTTYPE=image/jpeg:https://www.ameliaisland.com/wp-content/uploads/Story-Song-.jpg
END:VEVENT
BEGIN:VEVENT
DTSTART;TZID=America/New_York:20270227T120000
DTEND;TZID=America/New_York:20270227T140000
DTSTAMP:20260420T053425
CREATED:20241017T125209Z
LAST-MODIFIED:20241017T125209Z
UID:10016155-1803729600-1803736800@www.ameliaisland.com
SUMMARY:Island Art Association - Critique Group
DESCRIPTION:An open discussion and critique group meets on the last Saturday of each month at Story & Song Bookstore Bistro from 12:00 noon-2:00 pm. All mediums are welcome. Artists may bring works in progress to receive the group’s support and views. \nStory & Song’s Bistro offers a breakfast and lunch menu.
URL:https://www.ameliaisland.com/activity/island-art-association-critique-group/2027-02-27/
LOCATION:Story & Song Centre for Arts and Culture\, 1430 Park Avenue\, Fernandina Beach\, FL\, 32034
ATTACH;FMTTYPE=image/jpeg:https://www.ameliaisland.com/wp-content/uploads/Story-Song-.jpg
END:VEVENT
BEGIN:VEVENT
DTSTART;TZID=America/New_York:20270327T120000
DTEND;TZID=America/New_York:20270327T140000
DTSTAMP:20260420T053425
CREATED:20241017T125209Z
LAST-MODIFIED:20241017T125209Z
UID:10016156-1806148800-1806156000@www.ameliaisland.com
SUMMARY:Island Art Association - Critique Group
DESCRIPTION:An open discussion and critique group meets on the last Saturday of each month at Story & Song Bookstore Bistro from 12:00 noon-2:00 pm. All mediums are welcome. Artists may bring works in progress to receive the group’s support and views. \nStory & Song’s Bistro offers a breakfast and lunch menu.
URL:https://www.ameliaisland.com/activity/island-art-association-critique-group/2027-03-27/
LOCATION:Story & Song Centre for Arts and Culture\, 1430 Park Avenue\, Fernandina Beach\, FL\, 32034
ATTACH;FMTTYPE=image/jpeg:https://www.ameliaisland.com/wp-content/uploads/Story-Song-.jpg
END:VEVENT
BEGIN:VEVENT
DTSTART;TZID=America/New_York:20270424T120000
DTEND;TZID=America/New_York:20270424T140000
DTSTAMP:20260420T053426
CREATED:20241017T125209Z
LAST-MODIFIED:20241017T125209Z
UID:10016157-1808568000-1808575200@www.ameliaisland.com
SUMMARY:Island Art Association - Critique Group
DESCRIPTION:An open discussion and critique group meets on the last Saturday of each month at Story & Song Bookstore Bistro from 12:00 noon-2:00 pm. All mediums are welcome. Artists may bring works in progress to receive the group’s support and views. \nStory & Song’s Bistro offers a breakfast and lunch menu.
URL:https://www.ameliaisland.com/activity/island-art-association-critique-group/2027-04-24/
LOCATION:Story & Song Centre for Arts and Culture\, 1430 Park Avenue\, Fernandina Beach\, FL\, 32034
ATTACH;FMTTYPE=image/jpeg:https://www.ameliaisland.com/wp-content/uploads/Story-Song-.jpg
END:VEVENT
BEGIN:VEVENT
DTSTART;TZID=America/New_York:20270529T120000
DTEND;TZID=America/New_York:20270529T140000
DTSTAMP:20260420T053426
CREATED:20241017T125209Z
LAST-MODIFIED:20241017T125209Z
UID:10016158-1811592000-1811599200@www.ameliaisland.com
SUMMARY:Island Art Association - Critique Group
DESCRIPTION:An open discussion and critique group meets on the last Saturday of each month at Story & Song Bookstore Bistro from 12:00 noon-2:00 pm. All mediums are welcome. Artists may bring works in progress to receive the group’s support and views. \nStory & Song’s Bistro offers a breakfast and lunch menu.
URL:https://www.ameliaisland.com/activity/island-art-association-critique-group/2027-05-29/
LOCATION:Story & Song Centre for Arts and Culture\, 1430 Park Avenue\, Fernandina Beach\, FL\, 32034
ATTACH;FMTTYPE=image/jpeg:https://www.ameliaisland.com/wp-content/uploads/Story-Song-.jpg
END:VEVENT
BEGIN:VEVENT
DTSTART;TZID=America/New_York:20270626T120000
DTEND;TZID=America/New_York:20270626T140000
DTSTAMP:20260420T053426
CREATED:20241017T125209Z
LAST-MODIFIED:20241017T125209Z
UID:10016159-1814011200-1814018400@www.ameliaisland.com
SUMMARY:Island Art Association - Critique Group
DESCRIPTION:An open discussion and critique group meets on the last Saturday of each month at Story & Song Bookstore Bistro from 12:00 noon-2:00 pm. All mediums are welcome. Artists may bring works in progress to receive the group’s support and views. \nStory & Song’s Bistro offers a breakfast and lunch menu.
URL:https://www.ameliaisland.com/activity/island-art-association-critique-group/2027-06-26/
LOCATION:Story & Song Centre for Arts and Culture\, 1430 Park Avenue\, Fernandina Beach\, FL\, 32034
ATTACH;FMTTYPE=image/jpeg:https://www.ameliaisland.com/wp-content/uploads/Story-Song-.jpg
END:VEVENT
BEGIN:VEVENT
DTSTART;TZID=America/New_York:20270731T120000
DTEND;TZID=America/New_York:20270731T140000
DTSTAMP:20260420T053426
CREATED:20241017T125209Z
LAST-MODIFIED:20241017T125209Z
UID:10016160-1817035200-1817042400@www.ameliaisland.com
SUMMARY:Island Art Association - Critique Group
DESCRIPTION:An open discussion and critique group meets on the last Saturday of each month at Story & Song Bookstore Bistro from 12:00 noon-2:00 pm. All mediums are welcome. Artists may bring works in progress to receive the group’s support and views. \nStory & Song’s Bistro offers a breakfast and lunch menu.
URL:https://www.ameliaisland.com/activity/island-art-association-critique-group/2027-07-31/
LOCATION:Story & Song Centre for Arts and Culture\, 1430 Park Avenue\, Fernandina Beach\, FL\, 32034
ATTACH;FMTTYPE=image/jpeg:https://www.ameliaisland.com/wp-content/uploads/Story-Song-.jpg
END:VEVENT
BEGIN:VEVENT
DTSTART;TZID=America/New_York:20270828T120000
DTEND;TZID=America/New_York:20270828T140000
DTSTAMP:20260420T053426
CREATED:20241017T125209Z
LAST-MODIFIED:20241017T125209Z
UID:10016161-1819454400-1819461600@www.ameliaisland.com
SUMMARY:Island Art Association - Critique Group
DESCRIPTION:An open discussion and critique group meets on the last Saturday of each month at Story & Song Bookstore Bistro from 12:00 noon-2:00 pm. All mediums are welcome. Artists may bring works in progress to receive the group’s support and views. \nStory & Song’s Bistro offers a breakfast and lunch menu.
URL:https://www.ameliaisland.com/activity/island-art-association-critique-group/2027-08-28/
LOCATION:Story & Song Centre for Arts and Culture\, 1430 Park Avenue\, Fernandina Beach\, FL\, 32034
ATTACH;FMTTYPE=image/jpeg:https://www.ameliaisland.com/wp-content/uploads/Story-Song-.jpg
END:VEVENT
BEGIN:VEVENT
DTSTART;TZID=America/New_York:20270925T120000
DTEND;TZID=America/New_York:20270925T140000
DTSTAMP:20260420T053426
CREATED:20241017T125209Z
LAST-MODIFIED:20241017T125209Z
UID:10016162-1821873600-1821880800@www.ameliaisland.com
SUMMARY:Island Art Association - Critique Group
DESCRIPTION:An open discussion and critique group meets on the last Saturday of each month at Story & Song Bookstore Bistro from 12:00 noon-2:00 pm. All mediums are welcome. Artists may bring works in progress to receive the group’s support and views. \nStory & Song’s Bistro offers a breakfast and lunch menu.
URL:https://www.ameliaisland.com/activity/island-art-association-critique-group/2027-09-25/
LOCATION:Story & Song Centre for Arts and Culture\, 1430 Park Avenue\, Fernandina Beach\, FL\, 32034
ATTACH;FMTTYPE=image/jpeg:https://www.ameliaisland.com/wp-content/uploads/Story-Song-.jpg
END:VEVENT
BEGIN:VEVENT
DTSTART;TZID=America/New_York:20271030T120000
DTEND;TZID=America/New_York:20271030T140000
DTSTAMP:20260420T053426
CREATED:20241017T125209Z
LAST-MODIFIED:20241017T125209Z
UID:10016163-1824897600-1824904800@www.ameliaisland.com
SUMMARY:Island Art Association - Critique Group
DESCRIPTION:An open discussion and critique group meets on the last Saturday of each month at Story & Song Bookstore Bistro from 12:00 noon-2:00 pm. All mediums are welcome. Artists may bring works in progress to receive the group’s support and views. \nStory & Song’s Bistro offers a breakfast and lunch menu.
URL:https://www.ameliaisland.com/activity/island-art-association-critique-group/2027-10-30/
LOCATION:Story & Song Centre for Arts and Culture\, 1430 Park Avenue\, Fernandina Beach\, FL\, 32034
ATTACH;FMTTYPE=image/jpeg:https://www.ameliaisland.com/wp-content/uploads/Story-Song-.jpg
END:VEVENT
BEGIN:VEVENT
DTSTART;TZID=America/New_York:20271127T120000
DTEND;TZID=America/New_York:20271127T140000
DTSTAMP:20260420T053426
CREATED:20241017T125209Z
LAST-MODIFIED:20241017T125209Z
UID:10016164-1827316800-1827324000@www.ameliaisland.com
SUMMARY:Island Art Association - Critique Group
DESCRIPTION:An open discussion and critique group meets on the last Saturday of each month at Story & Song Bookstore Bistro from 12:00 noon-2:00 pm. All mediums are welcome. Artists may bring works in progress to receive the group’s support and views. \nStory & Song’s Bistro offers a breakfast and lunch menu.
URL:https://www.ameliaisland.com/activity/island-art-association-critique-group/2027-11-27/
LOCATION:Story & Song Centre for Arts and Culture\, 1430 Park Avenue\, Fernandina Beach\, FL\, 32034
ATTACH;FMTTYPE=image/jpeg:https://www.ameliaisland.com/wp-content/uploads/Story-Song-.jpg
END:VEVENT
BEGIN:VEVENT
DTSTART;TZID=America/New_York:20271225T120000
DTEND;TZID=America/New_York:20271225T140000
DTSTAMP:20260420T053426
CREATED:20241017T125209Z
LAST-MODIFIED:20241017T125209Z
UID:10016165-1829736000-1829743200@www.ameliaisland.com
SUMMARY:Island Art Association - Critique Group
DESCRIPTION:An open discussion and critique group meets on the last Saturday of each month at Story & Song Bookstore Bistro from 12:00 noon-2:00 pm. All mediums are welcome. Artists may bring works in progress to receive the group’s support and views. \nStory & Song’s Bistro offers a breakfast and lunch menu.
URL:https://www.ameliaisland.com/activity/island-art-association-critique-group/2027-12-25/
LOCATION:Story & Song Centre for Arts and Culture\, 1430 Park Avenue\, Fernandina Beach\, FL\, 32034
ATTACH;FMTTYPE=image/jpeg:https://www.ameliaisland.com/wp-content/uploads/Story-Song-.jpg
END:VEVENT
BEGIN:VEVENT
DTSTART;TZID=America/New_York:20280129T120000
DTEND;TZID=America/New_York:20280129T140000
DTSTAMP:20260420T053426
CREATED:20241017T125209Z
LAST-MODIFIED:20241017T125209Z
UID:10016166-1832760000-1832767200@www.ameliaisland.com
SUMMARY:Island Art Association - Critique Group
DESCRIPTION:An open discussion and critique group meets on the last Saturday of each month at Story & Song Bookstore Bistro from 12:00 noon-2:00 pm. All mediums are welcome. Artists may bring works in progress to receive the group’s support and views. \nStory & Song’s Bistro offers a breakfast and lunch menu.
URL:https://www.ameliaisland.com/activity/island-art-association-critique-group/2028-01-29/
LOCATION:Story & Song Centre for Arts and Culture\, 1430 Park Avenue\, Fernandina Beach\, FL\, 32034
ATTACH;FMTTYPE=image/jpeg:https://www.ameliaisland.com/wp-content/uploads/Story-Song-.jpg
END:VEVENT
BEGIN:VEVENT
DTSTART;TZID=America/New_York:20280226T120000
DTEND;TZID=America/New_York:20280226T140000
DTSTAMP:20260420T053426
CREATED:20241017T125209Z
LAST-MODIFIED:20241017T125209Z
UID:10016167-1835179200-1835186400@www.ameliaisland.com
SUMMARY:Island Art Association - Critique Group
DESCRIPTION:An open discussion and critique group meets on the last Saturday of each month at Story & Song Bookstore Bistro from 12:00 noon-2:00 pm. All mediums are welcome. Artists may bring works in progress to receive the group’s support and views. \nStory & Song’s Bistro offers a breakfast and lunch menu.
URL:https://www.ameliaisland.com/activity/island-art-association-critique-group/2028-02-26/
LOCATION:Story & Song Centre for Arts and Culture\, 1430 Park Avenue\, Fernandina Beach\, FL\, 32034
ATTACH;FMTTYPE=image/jpeg:https://www.ameliaisland.com/wp-content/uploads/Story-Song-.jpg
END:VEVENT
BEGIN:VEVENT
DTSTART;TZID=America/New_York:20280325T120000
DTEND;TZID=America/New_York:20280325T140000
DTSTAMP:20260420T053426
CREATED:20241017T125209Z
LAST-MODIFIED:20241017T125209Z
UID:10016168-1837598400-1837605600@www.ameliaisland.com
SUMMARY:Island Art Association - Critique Group
DESCRIPTION:An open discussion and critique group meets on the last Saturday of each month at Story & Song Bookstore Bistro from 12:00 noon-2:00 pm. All mediums are welcome. Artists may bring works in progress to receive the group’s support and views. \nStory & Song’s Bistro offers a breakfast and lunch menu.
URL:https://www.ameliaisland.com/activity/island-art-association-critique-group/2028-03-25/
LOCATION:Story & Song Centre for Arts and Culture\, 1430 Park Avenue\, Fernandina Beach\, FL\, 32034
ATTACH;FMTTYPE=image/jpeg:https://www.ameliaisland.com/wp-content/uploads/Story-Song-.jpg
END:VEVENT
BEGIN:VEVENT
DTSTART;TZID=America/New_York:20280429T120000
DTEND;TZID=America/New_York:20280429T140000
DTSTAMP:20260420T053426
CREATED:20241017T125209Z
LAST-MODIFIED:20241017T125209Z
UID:10016169-1840622400-1840629600@www.ameliaisland.com
SUMMARY:Island Art Association - Critique Group
DESCRIPTION:An open discussion and critique group meets on the last Saturday of each month at Story & Song Bookstore Bistro from 12:00 noon-2:00 pm. All mediums are welcome. Artists may bring works in progress to receive the group’s support and views. \nStory & Song’s Bistro offers a breakfast and lunch menu.
URL:https://www.ameliaisland.com/activity/island-art-association-critique-group/2028-04-29/
LOCATION:Story & Song Centre for Arts and Culture\, 1430 Park Avenue\, Fernandina Beach\, FL\, 32034
ATTACH;FMTTYPE=image/jpeg:https://www.ameliaisland.com/wp-content/uploads/Story-Song-.jpg
END:VEVENT
BEGIN:VEVENT
DTSTART;TZID=America/New_York:20280527T120000
DTEND;TZID=America/New_York:20280527T140000
DTSTAMP:20260420T053426
CREATED:20241017T125209Z
LAST-MODIFIED:20241017T125209Z
UID:10016170-1843041600-1843048800@www.ameliaisland.com
SUMMARY:Island Art Association - Critique Group
DESCRIPTION:An open discussion and critique group meets on the last Saturday of each month at Story & Song Bookstore Bistro from 12:00 noon-2:00 pm. All mediums are welcome. Artists may bring works in progress to receive the group’s support and views. \nStory & Song’s Bistro offers a breakfast and lunch menu.
URL:https://www.ameliaisland.com/activity/island-art-association-critique-group/2028-05-27/
LOCATION:Story & Song Centre for Arts and Culture\, 1430 Park Avenue\, Fernandina Beach\, FL\, 32034
ATTACH;FMTTYPE=image/jpeg:https://www.ameliaisland.com/wp-content/uploads/Story-Song-.jpg
END:VEVENT
BEGIN:VEVENT
DTSTART;TZID=America/New_York:20280624T120000
DTEND;TZID=America/New_York:20280624T140000
DTSTAMP:20260420T053426
CREATED:20241017T125209Z
LAST-MODIFIED:20241017T125209Z
UID:10016171-1845460800-1845468000@www.ameliaisland.com
SUMMARY:Island Art Association - Critique Group
DESCRIPTION:An open discussion and critique group meets on the last Saturday of each month at Story & Song Bookstore Bistro from 12:00 noon-2:00 pm. All mediums are welcome. Artists may bring works in progress to receive the group’s support and views. \nStory & Song’s Bistro offers a breakfast and lunch menu.
URL:https://www.ameliaisland.com/activity/island-art-association-critique-group/2028-06-24/
LOCATION:Story & Song Centre for Arts and Culture\, 1430 Park Avenue\, Fernandina Beach\, FL\, 32034
ATTACH;FMTTYPE=image/jpeg:https://www.ameliaisland.com/wp-content/uploads/Story-Song-.jpg
END:VEVENT
BEGIN:VEVENT
DTSTART;TZID=America/New_York:20280729T120000
DTEND;TZID=America/New_York:20280729T140000
DTSTAMP:20260420T053426
CREATED:20241017T125209Z
LAST-MODIFIED:20241017T125209Z
UID:10016172-1848484800-1848492000@www.ameliaisland.com
SUMMARY:Island Art Association - Critique Group
DESCRIPTION:An open discussion and critique group meets on the last Saturday of each month at Story & Song Bookstore Bistro from 12:00 noon-2:00 pm. All mediums are welcome. Artists may bring works in progress to receive the group’s support and views. \nStory & Song’s Bistro offers a breakfast and lunch menu.
URL:https://www.ameliaisland.com/activity/island-art-association-critique-group/2028-07-29/
LOCATION:Story & Song Centre for Arts and Culture\, 1430 Park Avenue\, Fernandina Beach\, FL\, 32034
ATTACH;FMTTYPE=image/jpeg:https://www.ameliaisland.com/wp-content/uploads/Story-Song-.jpg
END:VEVENT
BEGIN:VEVENT
DTSTART;TZID=America/New_York:20280826T120000
DTEND;TZID=America/New_York:20280826T140000
DTSTAMP:20260420T053426
CREATED:20241017T125209Z
LAST-MODIFIED:20241017T125209Z
UID:10016173-1850904000-1850911200@www.ameliaisland.com
SUMMARY:Island Art Association - Critique Group
DESCRIPTION:An open discussion and critique group meets on the last Saturday of each month at Story & Song Bookstore Bistro from 12:00 noon-2:00 pm. All mediums are welcome. Artists may bring works in progress to receive the group’s support and views. \nStory & Song’s Bistro offers a breakfast and lunch menu.
URL:https://www.ameliaisland.com/activity/island-art-association-critique-group/2028-08-26/
LOCATION:Story & Song Centre for Arts and Culture\, 1430 Park Avenue\, Fernandina Beach\, FL\, 32034
ATTACH;FMTTYPE=image/jpeg:https://www.ameliaisland.com/wp-content/uploads/Story-Song-.jpg
END:VEVENT
BEGIN:VEVENT
DTSTART;TZID=America/New_York:20280930T120000
DTEND;TZID=America/New_York:20280930T140000
DTSTAMP:20260420T053426
CREATED:20241017T125209Z
LAST-MODIFIED:20241017T125209Z
UID:10016174-1853928000-1853935200@www.ameliaisland.com
SUMMARY:Island Art Association - Critique Group
DESCRIPTION:An open discussion and critique group meets on the last Saturday of each month at Story & Song Bookstore Bistro from 12:00 noon-2:00 pm. All mediums are welcome. Artists may bring works in progress to receive the group’s support and views. \nStory & Song’s Bistro offers a breakfast and lunch menu.
URL:https://www.ameliaisland.com/activity/island-art-association-critique-group/2028-09-30/
LOCATION:Story & Song Centre for Arts and Culture\, 1430 Park Avenue\, Fernandina Beach\, FL\, 32034
ATTACH;FMTTYPE=image/jpeg:https://www.ameliaisland.com/wp-content/uploads/Story-Song-.jpg
END:VEVENT
END:VCALENDAR