BEGIN:VCALENDAR
VERSION:2.0
PRODID:-//Amelia Island - ECPv6.8.0//NONSGML v1.0//EN
CALSCALE:GREGORIAN
METHOD:PUBLISH
X-WR-CALNAME:Amelia Island
X-ORIGINAL-URL:https://www.ameliaisland.com
X-WR-CALDESC:Events for Amelia Island
REFRESH-INTERVAL;VALUE=DURATION:PT1H
X-Robots-Tag:noindex
X-PUBLISHED-TTL:PT1H
BEGIN:VTIMEZONE
TZID:America/New_York
BEGIN:DAYLIGHT
TZOFFSETFROM:-0500
TZOFFSETTO:-0400
TZNAME:EDT
DTSTART:20260308T070000
END:DAYLIGHT
BEGIN:STANDARD
TZOFFSETFROM:-0400
TZOFFSETTO:-0500
TZNAME:EST
DTSTART:20261101T060000
END:STANDARD
BEGIN:DAYLIGHT
TZOFFSETFROM:-0500
TZOFFSETTO:-0400
TZNAME:EDT
DTSTART:20270314T070000
END:DAYLIGHT
BEGIN:STANDARD
TZOFFSETFROM:-0400
TZOFFSETTO:-0500
TZNAME:EST
DTSTART:20271107T060000
END:STANDARD
BEGIN:DAYLIGHT
TZOFFSETFROM:-0500
TZOFFSETTO:-0400
TZNAME:EDT
DTSTART:20280312T070000
END:DAYLIGHT
BEGIN:STANDARD
TZOFFSETFROM:-0400
TZOFFSETTO:-0500
TZNAME:EST
DTSTART:20281105T060000
END:STANDARD
END:VTIMEZONE
BEGIN:VEVENT
DTSTART;TZID=America/New_York:20260420T100000
DTEND;TZID=America/New_York:20260420T113000
DTSTAMP:20260419T180640
CREATED:20240611T235616Z
LAST-MODIFIED:20240611T235616Z
UID:10009876-1776679200-1776684600@www.ameliaisland.com
SUMMARY:Welcome Coffee with Women of Nassau
DESCRIPTION:New to Fernandina? Want to get involved in the community? \nAll women\, including new and current members\, are invited to join the Women of Nassau’s monthly coffee get-together at Story & Song. \nThis event is FREE with light refreshments. No RSVP needed. (3rd Monday of every month)
URL:https://www.ameliaisland.com/activity/welcome-coffee-with-women-of-nassau/2026-04-20/
LOCATION:Story & Song Centre for Arts and Culture\, 1430 Park Avenue\, Fernandina Beach\, FL\, 32034
ATTACH;FMTTYPE=image/jpeg:https://www.ameliaisland.com/wp-content/uploads/Women-of-Nassau-Story-Song.jpg
END:VEVENT
BEGIN:VEVENT
DTSTART;TZID=America/New_York:20260518T100000
DTEND;TZID=America/New_York:20260518T113000
DTSTAMP:20260419T180640
CREATED:20240611T235616Z
LAST-MODIFIED:20240611T235616Z
UID:10009877-1779098400-1779103800@www.ameliaisland.com
SUMMARY:Welcome Coffee with Women of Nassau
DESCRIPTION:New to Fernandina? Want to get involved in the community? \nAll women\, including new and current members\, are invited to join the Women of Nassau’s monthly coffee get-together at Story & Song. \nThis event is FREE with light refreshments. No RSVP needed. (3rd Monday of every month)
URL:https://www.ameliaisland.com/activity/welcome-coffee-with-women-of-nassau/2026-05-18/
LOCATION:Story & Song Centre for Arts and Culture\, 1430 Park Avenue\, Fernandina Beach\, FL\, 32034
ATTACH;FMTTYPE=image/jpeg:https://www.ameliaisland.com/wp-content/uploads/Women-of-Nassau-Story-Song.jpg
END:VEVENT
BEGIN:VEVENT
DTSTART;TZID=America/New_York:20260615T100000
DTEND;TZID=America/New_York:20260615T113000
DTSTAMP:20260419T180640
CREATED:20240611T235616Z
LAST-MODIFIED:20240611T235616Z
UID:10009878-1781517600-1781523000@www.ameliaisland.com
SUMMARY:Welcome Coffee with Women of Nassau
DESCRIPTION:New to Fernandina? Want to get involved in the community? \nAll women\, including new and current members\, are invited to join the Women of Nassau’s monthly coffee get-together at Story & Song. \nThis event is FREE with light refreshments. No RSVP needed. (3rd Monday of every month)
URL:https://www.ameliaisland.com/activity/welcome-coffee-with-women-of-nassau/2026-06-15/
LOCATION:Story & Song Centre for Arts and Culture\, 1430 Park Avenue\, Fernandina Beach\, FL\, 32034
ATTACH;FMTTYPE=image/jpeg:https://www.ameliaisland.com/wp-content/uploads/Women-of-Nassau-Story-Song.jpg
END:VEVENT
BEGIN:VEVENT
DTSTART;TZID=America/New_York:20260720T100000
DTEND;TZID=America/New_York:20260720T113000
DTSTAMP:20260419T180640
CREATED:20240611T235616Z
LAST-MODIFIED:20240611T235616Z
UID:10009879-1784541600-1784547000@www.ameliaisland.com
SUMMARY:Welcome Coffee with Women of Nassau
DESCRIPTION:New to Fernandina? Want to get involved in the community? \nAll women\, including new and current members\, are invited to join the Women of Nassau’s monthly coffee get-together at Story & Song. \nThis event is FREE with light refreshments. No RSVP needed. (3rd Monday of every month)
URL:https://www.ameliaisland.com/activity/welcome-coffee-with-women-of-nassau/2026-07-20/
LOCATION:Story & Song Centre for Arts and Culture\, 1430 Park Avenue\, Fernandina Beach\, FL\, 32034
ATTACH;FMTTYPE=image/jpeg:https://www.ameliaisland.com/wp-content/uploads/Women-of-Nassau-Story-Song.jpg
END:VEVENT
BEGIN:VEVENT
DTSTART;TZID=America/New_York:20260817T100000
DTEND;TZID=America/New_York:20260817T113000
DTSTAMP:20260419T180640
CREATED:20240611T235616Z
LAST-MODIFIED:20240611T235616Z
UID:10009880-1786960800-1786966200@www.ameliaisland.com
SUMMARY:Welcome Coffee with Women of Nassau
DESCRIPTION:New to Fernandina? Want to get involved in the community? \nAll women\, including new and current members\, are invited to join the Women of Nassau’s monthly coffee get-together at Story & Song. \nThis event is FREE with light refreshments. No RSVP needed. (3rd Monday of every month)
URL:https://www.ameliaisland.com/activity/welcome-coffee-with-women-of-nassau/2026-08-17/
LOCATION:Story & Song Centre for Arts and Culture\, 1430 Park Avenue\, Fernandina Beach\, FL\, 32034
ATTACH;FMTTYPE=image/jpeg:https://www.ameliaisland.com/wp-content/uploads/Women-of-Nassau-Story-Song.jpg
END:VEVENT
BEGIN:VEVENT
DTSTART;TZID=America/New_York:20260921T100000
DTEND;TZID=America/New_York:20260921T113000
DTSTAMP:20260419T180640
CREATED:20240611T235616Z
LAST-MODIFIED:20240611T235616Z
UID:10009881-1789984800-1789990200@www.ameliaisland.com
SUMMARY:Welcome Coffee with Women of Nassau
DESCRIPTION:New to Fernandina? Want to get involved in the community? \nAll women\, including new and current members\, are invited to join the Women of Nassau’s monthly coffee get-together at Story & Song. \nThis event is FREE with light refreshments. No RSVP needed. (3rd Monday of every month)
URL:https://www.ameliaisland.com/activity/welcome-coffee-with-women-of-nassau/2026-09-21/
LOCATION:Story & Song Centre for Arts and Culture\, 1430 Park Avenue\, Fernandina Beach\, FL\, 32034
ATTACH;FMTTYPE=image/jpeg:https://www.ameliaisland.com/wp-content/uploads/Women-of-Nassau-Story-Song.jpg
END:VEVENT
BEGIN:VEVENT
DTSTART;TZID=America/New_York:20261019T100000
DTEND;TZID=America/New_York:20261019T113000
DTSTAMP:20260419T180640
CREATED:20240611T235616Z
LAST-MODIFIED:20240611T235616Z
UID:10009882-1792404000-1792409400@www.ameliaisland.com
SUMMARY:Welcome Coffee with Women of Nassau
DESCRIPTION:New to Fernandina? Want to get involved in the community? \nAll women\, including new and current members\, are invited to join the Women of Nassau’s monthly coffee get-together at Story & Song. \nThis event is FREE with light refreshments. No RSVP needed. (3rd Monday of every month)
URL:https://www.ameliaisland.com/activity/welcome-coffee-with-women-of-nassau/2026-10-19/
LOCATION:Story & Song Centre for Arts and Culture\, 1430 Park Avenue\, Fernandina Beach\, FL\, 32034
ATTACH;FMTTYPE=image/jpeg:https://www.ameliaisland.com/wp-content/uploads/Women-of-Nassau-Story-Song.jpg
END:VEVENT
BEGIN:VEVENT
DTSTART;TZID=America/New_York:20261116T100000
DTEND;TZID=America/New_York:20261116T113000
DTSTAMP:20260419T180640
CREATED:20240611T235616Z
LAST-MODIFIED:20240611T235616Z
UID:10009883-1794823200-1794828600@www.ameliaisland.com
SUMMARY:Welcome Coffee with Women of Nassau
DESCRIPTION:New to Fernandina? Want to get involved in the community? \nAll women\, including new and current members\, are invited to join the Women of Nassau’s monthly coffee get-together at Story & Song. \nThis event is FREE with light refreshments. No RSVP needed. (3rd Monday of every month)
URL:https://www.ameliaisland.com/activity/welcome-coffee-with-women-of-nassau/2026-11-16/
LOCATION:Story & Song Centre for Arts and Culture\, 1430 Park Avenue\, Fernandina Beach\, FL\, 32034
ATTACH;FMTTYPE=image/jpeg:https://www.ameliaisland.com/wp-content/uploads/Women-of-Nassau-Story-Song.jpg
END:VEVENT
BEGIN:VEVENT
DTSTART;TZID=America/New_York:20261221T100000
DTEND;TZID=America/New_York:20261221T113000
DTSTAMP:20260419T180640
CREATED:20240611T235616Z
LAST-MODIFIED:20240611T235616Z
UID:10009884-1797847200-1797852600@www.ameliaisland.com
SUMMARY:Welcome Coffee with Women of Nassau
DESCRIPTION:New to Fernandina? Want to get involved in the community? \nAll women\, including new and current members\, are invited to join the Women of Nassau’s monthly coffee get-together at Story & Song. \nThis event is FREE with light refreshments. No RSVP needed. (3rd Monday of every month)
URL:https://www.ameliaisland.com/activity/welcome-coffee-with-women-of-nassau/2026-12-21/
LOCATION:Story & Song Centre for Arts and Culture\, 1430 Park Avenue\, Fernandina Beach\, FL\, 32034
ATTACH;FMTTYPE=image/jpeg:https://www.ameliaisland.com/wp-content/uploads/Women-of-Nassau-Story-Song.jpg
END:VEVENT
BEGIN:VEVENT
DTSTART;TZID=America/New_York:20270118T100000
DTEND;TZID=America/New_York:20270118T113000
DTSTAMP:20260419T180640
CREATED:20240611T235616Z
LAST-MODIFIED:20240611T235616Z
UID:10009885-1800266400-1800271800@www.ameliaisland.com
SUMMARY:Welcome Coffee with Women of Nassau
DESCRIPTION:New to Fernandina? Want to get involved in the community? \nAll women\, including new and current members\, are invited to join the Women of Nassau’s monthly coffee get-together at Story & Song. \nThis event is FREE with light refreshments. No RSVP needed. (3rd Monday of every month)
URL:https://www.ameliaisland.com/activity/welcome-coffee-with-women-of-nassau/2027-01-18/
LOCATION:Story & Song Centre for Arts and Culture\, 1430 Park Avenue\, Fernandina Beach\, FL\, 32034
ATTACH;FMTTYPE=image/jpeg:https://www.ameliaisland.com/wp-content/uploads/Women-of-Nassau-Story-Song.jpg
END:VEVENT
BEGIN:VEVENT
DTSTART;TZID=America/New_York:20270215T100000
DTEND;TZID=America/New_York:20270215T113000
DTSTAMP:20260419T180640
CREATED:20240611T235616Z
LAST-MODIFIED:20240611T235616Z
UID:10009886-1802685600-1802691000@www.ameliaisland.com
SUMMARY:Welcome Coffee with Women of Nassau
DESCRIPTION:New to Fernandina? Want to get involved in the community? \nAll women\, including new and current members\, are invited to join the Women of Nassau’s monthly coffee get-together at Story & Song. \nThis event is FREE with light refreshments. No RSVP needed. (3rd Monday of every month)
URL:https://www.ameliaisland.com/activity/welcome-coffee-with-women-of-nassau/2027-02-15/
LOCATION:Story & Song Centre for Arts and Culture\, 1430 Park Avenue\, Fernandina Beach\, FL\, 32034
ATTACH;FMTTYPE=image/jpeg:https://www.ameliaisland.com/wp-content/uploads/Women-of-Nassau-Story-Song.jpg
END:VEVENT
BEGIN:VEVENT
DTSTART;TZID=America/New_York:20270315T100000
DTEND;TZID=America/New_York:20270315T113000
DTSTAMP:20260419T180640
CREATED:20240611T235616Z
LAST-MODIFIED:20240611T235616Z
UID:10009887-1805104800-1805110200@www.ameliaisland.com
SUMMARY:Welcome Coffee with Women of Nassau
DESCRIPTION:New to Fernandina? Want to get involved in the community? \nAll women\, including new and current members\, are invited to join the Women of Nassau’s monthly coffee get-together at Story & Song. \nThis event is FREE with light refreshments. No RSVP needed. (3rd Monday of every month)
URL:https://www.ameliaisland.com/activity/welcome-coffee-with-women-of-nassau/2027-03-15/
LOCATION:Story & Song Centre for Arts and Culture\, 1430 Park Avenue\, Fernandina Beach\, FL\, 32034
ATTACH;FMTTYPE=image/jpeg:https://www.ameliaisland.com/wp-content/uploads/Women-of-Nassau-Story-Song.jpg
END:VEVENT
BEGIN:VEVENT
DTSTART;TZID=America/New_York:20270419T100000
DTEND;TZID=America/New_York:20270419T113000
DTSTAMP:20260419T180640
CREATED:20240611T235616Z
LAST-MODIFIED:20240611T235616Z
UID:10009888-1808128800-1808134200@www.ameliaisland.com
SUMMARY:Welcome Coffee with Women of Nassau
DESCRIPTION:New to Fernandina? Want to get involved in the community? \nAll women\, including new and current members\, are invited to join the Women of Nassau’s monthly coffee get-together at Story & Song. \nThis event is FREE with light refreshments. No RSVP needed. (3rd Monday of every month)
URL:https://www.ameliaisland.com/activity/welcome-coffee-with-women-of-nassau/2027-04-19/
LOCATION:Story & Song Centre for Arts and Culture\, 1430 Park Avenue\, Fernandina Beach\, FL\, 32034
ATTACH;FMTTYPE=image/jpeg:https://www.ameliaisland.com/wp-content/uploads/Women-of-Nassau-Story-Song.jpg
END:VEVENT
BEGIN:VEVENT
DTSTART;TZID=America/New_York:20270517T100000
DTEND;TZID=America/New_York:20270517T113000
DTSTAMP:20260419T180640
CREATED:20240611T235616Z
LAST-MODIFIED:20240611T235616Z
UID:10009889-1810548000-1810553400@www.ameliaisland.com
SUMMARY:Welcome Coffee with Women of Nassau
DESCRIPTION:New to Fernandina? Want to get involved in the community? \nAll women\, including new and current members\, are invited to join the Women of Nassau’s monthly coffee get-together at Story & Song. \nThis event is FREE with light refreshments. No RSVP needed. (3rd Monday of every month)
URL:https://www.ameliaisland.com/activity/welcome-coffee-with-women-of-nassau/2027-05-17/
LOCATION:Story & Song Centre for Arts and Culture\, 1430 Park Avenue\, Fernandina Beach\, FL\, 32034
ATTACH;FMTTYPE=image/jpeg:https://www.ameliaisland.com/wp-content/uploads/Women-of-Nassau-Story-Song.jpg
END:VEVENT
BEGIN:VEVENT
DTSTART;TZID=America/New_York:20270621T100000
DTEND;TZID=America/New_York:20270621T113000
DTSTAMP:20260419T180640
CREATED:20240611T235616Z
LAST-MODIFIED:20240611T235616Z
UID:10009890-1813572000-1813577400@www.ameliaisland.com
SUMMARY:Welcome Coffee with Women of Nassau
DESCRIPTION:New to Fernandina? Want to get involved in the community? \nAll women\, including new and current members\, are invited to join the Women of Nassau’s monthly coffee get-together at Story & Song. \nThis event is FREE with light refreshments. No RSVP needed. (3rd Monday of every month)
URL:https://www.ameliaisland.com/activity/welcome-coffee-with-women-of-nassau/2027-06-21/
LOCATION:Story & Song Centre for Arts and Culture\, 1430 Park Avenue\, Fernandina Beach\, FL\, 32034
ATTACH;FMTTYPE=image/jpeg:https://www.ameliaisland.com/wp-content/uploads/Women-of-Nassau-Story-Song.jpg
END:VEVENT
BEGIN:VEVENT
DTSTART;TZID=America/New_York:20270719T100000
DTEND;TZID=America/New_York:20270719T113000
DTSTAMP:20260419T180640
CREATED:20240611T235616Z
LAST-MODIFIED:20240611T235616Z
UID:10009891-1815991200-1815996600@www.ameliaisland.com
SUMMARY:Welcome Coffee with Women of Nassau
DESCRIPTION:New to Fernandina? Want to get involved in the community? \nAll women\, including new and current members\, are invited to join the Women of Nassau’s monthly coffee get-together at Story & Song. \nThis event is FREE with light refreshments. No RSVP needed. (3rd Monday of every month)
URL:https://www.ameliaisland.com/activity/welcome-coffee-with-women-of-nassau/2027-07-19/
LOCATION:Story & Song Centre for Arts and Culture\, 1430 Park Avenue\, Fernandina Beach\, FL\, 32034
ATTACH;FMTTYPE=image/jpeg:https://www.ameliaisland.com/wp-content/uploads/Women-of-Nassau-Story-Song.jpg
END:VEVENT
BEGIN:VEVENT
DTSTART;TZID=America/New_York:20270816T100000
DTEND;TZID=America/New_York:20270816T113000
DTSTAMP:20260419T180640
CREATED:20240611T235616Z
LAST-MODIFIED:20240611T235616Z
UID:10009892-1818410400-1818415800@www.ameliaisland.com
SUMMARY:Welcome Coffee with Women of Nassau
DESCRIPTION:New to Fernandina? Want to get involved in the community? \nAll women\, including new and current members\, are invited to join the Women of Nassau’s monthly coffee get-together at Story & Song. \nThis event is FREE with light refreshments. No RSVP needed. (3rd Monday of every month)
URL:https://www.ameliaisland.com/activity/welcome-coffee-with-women-of-nassau/2027-08-16/
LOCATION:Story & Song Centre for Arts and Culture\, 1430 Park Avenue\, Fernandina Beach\, FL\, 32034
ATTACH;FMTTYPE=image/jpeg:https://www.ameliaisland.com/wp-content/uploads/Women-of-Nassau-Story-Song.jpg
END:VEVENT
BEGIN:VEVENT
DTSTART;TZID=America/New_York:20270920T100000
DTEND;TZID=America/New_York:20270920T113000
DTSTAMP:20260419T180640
CREATED:20240611T235616Z
LAST-MODIFIED:20240611T235616Z
UID:10009893-1821434400-1821439800@www.ameliaisland.com
SUMMARY:Welcome Coffee with Women of Nassau
DESCRIPTION:New to Fernandina? Want to get involved in the community? \nAll women\, including new and current members\, are invited to join the Women of Nassau’s monthly coffee get-together at Story & Song. \nThis event is FREE with light refreshments. No RSVP needed. (3rd Monday of every month)
URL:https://www.ameliaisland.com/activity/welcome-coffee-with-women-of-nassau/2027-09-20/
LOCATION:Story & Song Centre for Arts and Culture\, 1430 Park Avenue\, Fernandina Beach\, FL\, 32034
ATTACH;FMTTYPE=image/jpeg:https://www.ameliaisland.com/wp-content/uploads/Women-of-Nassau-Story-Song.jpg
END:VEVENT
BEGIN:VEVENT
DTSTART;TZID=America/New_York:20271018T100000
DTEND;TZID=America/New_York:20271018T113000
DTSTAMP:20260419T180640
CREATED:20240611T235616Z
LAST-MODIFIED:20240611T235616Z
UID:10009894-1823853600-1823859000@www.ameliaisland.com
SUMMARY:Welcome Coffee with Women of Nassau
DESCRIPTION:New to Fernandina? Want to get involved in the community? \nAll women\, including new and current members\, are invited to join the Women of Nassau’s monthly coffee get-together at Story & Song. \nThis event is FREE with light refreshments. No RSVP needed. (3rd Monday of every month)
URL:https://www.ameliaisland.com/activity/welcome-coffee-with-women-of-nassau/2027-10-18/
LOCATION:Story & Song Centre for Arts and Culture\, 1430 Park Avenue\, Fernandina Beach\, FL\, 32034
ATTACH;FMTTYPE=image/jpeg:https://www.ameliaisland.com/wp-content/uploads/Women-of-Nassau-Story-Song.jpg
END:VEVENT
BEGIN:VEVENT
DTSTART;TZID=America/New_York:20271115T100000
DTEND;TZID=America/New_York:20271115T113000
DTSTAMP:20260419T180640
CREATED:20240611T235616Z
LAST-MODIFIED:20240611T235616Z
UID:10009895-1826272800-1826278200@www.ameliaisland.com
SUMMARY:Welcome Coffee with Women of Nassau
DESCRIPTION:New to Fernandina? Want to get involved in the community? \nAll women\, including new and current members\, are invited to join the Women of Nassau’s monthly coffee get-together at Story & Song. \nThis event is FREE with light refreshments. No RSVP needed. (3rd Monday of every month)
URL:https://www.ameliaisland.com/activity/welcome-coffee-with-women-of-nassau/2027-11-15/
LOCATION:Story & Song Centre for Arts and Culture\, 1430 Park Avenue\, Fernandina Beach\, FL\, 32034
ATTACH;FMTTYPE=image/jpeg:https://www.ameliaisland.com/wp-content/uploads/Women-of-Nassau-Story-Song.jpg
END:VEVENT
BEGIN:VEVENT
DTSTART;TZID=America/New_York:20271220T100000
DTEND;TZID=America/New_York:20271220T113000
DTSTAMP:20260419T180640
CREATED:20240611T235616Z
LAST-MODIFIED:20240611T235616Z
UID:10009896-1829296800-1829302200@www.ameliaisland.com
SUMMARY:Welcome Coffee with Women of Nassau
DESCRIPTION:New to Fernandina? Want to get involved in the community? \nAll women\, including new and current members\, are invited to join the Women of Nassau’s monthly coffee get-together at Story & Song. \nThis event is FREE with light refreshments. No RSVP needed. (3rd Monday of every month)
URL:https://www.ameliaisland.com/activity/welcome-coffee-with-women-of-nassau/2027-12-20/
LOCATION:Story & Song Centre for Arts and Culture\, 1430 Park Avenue\, Fernandina Beach\, FL\, 32034
ATTACH;FMTTYPE=image/jpeg:https://www.ameliaisland.com/wp-content/uploads/Women-of-Nassau-Story-Song.jpg
END:VEVENT
BEGIN:VEVENT
DTSTART;TZID=America/New_York:20280117T100000
DTEND;TZID=America/New_York:20280117T113000
DTSTAMP:20260419T180640
CREATED:20240611T235616Z
LAST-MODIFIED:20240611T235616Z
UID:10009897-1831716000-1831721400@www.ameliaisland.com
SUMMARY:Welcome Coffee with Women of Nassau
DESCRIPTION:New to Fernandina? Want to get involved in the community? \nAll women\, including new and current members\, are invited to join the Women of Nassau’s monthly coffee get-together at Story & Song. \nThis event is FREE with light refreshments. No RSVP needed. (3rd Monday of every month)
URL:https://www.ameliaisland.com/activity/welcome-coffee-with-women-of-nassau/2028-01-17/
LOCATION:Story & Song Centre for Arts and Culture\, 1430 Park Avenue\, Fernandina Beach\, FL\, 32034
ATTACH;FMTTYPE=image/jpeg:https://www.ameliaisland.com/wp-content/uploads/Women-of-Nassau-Story-Song.jpg
END:VEVENT
BEGIN:VEVENT
DTSTART;TZID=America/New_York:20280221T100000
DTEND;TZID=America/New_York:20280221T113000
DTSTAMP:20260419T180640
CREATED:20240611T235616Z
LAST-MODIFIED:20240611T235616Z
UID:10009898-1834740000-1834745400@www.ameliaisland.com
SUMMARY:Welcome Coffee with Women of Nassau
DESCRIPTION:New to Fernandina? Want to get involved in the community? \nAll women\, including new and current members\, are invited to join the Women of Nassau’s monthly coffee get-together at Story & Song. \nThis event is FREE with light refreshments. No RSVP needed. (3rd Monday of every month)
URL:https://www.ameliaisland.com/activity/welcome-coffee-with-women-of-nassau/2028-02-21/
LOCATION:Story & Song Centre for Arts and Culture\, 1430 Park Avenue\, Fernandina Beach\, FL\, 32034
ATTACH;FMTTYPE=image/jpeg:https://www.ameliaisland.com/wp-content/uploads/Women-of-Nassau-Story-Song.jpg
END:VEVENT
BEGIN:VEVENT
DTSTART;TZID=America/New_York:20280320T100000
DTEND;TZID=America/New_York:20280320T113000
DTSTAMP:20260419T180640
CREATED:20240611T235616Z
LAST-MODIFIED:20240611T235616Z
UID:10009899-1837159200-1837164600@www.ameliaisland.com
SUMMARY:Welcome Coffee with Women of Nassau
DESCRIPTION:New to Fernandina? Want to get involved in the community? \nAll women\, including new and current members\, are invited to join the Women of Nassau’s monthly coffee get-together at Story & Song. \nThis event is FREE with light refreshments. No RSVP needed. (3rd Monday of every month)
URL:https://www.ameliaisland.com/activity/welcome-coffee-with-women-of-nassau/2028-03-20/
LOCATION:Story & Song Centre for Arts and Culture\, 1430 Park Avenue\, Fernandina Beach\, FL\, 32034
ATTACH;FMTTYPE=image/jpeg:https://www.ameliaisland.com/wp-content/uploads/Women-of-Nassau-Story-Song.jpg
END:VEVENT
BEGIN:VEVENT
DTSTART;TZID=America/New_York:20280417T100000
DTEND;TZID=America/New_York:20280417T113000
DTSTAMP:20260419T180640
CREATED:20240611T235616Z
LAST-MODIFIED:20240611T235616Z
UID:10009900-1839578400-1839583800@www.ameliaisland.com
SUMMARY:Welcome Coffee with Women of Nassau
DESCRIPTION:New to Fernandina? Want to get involved in the community? \nAll women\, including new and current members\, are invited to join the Women of Nassau’s monthly coffee get-together at Story & Song. \nThis event is FREE with light refreshments. No RSVP needed. (3rd Monday of every month)
URL:https://www.ameliaisland.com/activity/welcome-coffee-with-women-of-nassau/2028-04-17/
LOCATION:Story & Song Centre for Arts and Culture\, 1430 Park Avenue\, Fernandina Beach\, FL\, 32034
ATTACH;FMTTYPE=image/jpeg:https://www.ameliaisland.com/wp-content/uploads/Women-of-Nassau-Story-Song.jpg
END:VEVENT
BEGIN:VEVENT
DTSTART;TZID=America/New_York:20280515T100000
DTEND;TZID=America/New_York:20280515T113000
DTSTAMP:20260419T180640
CREATED:20240611T235616Z
LAST-MODIFIED:20240611T235616Z
UID:10009901-1841997600-1842003000@www.ameliaisland.com
SUMMARY:Welcome Coffee with Women of Nassau
DESCRIPTION:New to Fernandina? Want to get involved in the community? \nAll women\, including new and current members\, are invited to join the Women of Nassau’s monthly coffee get-together at Story & Song. \nThis event is FREE with light refreshments. No RSVP needed. (3rd Monday of every month)
URL:https://www.ameliaisland.com/activity/welcome-coffee-with-women-of-nassau/2028-05-15/
LOCATION:Story & Song Centre for Arts and Culture\, 1430 Park Avenue\, Fernandina Beach\, FL\, 32034
ATTACH;FMTTYPE=image/jpeg:https://www.ameliaisland.com/wp-content/uploads/Women-of-Nassau-Story-Song.jpg
END:VEVENT
BEGIN:VEVENT
DTSTART;TZID=America/New_York:20280619T100000
DTEND;TZID=America/New_York:20280619T113000
DTSTAMP:20260419T180640
CREATED:20240611T235616Z
LAST-MODIFIED:20240611T235616Z
UID:10009902-1845021600-1845027000@www.ameliaisland.com
SUMMARY:Welcome Coffee with Women of Nassau
DESCRIPTION:New to Fernandina? Want to get involved in the community? \nAll women\, including new and current members\, are invited to join the Women of Nassau’s monthly coffee get-together at Story & Song. \nThis event is FREE with light refreshments. No RSVP needed. (3rd Monday of every month)
URL:https://www.ameliaisland.com/activity/welcome-coffee-with-women-of-nassau/2028-06-19/
LOCATION:Story & Song Centre for Arts and Culture\, 1430 Park Avenue\, Fernandina Beach\, FL\, 32034
ATTACH;FMTTYPE=image/jpeg:https://www.ameliaisland.com/wp-content/uploads/Women-of-Nassau-Story-Song.jpg
END:VEVENT
BEGIN:VEVENT
DTSTART;TZID=America/New_York:20280717T100000
DTEND;TZID=America/New_York:20280717T113000
DTSTAMP:20260419T180640
CREATED:20240611T235616Z
LAST-MODIFIED:20240611T235616Z
UID:10009903-1847440800-1847446200@www.ameliaisland.com
SUMMARY:Welcome Coffee with Women of Nassau
DESCRIPTION:New to Fernandina? Want to get involved in the community? \nAll women\, including new and current members\, are invited to join the Women of Nassau’s monthly coffee get-together at Story & Song. \nThis event is FREE with light refreshments. No RSVP needed. (3rd Monday of every month)
URL:https://www.ameliaisland.com/activity/welcome-coffee-with-women-of-nassau/2028-07-17/
LOCATION:Story & Song Centre for Arts and Culture\, 1430 Park Avenue\, Fernandina Beach\, FL\, 32034
ATTACH;FMTTYPE=image/jpeg:https://www.ameliaisland.com/wp-content/uploads/Women-of-Nassau-Story-Song.jpg
END:VEVENT
BEGIN:VEVENT
DTSTART;TZID=America/New_York:20280821T100000
DTEND;TZID=America/New_York:20280821T113000
DTSTAMP:20260419T180640
CREATED:20240611T235616Z
LAST-MODIFIED:20240611T235616Z
UID:10009904-1850464800-1850470200@www.ameliaisland.com
SUMMARY:Welcome Coffee with Women of Nassau
DESCRIPTION:New to Fernandina? Want to get involved in the community? \nAll women\, including new and current members\, are invited to join the Women of Nassau’s monthly coffee get-together at Story & Song. \nThis event is FREE with light refreshments. No RSVP needed. (3rd Monday of every month)
URL:https://www.ameliaisland.com/activity/welcome-coffee-with-women-of-nassau/2028-08-21/
LOCATION:Story & Song Centre for Arts and Culture\, 1430 Park Avenue\, Fernandina Beach\, FL\, 32034
ATTACH;FMTTYPE=image/jpeg:https://www.ameliaisland.com/wp-content/uploads/Women-of-Nassau-Story-Song.jpg
END:VEVENT
BEGIN:VEVENT
DTSTART;TZID=America/New_York:20280918T100000
DTEND;TZID=America/New_York:20280918T113000
DTSTAMP:20260419T180640
CREATED:20240611T235616Z
LAST-MODIFIED:20240611T235616Z
UID:10009905-1852884000-1852889400@www.ameliaisland.com
SUMMARY:Welcome Coffee with Women of Nassau
DESCRIPTION:New to Fernandina? Want to get involved in the community? \nAll women\, including new and current members\, are invited to join the Women of Nassau’s monthly coffee get-together at Story & Song. \nThis event is FREE with light refreshments. No RSVP needed. (3rd Monday of every month)
URL:https://www.ameliaisland.com/activity/welcome-coffee-with-women-of-nassau/2028-09-18/
LOCATION:Story & Song Centre for Arts and Culture\, 1430 Park Avenue\, Fernandina Beach\, FL\, 32034
ATTACH;FMTTYPE=image/jpeg:https://www.ameliaisland.com/wp-content/uploads/Women-of-Nassau-Story-Song.jpg
END:VEVENT
END:VCALENDAR