BEGIN:VCALENDAR
VERSION:2.0
PRODID:-//Amelia Island - ECPv6.8.0//NONSGML v1.0//EN
CALSCALE:GREGORIAN
METHOD:PUBLISH
X-WR-CALNAME:Amelia Island
X-ORIGINAL-URL:https://www.ameliaisland.com
X-WR-CALDESC:Events for Amelia Island
REFRESH-INTERVAL;VALUE=DURATION:PT1H
X-Robots-Tag:noindex
X-PUBLISHED-TTL:PT1H
BEGIN:VTIMEZONE
TZID:America/New_York
BEGIN:DAYLIGHT
TZOFFSETFROM:-0500
TZOFFSETTO:-0400
TZNAME:EDT
DTSTART:20260308T070000
END:DAYLIGHT
BEGIN:STANDARD
TZOFFSETFROM:-0400
TZOFFSETTO:-0500
TZNAME:EST
DTSTART:20261101T060000
END:STANDARD
END:VTIMEZONE
BEGIN:VEVENT
DTSTART;TZID=America/New_York:20261129T110000
DTEND;TZID=America/New_York:20261129T140000
DTSTAMP:20260425T221840
CREATED:20260318T153345Z
LAST-MODIFIED:20260318T153345Z
UID:10029877-1795950000-1795960800@www.ameliaisland.com
SUMMARY:The Art of Brunch
DESCRIPTION:Experience brunch as a true culinary art form. Once a month\, David’s Restaurant & Lounge invites you to enjoy The Art of Brunch — now offered à la carte\, giving you the freedom to build your perfect brunch moment. Executive Chef David Echeverri and his team craft each dish with seasonal inspiration\, bold flavors\, and beautiful presentation — from savory classics to sweet favorites\, all made with the same fine-dining care you love from David’s. Pair your brunch with selections from our full bar and enjoy our special brunch cocktails created just for these Sundays. \nUpcoming Dates: April 5 Sunday — May 10 Sunday — June 21 Sunday — July 5 Sunday — August 9 Sunday — September 6 Sunday — October 11 Sunday — November 29 Sunday — December 20
URL:https://www.ameliaisland.com/activity/the-art-of-brunch/2026-11-29/
LOCATION:David’s Restaurant & Lounge\, 802 Ash Street\, Fernandina Beach\, FL\, 32034\, United States
ATTACH;FMTTYPE=image/jpeg:https://www.ameliaisland.com/wp-content/uploads/Davids-brunch-1.jpg
END:VEVENT
BEGIN:VEVENT
DTSTART;TZID=America/New_York:20261129T143000
DTEND;TZID=America/New_York:20261129T170000
DTSTAMP:20260425T221840
CREATED:20241210T154346Z
LAST-MODIFIED:20260307T141557Z
UID:10026565-1795962600-1795971600@www.ameliaisland.com
SUMMARY:Booze & Bites Tour
DESCRIPTION:Experience walking tours filled with history\, laughs\, great food and fun cocktails!  \nWhether you’re a local or a first-time visitor\, by the end of a tour you’ll have a fresh perspective of the island’s culture and history.  \nEstablished in 2014.
URL:https://www.ameliaisland.com/activity/booze-bites-tour/2026-11-29/
LOCATION:Downtown Fernandina Beach\, S.3rd St. between Centre St. and Ash St.\, Fernandina Beach\, 32034\, United States
ATTACH;FMTTYPE=image/jpeg:https://www.ameliaisland.com/wp-content/uploads/Booze-and-Bites-Amelia-Island-Picture-scaled.jpeg
END:VEVENT
BEGIN:VEVENT
DTSTART;TZID=America/New_York:20261129T190000
DTEND;TZID=America/New_York:20261129T200000
DTSTAMP:20260425T221840
CREATED:20260211T204139Z
LAST-MODIFIED:20260403T134546Z
UID:10030149-1795978800-1795982400@www.ameliaisland.com
SUMMARY:Cumberland Sound Sunset Tour
DESCRIPTION:End your day with the kind of magic only nature can deliver – a breathtaking sunset over the Cumberland Sound\, dolphins dancing in the distance\, and sea birds soaring across a glowing sky. This one-hour narrated cruise is perfect for families\, couples\, and sunset seekers of all ages. Our fun and knowledgeable captains share fascinating stories about the area’s rich past as you cruise past shrimp boats\, salt marshes\, and historic Amelia and Cumberland Islands. It’s never too early to book your seats! \nBreathe in the salt air\, sip your favorite beverage (yes\, BYOB!)\, and watch as the sky transforms into a masterpiece of color. It’s an easy\, peaceful\, and unforgettable way to end the day—a memory worth making. \nNOTE: DEPARTURE TIMES CHANGE THROUGHOUT THE YEAR\, ACCORDING TO SUNSET. PLEASE CHECK WITH AMELIA RIVER CRUISES FOR CORRECT DEPARTURE TIME.
URL:https://www.ameliaisland.com/activity/cumberland-sound-sunset-tour-5/2026-11-29/
LOCATION:Amelia River Cruises and Charters\, 1 North Front Street\, Suite 3\, Fernandina Beach\, 32034\, United States
ATTACH;FMTTYPE=image/jpeg:https://www.ameliaisland.com/wp-content/uploads/sunset-amelia-river-cruises-cumberland-sound-winter2026.jpg
END:VEVENT
END:VCALENDAR