BEGIN:VCALENDAR
VERSION:2.0
PRODID:-//Amelia Island - ECPv6.8.0//NONSGML v1.0//EN
CALSCALE:GREGORIAN
METHOD:PUBLISH
X-WR-CALNAME:Amelia Island
X-ORIGINAL-URL:https://www.ameliaisland.com
X-WR-CALDESC:Events for Amelia Island
REFRESH-INTERVAL;VALUE=DURATION:PT1H
X-Robots-Tag:noindex
X-PUBLISHED-TTL:PT1H
BEGIN:VTIMEZONE
TZID:America/New_York
BEGIN:DAYLIGHT
TZOFFSETFROM:-0500
TZOFFSETTO:-0400
TZNAME:EDT
DTSTART:20260308T070000
END:DAYLIGHT
BEGIN:STANDARD
TZOFFSETFROM:-0400
TZOFFSETTO:-0500
TZNAME:EST
DTSTART:20261101T060000
END:STANDARD
END:VTIMEZONE
BEGIN:VEVENT
DTSTART;TZID=America/New_York:20261127T153000
DTEND;TZID=America/New_York:20261127T170000
DTSTAMP:20260425T191205
CREATED:20260210T013114Z
LAST-MODIFIED:20260210T013114Z
UID:10027946-1795793400-1795798800@www.ameliaisland.com
SUMMARY:Amelia Shotgun Sports Men’s League
DESCRIPTION:Kick off your Fridays with great competition\, even better company\, and plenty of time on the course. Men’s League at Amelia Shotgun Sports is all about sharpening skills\, enjoying friendly rivalry\, and building camaraderie in a relaxed\, welcoming environment. \nEvery Friday at 3:30 PM (Unless otherwise noted). Whether you’re brand new to the sport or have years of experience\, all skill levels are encouraged and welcome. This league is designed to be challenging\, fun\, and supportive—no pressure\, just solid practice and good vibes. \nLeague Perks include VIP pricing during scheduled league meets\, and consistent weekly play to build confidence and consistency. \nTo learn more or RSVP\, contact Steve Gross at SueSteve5759@yahoo.com. Come out\, compete\, and make Fridays your favorite day of the week at Amelia Shotgun Sports.
URL:https://www.ameliaisland.com/activity/amelia-shotgun-sports-mens-league/2026-11-27/
LOCATION:Amelia Shotgun Sports\, 86300 Hot Shot Trail\, Yulee\, FL\, 32034\, United States
ATTACH;FMTTYPE=image/jpeg:https://www.ameliaisland.com/wp-content/uploads/Amelia-Shotgun-Sports4.jpg
END:VEVENT
BEGIN:VEVENT
DTSTART;TZID=America/New_York:20261127T180000
DTEND;TZID=America/New_York:20261127T190000
DTSTAMP:20260425T191205
CREATED:20250730T160215Z
LAST-MODIFIED:20250730T160215Z
UID:10025438-1795802400-1795806000@www.ameliaisland.com
SUMMARY:Amelia Island Museum of History Ghost Tour
DESCRIPTION:Step into Amelia Island’s storied past and join us for this one of a kind experience. Taking place every Friday at 6 PM\, this one-hour ghost tour covers approximately 14 blocks\, starting at the cemetery behind St. Peter’s Episcopal Church (801 Atlantic Avenue). \nVisit ameliamuseum.org/ghost-tour or check the Amelia Island Museum of History’s Facebook page for more information.
URL:https://www.ameliaisland.com/activity/amelia-island-museum-of-history-ghost-tour/2026-11-27/
LOCATION:FL
ATTACH;FMTTYPE=image/jpeg:https://www.ameliaisland.com/wp-content/uploads/Bosque-Bello-Cemetery-Ghost-Tour.jpg
END:VEVENT
BEGIN:VEVENT
DTSTART;TZID=America/New_York:20261127T190000
DTEND;TZID=America/New_York:20261127T200000
DTSTAMP:20260425T191205
CREATED:20260211T204139Z
LAST-MODIFIED:20260403T134546Z
UID:10030147-1795806000-1795809600@www.ameliaisland.com
SUMMARY:Cumberland Sound Sunset Tour
DESCRIPTION:End your day with the kind of magic only nature can deliver – a breathtaking sunset over the Cumberland Sound\, dolphins dancing in the distance\, and sea birds soaring across a glowing sky. This one-hour narrated cruise is perfect for families\, couples\, and sunset seekers of all ages. Our fun and knowledgeable captains share fascinating stories about the area’s rich past as you cruise past shrimp boats\, salt marshes\, and historic Amelia and Cumberland Islands. It’s never too early to book your seats! \nBreathe in the salt air\, sip your favorite beverage (yes\, BYOB!)\, and watch as the sky transforms into a masterpiece of color. It’s an easy\, peaceful\, and unforgettable way to end the day—a memory worth making. \nNOTE: DEPARTURE TIMES CHANGE THROUGHOUT THE YEAR\, ACCORDING TO SUNSET. PLEASE CHECK WITH AMELIA RIVER CRUISES FOR CORRECT DEPARTURE TIME.
URL:https://www.ameliaisland.com/activity/cumberland-sound-sunset-tour-5/2026-11-27/
LOCATION:Amelia River Cruises and Charters\, 1 North Front Street\, Suite 3\, Fernandina Beach\, 32034\, United States
ATTACH;FMTTYPE=image/jpeg:https://www.ameliaisland.com/wp-content/uploads/sunset-amelia-river-cruises-cumberland-sound-winter2026.jpg
END:VEVENT
END:VCALENDAR