BEGIN:VCALENDAR
VERSION:2.0
PRODID:-//Amelia Island - ECPv6.8.0//NONSGML v1.0//EN
CALSCALE:GREGORIAN
METHOD:PUBLISH
X-ORIGINAL-URL:https://www.ameliaisland.com
X-WR-CALDESC:Events for Amelia Island
REFRESH-INTERVAL;VALUE=DURATION:PT1H
X-Robots-Tag:noindex
X-PUBLISHED-TTL:PT1H
BEGIN:VTIMEZONE
TZID:America/New_York
BEGIN:DAYLIGHT
TZOFFSETFROM:-0500
TZOFFSETTO:-0400
TZNAME:EDT
DTSTART:20260308T070000
END:DAYLIGHT
BEGIN:STANDARD
TZOFFSETFROM:-0400
TZOFFSETTO:-0500
TZNAME:EST
DTSTART:20261101T060000
END:STANDARD
END:VTIMEZONE
BEGIN:VEVENT
DTSTART;VALUE=DATE:20261113
DTEND;VALUE=DATE:20261116
DTSTAMP:20260424T150002
CREATED:20250731T161952Z
LAST-MODIFIED:20250731T162008Z
UID:10025636-1794528000-1794787199@www.ameliaisland.com
SUMMARY:Pétanque Amelia Island Open
DESCRIPTION:Amelia Island Open (AIO)\, the largest international petanque event in the Americas welcomes world champions\, players and spectators from around the world to this charming Florida island. Play takes place at the downtown harbor front and historic district that welcomes all with shops\, restaurants and a true feeling of joie de vivre. \nFriday Amelia Island Boules Club hosts the Amelia Open Women’s Tournament from 1pm-6pm.\nSaturday and Sunday AIO games take place from 9am-5pm.
URL:https://www.ameliaisland.com/activity/petanque-amelia-island-open/
LOCATION:Historic Downtown Fernandina Harborfront\, Downtown Marina\, Parking Lots C & D\, Fernandina Beach\, FL\, 32034\, United States
ATTACH;FMTTYPE=image/jpeg:https://www.ameliaisland.com/wp-content/uploads/Amelia-Island-Open-Petanque-Tournament.jpeg
END:VEVENT
BEGIN:VEVENT
DTSTART;TZID=America/New_York:20261115T140000
DTEND;TZID=America/New_York:20261115T150000
DTSTAMP:20260424T150002
CREATED:20241017T124642Z
LAST-MODIFIED:20241017T124642Z
UID:10016093-1794751200-1794754800@www.ameliaisland.com
SUMMARY:Island Art Association - Sundays on Second
DESCRIPTION:Island Art Association hosts free Artist Encounters every third Sunday at 2:00 pm. \nReservations are required. Registration will open on the third Monday of each month. Registration will be open for two weeks\, then names will be drawn for the number of spaces available and registrants will be notified. Contact Alice at glassgirl445@gmail.com
URL:https://www.ameliaisland.com/activity/island-art-association-sundays-on-second/2026-11-15/
LOCATION:Island Art Association Education Center\, 18 N. 2nd St.\, Fernandina Beach\, FL\, 32034\, United States
ATTACH;FMTTYPE=image/jpeg:https://www.ameliaisland.com/wp-content/uploads/Island-Art-Association-4.jpg
END:VEVENT
BEGIN:VEVENT
DTSTART;TZID=America/New_York:20261115T143000
DTEND;TZID=America/New_York:20261115T170000
DTSTAMP:20260424T150002
CREATED:20241210T154346Z
LAST-MODIFIED:20260307T141557Z
UID:10026560-1794753000-1794762000@www.ameliaisland.com
SUMMARY:Booze & Bites Tour
DESCRIPTION:Experience walking tours filled with history\, laughs\, great food and fun cocktails!  \nWhether you’re a local or a first-time visitor\, by the end of a tour you’ll have a fresh perspective of the island’s culture and history.  \nEstablished in 2014.
URL:https://www.ameliaisland.com/activity/booze-bites-tour/2026-11-15/
LOCATION:Downtown Fernandina Beach\, S.3rd St. between Centre St. and Ash St.\, Fernandina Beach\, 32034\, United States
ATTACH;FMTTYPE=image/jpeg:https://www.ameliaisland.com/wp-content/uploads/Booze-and-Bites-Amelia-Island-Picture-scaled.jpeg
END:VEVENT
BEGIN:VEVENT
DTSTART;TZID=America/New_York:20261115T190000
DTEND;TZID=America/New_York:20261115T200000
DTSTAMP:20260424T150002
CREATED:20260211T204139Z
LAST-MODIFIED:20260403T134546Z
UID:10030135-1794769200-1794772800@www.ameliaisland.com
SUMMARY:Cumberland Sound Sunset Tour
DESCRIPTION:End your day with the kind of magic only nature can deliver – a breathtaking sunset over the Cumberland Sound\, dolphins dancing in the distance\, and sea birds soaring across a glowing sky. This one-hour narrated cruise is perfect for families\, couples\, and sunset seekers of all ages. Our fun and knowledgeable captains share fascinating stories about the area’s rich past as you cruise past shrimp boats\, salt marshes\, and historic Amelia and Cumberland Islands. It’s never too early to book your seats! \nBreathe in the salt air\, sip your favorite beverage (yes\, BYOB!)\, and watch as the sky transforms into a masterpiece of color. It’s an easy\, peaceful\, and unforgettable way to end the day—a memory worth making. \nNOTE: DEPARTURE TIMES CHANGE THROUGHOUT THE YEAR\, ACCORDING TO SUNSET. PLEASE CHECK WITH AMELIA RIVER CRUISES FOR CORRECT DEPARTURE TIME.
URL:https://www.ameliaisland.com/activity/cumberland-sound-sunset-tour-5/2026-11-15/
LOCATION:Amelia River Cruises and Charters\, 1 North Front Street\, Suite 3\, Fernandina Beach\, 32034\, United States
ATTACH;FMTTYPE=image/jpeg:https://www.ameliaisland.com/wp-content/uploads/sunset-amelia-river-cruises-cumberland-sound-winter2026.jpg
END:VEVENT
END:VCALENDAR