BEGIN:VCALENDAR
VERSION:2.0
PRODID:-//Amelia Island - ECPv6.8.0//NONSGML v1.0//EN
CALSCALE:GREGORIAN
METHOD:PUBLISH
X-ORIGINAL-URL:https://www.ameliaisland.com
X-WR-CALDESC:Events for Amelia Island
REFRESH-INTERVAL;VALUE=DURATION:PT1H
X-Robots-Tag:noindex
X-PUBLISHED-TTL:PT1H
BEGIN:VTIMEZONE
TZID:America/New_York
BEGIN:DAYLIGHT
TZOFFSETFROM:-0500
TZOFFSETTO:-0400
TZNAME:EDT
DTSTART:20260308T070000
END:DAYLIGHT
BEGIN:STANDARD
TZOFFSETFROM:-0400
TZOFFSETTO:-0500
TZNAME:EST
DTSTART:20261101T060000
END:STANDARD
END:VTIMEZONE
BEGIN:VEVENT
DTSTART;TZID=America/New_York:20261112T090000
DTEND;TZID=America/New_York:20261112T120000
DTSTAMP:20260424T100612
CREATED:20260202T220636Z
LAST-MODIFIED:20260202T220636Z
UID:10027681-1794474000-1794484800@www.ameliaisland.com
SUMMARY:Ladies Morning at Amelia Shotgun Sports
DESCRIPTION:Ladies Morning at Amelia Shotgun Sports is a fun\, welcoming way for visitors and locals to start their Thursday. Enjoy complimentary coffee and conversation from 9–10 AM\, then take part in optional course time from 10–12\, with beginner-friendly instruction or shooting opportunities for experienced ladies. Whether you’re trying something new or simply meeting new people\, it’s a relaxed\, no-pressure experience designed to make you feel right at home.
URL:https://www.ameliaisland.com/activity/ladies-morning-at-amelia-shotgun-sports/2026-11-12/
LOCATION:Amelia Shotgun Sports\, 86300 Hot Shot Trail\, Yulee\, FL\, 32034\, United States
ATTACH;FMTTYPE=image/jpeg:https://www.ameliaisland.com/wp-content/uploads/Amelia-Shotgun-Sports-2.jpg
END:VEVENT
BEGIN:VEVENT
DTSTART;TZID=America/New_York:20261112T110000
DTEND;TZID=America/New_York:20261112T133000
DTSTAMP:20260424T100612
CREATED:20250326T172037Z
LAST-MODIFIED:20250326T172521Z
UID:10012374-1794481200-1794490200@www.ameliaisland.com
SUMMARY:Historic Trolley Tour
DESCRIPTION:EXPLORE THE OLD TIME CHARM OF AMELIA ISLAND!\nGet to see the historic downtown Fernandina Beach\, Old Town\, the Silk Stocking District\, and parts of the north end of Fernandina Beach with our trolley tour! What better way to take in the beautiful historic sights than on an old fashioned trolley? \nOur Amelia Island historic tours take you to the best spots with a smooth and delightful ride. Take in the sights of Victorian-era architecture and visit charming little shops. This tour will take you on a journey back in time! Book online today!
URL:https://www.ameliaisland.com/activity/historic-trolley-tour-3/2026-11-12/
LOCATION:Anchor Trolley & Transport\, 1 N Front Street\, Ste 3\, Fernandina Beach\, FL\, 32034\, United States
ATTACH;FMTTYPE=image/jpeg:https://www.ameliaisland.com/wp-content/uploads/AmeliaTrolley24c.jpg
END:VEVENT
BEGIN:VEVENT
DTSTART;TZID=America/New_York:20261112T133000
DTEND;TZID=America/New_York:20261112T150000
DTSTAMP:20260424T100612
CREATED:20250326T171358Z
LAST-MODIFIED:20250326T171400Z
UID:10014201-1794490200-1794495600@www.ameliaisland.com
SUMMARY:Historic Trolley Tour
DESCRIPTION:EXPLORE THE OLD TIME CHARM OF AMELIA ISLAND!\nGet to see the historic downtown Fernandina Beach\, Old Town\, the Silk Stocking District\, and parts of the north end of Fernandina Beach with our trolley tour! What better way to take in the beautiful historic sights than on an old fashioned trolley? \nOur Amelia Island historic tours take you to the best spots with a smooth and delightful ride. Take in the sights of Victorian-era architecture and visit charming little shops. This tour will take you on a journey back in time! Book online today!
URL:https://www.ameliaisland.com/activity/historic-trolley-tour-2-2/2026-11-12/
LOCATION:Anchor Trolley & Transport\, 1 N Front Street\, Ste 3\, Fernandina Beach\, FL\, 32034\, United States
ATTACH;FMTTYPE=image/jpeg:https://www.ameliaisland.com/wp-content/uploads/AmeliaTrolley24c.jpg
END:VEVENT
BEGIN:VEVENT
DTSTART;TZID=America/New_York:20261112T143000
DTEND;TZID=America/New_York:20261112T170000
DTSTAMP:20260424T100612
CREATED:20241210T154346Z
LAST-MODIFIED:20260307T141557Z
UID:10029353-1794493800-1794502800@www.ameliaisland.com
SUMMARY:Booze & Bites Tour
DESCRIPTION:Experience walking tours filled with history\, laughs\, great food and fun cocktails!  \nWhether you’re a local or a first-time visitor\, by the end of a tour you’ll have a fresh perspective of the island’s culture and history.  \nEstablished in 2014.
URL:https://www.ameliaisland.com/activity/booze-bites-tour/2026-11-12/
LOCATION:Downtown Fernandina Beach\, S.3rd St. between Centre St. and Ash St.\, Fernandina Beach\, 32034\, United States
ATTACH;FMTTYPE=image/jpeg:https://www.ameliaisland.com/wp-content/uploads/Booze-and-Bites-Amelia-Island-Picture-scaled.jpeg
END:VEVENT
BEGIN:VEVENT
DTSTART;TZID=America/New_York:20261112T190000
DTEND;TZID=America/New_York:20261112T200000
DTSTAMP:20260424T100612
CREATED:20260211T204139Z
LAST-MODIFIED:20260403T134546Z
UID:10030132-1794510000-1794513600@www.ameliaisland.com
SUMMARY:Cumberland Sound Sunset Tour
DESCRIPTION:End your day with the kind of magic only nature can deliver – a breathtaking sunset over the Cumberland Sound\, dolphins dancing in the distance\, and sea birds soaring across a glowing sky. This one-hour narrated cruise is perfect for families\, couples\, and sunset seekers of all ages. Our fun and knowledgeable captains share fascinating stories about the area’s rich past as you cruise past shrimp boats\, salt marshes\, and historic Amelia and Cumberland Islands. It’s never too early to book your seats! \nBreathe in the salt air\, sip your favorite beverage (yes\, BYOB!)\, and watch as the sky transforms into a masterpiece of color. It’s an easy\, peaceful\, and unforgettable way to end the day—a memory worth making. \nNOTE: DEPARTURE TIMES CHANGE THROUGHOUT THE YEAR\, ACCORDING TO SUNSET. PLEASE CHECK WITH AMELIA RIVER CRUISES FOR CORRECT DEPARTURE TIME.
URL:https://www.ameliaisland.com/activity/cumberland-sound-sunset-tour-5/2026-11-12/
LOCATION:Amelia River Cruises and Charters\, 1 North Front Street\, Suite 3\, Fernandina Beach\, 32034\, United States
ATTACH;FMTTYPE=image/jpeg:https://www.ameliaisland.com/wp-content/uploads/sunset-amelia-river-cruises-cumberland-sound-winter2026.jpg
END:VEVENT
END:VCALENDAR