BEGIN:VCALENDAR
VERSION:2.0
PRODID:-//Amelia Island - ECPv6.8.0//NONSGML v1.0//EN
CALSCALE:GREGORIAN
METHOD:PUBLISH
X-ORIGINAL-URL:https://www.ameliaisland.com
X-WR-CALDESC:Events for Amelia Island
REFRESH-INTERVAL;VALUE=DURATION:PT1H
X-Robots-Tag:noindex
X-PUBLISHED-TTL:PT1H
BEGIN:VTIMEZONE
TZID:America/New_York
BEGIN:DAYLIGHT
TZOFFSETFROM:-0500
TZOFFSETTO:-0400
TZNAME:EDT
DTSTART:20260308T070000
END:DAYLIGHT
BEGIN:STANDARD
TZOFFSETFROM:-0400
TZOFFSETTO:-0500
TZNAME:EST
DTSTART:20261101T060000
END:STANDARD
END:VTIMEZONE
BEGIN:VEVENT
DTSTART;TZID=America/New_York:20261107T083000
DTEND;TZID=America/New_York:20261107T153000
DTSTAMP:20260424T012317
CREATED:20260210T020404Z
LAST-MODIFIED:20260210T020404Z
UID:10028172-1794040200-1794065400@www.ameliaisland.com
SUMMARY:9th Annual November Nectarous Sporting Clays Competition
DESCRIPTION:Join us for the 9th Annual November Nectarous NSCA at Amelia Shotgun Sports. \nEnjoy free breakfast & lunch for qualifying shooters\, plus cold water at every other station. \nNEW 2-Day Format:\nTwo separate 100-target Sporting Clays events — Green Course and Orange Course — available over two full days. Shoot both events on Saturday\, both on Sunday\, or split them between days. \nSchedule – Same Both Days:\n8:00 – 10:00 AM: Practice Targets Available\n8:30 AM – 2:30 PM: Green Course – European Start\n10:00 AM – 2:30 PM: Orange Course – European Start\nBreakfast: 8:00 – 11:30 AM\nLunch: 11:30 AM – 2:00 PM\nIncluded for any registered shooter arriving before 10:00 AM \nNSCA rules apply\nMust have a minimum of 3 people per squad\nIf you don’t have a squad\, be sure to arrive by 8:30 am \nPlease see our website for fees and more information.
URL:https://www.ameliaisland.com/activity/9th-annual-november-nectarous-sporting-clays-competition/2026-11-07/
LOCATION:Amelia Shotgun Sports\, 86300 Hot Shot Trail\, Yulee\, FL\, 32034\, United States
ATTACH;FMTTYPE=image/jpeg:https://www.ameliaisland.com/wp-content/uploads/Amelia-Shotgun-Sports.jpg
END:VEVENT
BEGIN:VEVENT
DTSTART;TZID=America/New_York:20261107T090000
DTEND;TZID=America/New_York:20261107T130000
DTSTAMP:20260424T012317
CREATED:20250205T161142Z
LAST-MODIFIED:20250523T154006Z
UID:10022554-1794042000-1794056400@www.ameliaisland.com
SUMMARY:Fernandina Beach Farmers Market
DESCRIPTION:The “friendliest farmers market in Florida”\, the Fernandina Beach Market Place\, is an inclusive space for you to join your family\, neighbors and friends at this weekly event . Meet farmers\, growers\, and entrepreneurial individuals who produce or grow food and natural products especially for those living in\, and visiting\, our fantastic community. \nThe farmers’ market is open EVERY Saturday from 9 a.m. to 1:00 p.m.\, year round\, rain or shine.
URL:https://www.ameliaisland.com/activity/fernandina-beach-farmers-market-2-2/2026-11-07/
LOCATION:Fernandina Beach Market Place\, 1 North 7th Street\, Fernandina Beach\, FL\, 32034\, United States
ATTACH;FMTTYPE=image/jpeg:https://www.ameliaisland.com/wp-content/uploads/Farmers-Market.jpeg
END:VEVENT
BEGIN:VEVENT
DTSTART;TZID=America/New_York:20261107T090000
DTEND;TZID=America/New_York:20261107T130000
DTSTAMP:20260424T012317
CREATED:20250627T193648Z
LAST-MODIFIED:20251111T235533Z
UID:10024909-1794042000-1794056400@www.ameliaisland.com
SUMMARY:Fernandina Beach Arts Market
DESCRIPTION:Join us Saturday mornings in historic downtown for the Fernandina Beach Arts Market. This will be the market’s new location at 508 Centre Street\, between Peppers Cocina Restaurant and Tequila Bar\, and Century 21 Realty. This new location will house 30 booths full of handcrafted arts and home-made crafts. There will be a variety of fine and whimsical jewelry including The Copper Lotus. Artist Rachel Walker intricately\, hand-wraps copper wire around a variety of gemstones\, sharks’ teeth and more.  \nAlso\, at the Market this week is A Visual Theory. Ashley\, a dancer and artist\, designs tie dye apparel with cute\, funky\, and timely sayings. She also uses her quotes on book bags\, book marks\, ball caps\, and more. Look for additional booths of pottery\, apparel\, leatherwork\, water colors\, acrylics\, mixed media\, wood working and more. As before\, there will be no resold goods\, no antiques\, no multi-level marketing\, and all art is made by your local friends and neighbors. \nThe Fernandina Beach Arts Market will be open on the 2nd and 4th Saturday of each month\, from 9:00 a.m. to 1:00 p.m.\, rain or shine.
URL:https://www.ameliaisland.com/activity/fernandina-beach-arts-market/2026-11-07/
LOCATION:Fernandina Beach Arts Market\, 508 Centre Street\, Fernandina Beach\, FL\, 32034\, United States
ATTACH;FMTTYPE=image/jpeg:https://www.ameliaisland.com/wp-content/uploads/Arts-Market-Map.jpg
END:VEVENT
BEGIN:VEVENT
DTSTART;TZID=America/New_York:20261107T103000
DTEND;TZID=America/New_York:20261107T113000
DTSTAMP:20260424T012317
CREATED:20240530T003130Z
LAST-MODIFIED:20240530T003130Z
UID:10009462-1794047400-1794051000@www.ameliaisland.com
SUMMARY:StoryTime with Ms. Dearsha
DESCRIPTION:Join us at the store for a magical StoryTime with Ms. Dearsha\, our beloved and very talented Director of Children’s Merchandise and Programming! \nStoryTime is every Saturday at 10:30 am in the store. No RSVP needed. Just come on in! \nDive into fantastical worlds\, meet dynamic characters\, and let your imagination soar! We can’t wait to see you!
URL:https://www.ameliaisland.com/activity/storytime-with-ms-dearsha/2026-11-07/
LOCATION:Story & Song Centre for Arts and Culture\, 1430 Park Avenue\, Fernandina Beach\, FL\, 32034
ATTACH;FMTTYPE=image/jpeg:https://www.ameliaisland.com/wp-content/uploads/Story-Song-family-books-shops.jpeg
END:VEVENT
BEGIN:VEVENT
DTSTART;TZID=America/New_York:20261107T110000
DTEND;TZID=America/New_York:20261107T133000
DTSTAMP:20260424T012317
CREATED:20250326T172037Z
LAST-MODIFIED:20250326T172521Z
UID:10012369-1794049200-1794058200@www.ameliaisland.com
SUMMARY:Historic Trolley Tour
DESCRIPTION:EXPLORE THE OLD TIME CHARM OF AMELIA ISLAND!\nGet to see the historic downtown Fernandina Beach\, Old Town\, the Silk Stocking District\, and parts of the north end of Fernandina Beach with our trolley tour! What better way to take in the beautiful historic sights than on an old fashioned trolley? \nOur Amelia Island historic tours take you to the best spots with a smooth and delightful ride. Take in the sights of Victorian-era architecture and visit charming little shops. This tour will take you on a journey back in time! Book online today!
URL:https://www.ameliaisland.com/activity/historic-trolley-tour-3/2026-11-07/
LOCATION:Anchor Trolley & Transport\, 1 N Front Street\, Ste 3\, Fernandina Beach\, FL\, 32034\, United States
ATTACH;FMTTYPE=image/jpeg:https://www.ameliaisland.com/wp-content/uploads/AmeliaTrolley24c.jpg
END:VEVENT
BEGIN:VEVENT
DTSTART;TZID=America/New_York:20261107T133000
DTEND;TZID=America/New_York:20261107T150000
DTSTAMP:20260424T012317
CREATED:20250326T171358Z
LAST-MODIFIED:20250326T171400Z
UID:10014196-1794058200-1794063600@www.ameliaisland.com
SUMMARY:Historic Trolley Tour
DESCRIPTION:EXPLORE THE OLD TIME CHARM OF AMELIA ISLAND!\nGet to see the historic downtown Fernandina Beach\, Old Town\, the Silk Stocking District\, and parts of the north end of Fernandina Beach with our trolley tour! What better way to take in the beautiful historic sights than on an old fashioned trolley? \nOur Amelia Island historic tours take you to the best spots with a smooth and delightful ride. Take in the sights of Victorian-era architecture and visit charming little shops. This tour will take you on a journey back in time! Book online today!
URL:https://www.ameliaisland.com/activity/historic-trolley-tour-2-2/2026-11-07/
LOCATION:Anchor Trolley & Transport\, 1 N Front Street\, Ste 3\, Fernandina Beach\, FL\, 32034\, United States
ATTACH;FMTTYPE=image/jpeg:https://www.ameliaisland.com/wp-content/uploads/AmeliaTrolley24c.jpg
END:VEVENT
BEGIN:VEVENT
DTSTART;TZID=America/New_York:20261107T143000
DTEND;TZID=America/New_York:20261107T170000
DTSTAMP:20260424T012317
CREATED:20241210T154346Z
LAST-MODIFIED:20260307T141557Z
UID:10026556-1794061800-1794070800@www.ameliaisland.com
SUMMARY:Booze & Bites Tour
DESCRIPTION:Experience walking tours filled with history\, laughs\, great food and fun cocktails!  \nWhether you’re a local or a first-time visitor\, by the end of a tour you’ll have a fresh perspective of the island’s culture and history.  \nEstablished in 2014.
URL:https://www.ameliaisland.com/activity/booze-bites-tour/2026-11-07/
LOCATION:Downtown Fernandina Beach\, S.3rd St. between Centre St. and Ash St.\, Fernandina Beach\, 32034\, United States
ATTACH;FMTTYPE=image/jpeg:https://www.ameliaisland.com/wp-content/uploads/Booze-and-Bites-Amelia-Island-Picture-scaled.jpeg
END:VEVENT
BEGIN:VEVENT
DTSTART;TZID=America/New_York:20261107T190000
DTEND;TZID=America/New_York:20261107T200000
DTSTAMP:20260424T012317
CREATED:20260211T204139Z
LAST-MODIFIED:20260403T134546Z
UID:10030127-1794078000-1794081600@www.ameliaisland.com
SUMMARY:Cumberland Sound Sunset Tour
DESCRIPTION:End your day with the kind of magic only nature can deliver – a breathtaking sunset over the Cumberland Sound\, dolphins dancing in the distance\, and sea birds soaring across a glowing sky. This one-hour narrated cruise is perfect for families\, couples\, and sunset seekers of all ages. Our fun and knowledgeable captains share fascinating stories about the area’s rich past as you cruise past shrimp boats\, salt marshes\, and historic Amelia and Cumberland Islands. It’s never too early to book your seats! \nBreathe in the salt air\, sip your favorite beverage (yes\, BYOB!)\, and watch as the sky transforms into a masterpiece of color. It’s an easy\, peaceful\, and unforgettable way to end the day—a memory worth making. \nNOTE: DEPARTURE TIMES CHANGE THROUGHOUT THE YEAR\, ACCORDING TO SUNSET. PLEASE CHECK WITH AMELIA RIVER CRUISES FOR CORRECT DEPARTURE TIME.
URL:https://www.ameliaisland.com/activity/cumberland-sound-sunset-tour-5/2026-11-07/
LOCATION:Amelia River Cruises and Charters\, 1 North Front Street\, Suite 3\, Fernandina Beach\, 32034\, United States
ATTACH;FMTTYPE=image/jpeg:https://www.ameliaisland.com/wp-content/uploads/sunset-amelia-river-cruises-cumberland-sound-winter2026.jpg
END:VEVENT
END:VCALENDAR