BEGIN:VCALENDAR
VERSION:2.0
PRODID:-//Amelia Island - ECPv6.8.0//NONSGML v1.0//EN
CALSCALE:GREGORIAN
METHOD:PUBLISH
X-WR-CALNAME:Amelia Island
X-ORIGINAL-URL:https://www.ameliaisland.com
X-WR-CALDESC:Events for Amelia Island
REFRESH-INTERVAL;VALUE=DURATION:PT1H
X-Robots-Tag:noindex
X-PUBLISHED-TTL:PT1H
BEGIN:VTIMEZONE
TZID:America/New_York
BEGIN:DAYLIGHT
TZOFFSETFROM:-0500
TZOFFSETTO:-0400
TZNAME:EDT
DTSTART:20250309T070000
END:DAYLIGHT
BEGIN:STANDARD
TZOFFSETFROM:-0400
TZOFFSETTO:-0500
TZNAME:EST
DTSTART:20251102T060000
END:STANDARD
END:VTIMEZONE
BEGIN:VEVENT
DTSTART;TZID=America/New_York:20250727T140000
DTEND;TZID=America/New_York:20250727T150000
DTSTAMP:20260421T123854
CREATED:20250707T200058Z
LAST-MODIFIED:20250707T200058Z
UID:10025105-1753624800-1753628400@www.ameliaisland.com
SUMMARY:Nassau Community Jazz Band
DESCRIPTION:Get ready for an energetic evening of music as the Nassau Community Jazz Band\, under the direction of Dr. Marc Dickman\, returns for their annual performance! \nThis talented all-volunteer ensemble features a full big band sound—saxophones\, trumpets\, trombones\, flute\, rhythm section—and delivers a crowd-pleasing mix of swing era favorites\, Latin grooves\, and even a touch of rock and roll. \nAdmission is free | Donations appreciated\nA night of music that will have your toes tapping and spirits soaring—don’t miss it! Please RSVP.
URL:https://www.ameliaisland.com/activity/nassau-community-jazz-band-3/
LOCATION:Story & Song Centre for Arts and Culture\, 1430 Park Avenue\, Fernandina Beach\, FL\, 32034
ATTACH;FMTTYPE=image/jpeg:https://www.ameliaisland.com/wp-content/uploads/Nassau-Community-Jazz-Band.jpg
END:VEVENT
BEGIN:VEVENT
DTSTART;TZID=America/New_York:20250727T193000
DTEND;TZID=America/New_York:20250727T203000
DTSTAMP:20260421T123854
CREATED:20250326T174959Z
LAST-MODIFIED:20250710T174702Z
UID:10023034-1753644600-1753648200@www.ameliaisland.com
SUMMARY:Cumberland Sound Sunset Tour
DESCRIPTION:This fabulous\, one-hour Cumberland Sound Sunset Tour was designed with families in mind. Our knowledgeable captains will share fascinating tidbits about the area’s history as we keep our eyes peeled for the amazing wildlife that surrounds us. We will look for dolphins\, manatees\, sea turtles\, shore birds and more! \nBreathe in the sea-salt air as you marvel at the radiant sunset painting the horizon right before your eyes; this is truly an experience to treasure forever. \nYou are welcome to bring your own food\, beverages\, and even pets are welcome on out tours. All of our boats have a bathroom onboard for your convenience\, and we have cold bottles of water available\, too. \nNOTE: Please call Amelia River Cruises directly or visit their website to double check departure date/time availability. Their departures depend on Sunset.
URL:https://www.ameliaisland.com/activity/cumberland-sound-sunset-tour-2/2025-07-27/
LOCATION:Amelia River Cruises and Charters\, 1 North Front Street\, Suite 3\, Fernandina Beach\, 32034\, United States
ATTACH;FMTTYPE=image/jpeg:https://www.ameliaisland.com/wp-content/uploads/Amelia-River-Cruise-Family-sunset.jpeg
END:VEVENT
END:VCALENDAR