BEGIN:VCALENDAR
VERSION:2.0
PRODID:-//Amelia Island - ECPv6.8.0//NONSGML v1.0//EN
CALSCALE:GREGORIAN
METHOD:PUBLISH
X-WR-CALNAME:Amelia Island
X-ORIGINAL-URL:https://www.ameliaisland.com
X-WR-CALDESC:Events for Amelia Island
REFRESH-INTERVAL;VALUE=DURATION:PT1H
X-Robots-Tag:noindex
X-PUBLISHED-TTL:PT1H
BEGIN:VTIMEZONE
TZID:America/New_York
BEGIN:DAYLIGHT
TZOFFSETFROM:-0500
TZOFFSETTO:-0400
TZNAME:EDT
DTSTART:20250309T070000
END:DAYLIGHT
BEGIN:STANDARD
TZOFFSETFROM:-0400
TZOFFSETTO:-0500
TZNAME:EST
DTSTART:20251102T060000
END:STANDARD
END:VTIMEZONE
BEGIN:VEVENT
DTSTART;TZID=America/New_York:20250720T140000
DTEND;TZID=America/New_York:20250720T150000
DTSTAMP:20260421T070857
CREATED:20241017T124642Z
LAST-MODIFIED:20241017T124642Z
UID:10016077-1753020000-1753023600@www.ameliaisland.com
SUMMARY:Island Art Association - Sundays on Second
DESCRIPTION:Island Art Association hosts free Artist Encounters every third Sunday at 2:00 pm. \nReservations are required. Registration will open on the third Monday of each month. Registration will be open for two weeks\, then names will be drawn for the number of spaces available and registrants will be notified. Contact Alice at glassgirl445@gmail.com
URL:https://www.ameliaisland.com/activity/island-art-association-sundays-on-second/2025-07-20/
LOCATION:Island Art Association Education Center\, 18 N. 2nd St.\, Fernandina Beach\, FL\, 32034\, United States
ATTACH;FMTTYPE=image/jpeg:https://www.ameliaisland.com/wp-content/uploads/Island-Art-Association-4.jpg
END:VEVENT
BEGIN:VEVENT
DTSTART;TZID=America/New_York:20250720T140000
DTEND;TZID=America/New_York:20250720T160000
DTSTAMP:20260421T070857
CREATED:20250623T010644Z
LAST-MODIFIED:20250623T010644Z
UID:10024825-1753020000-1753027200@www.ameliaisland.com
SUMMARY:Our Town: Gullah/Geechee Culture
DESCRIPTION:Don’t miss Queen Quet\, Chieftess of the Gullah/Geechee Nation\, in a powerful “Histo-Musical Presentation” of song\, story\, and culture. The first to represent her community before the United Nations\, she brings the spirit and legacy of the Gullah/Geechee people to life—live and unforgettable. \nAs part of a 10-month discussion series facilitated by T.R. Richardson\, This month’s program will feature Queen Quet. She is a published author\, computer scientist\, lecturer\, mathematician\, historian\, columnist\, preservationist\, environmental justice advocate\, environmentalist\, film consultant\, and “The Art-ivist.” \nHer “histo-musical” presentation gives us insight into descendants of Africans who were enslaved on the rice\, indigo\, and Sea Island cotton plantations of the lower Atlantic coast. The nature of their enslavement on isolated islands and coastal plantations created a unique culture with deep African retentions that are clearly visible in the Gullah Geechee people’s distinctive arts\, crafts\, foodways\, music\, and language. \nThis program is complimentary.\nPlease RSVP.
URL:https://www.ameliaisland.com/activity/our-town-gullah-geechee-culture/
LOCATION:Story & Song Centre for Arts and Culture\, 1430 Park Avenue\, Fernandina Beach\, FL\, 32034
ATTACH;FMTTYPE=image/jpeg:https://www.ameliaisland.com/wp-content/uploads/Queen-Quet-Story-Song-Gullah-Geechee-IMAGE-v2.jpg
END:VEVENT
BEGIN:VEVENT
DTSTART;TZID=America/New_York:20250720T160000
DTEND;TZID=America/New_York:20250720T183000
DTSTAMP:20260421T070857
CREATED:20250218T175338Z
LAST-MODIFIED:20250218T175338Z
UID:10018798-1753027200-1753036200@www.ameliaisland.com
SUMMARY:Amelia Island Dance Series
DESCRIPTION:Crescendo Amelia is proud to announce the return of our Amelia Island Dance Series\, just steps away from the beaches of Fernandina Beach\, Fl. Perfect for dancing or just enjoying the sounds of a classic big band with a modern flair\, these events offer a variety of music from the 1920’s through the 2000’s. Each event features a live horn section\, world class singers and a variety of dances from ballroom to pop including latin\, waltz\, foxtrot\, hustle\, swing\, cha cha\, tango\, rhumba and more! \nThe Woman’s Club is just steps away from Fernandina Beach near the Atlantic Recreation Center and features a stage with ample seating with a 2400 sq. ft. ballroom and an outdoor patio. \nThe event is BYOB with light concessions and set-ups available for purchase. Seating is first come\, first serve with the exception of reserved tables (6) purchased in advance. \nAmelia Island Dance Series Dates: March 16th\, May 11th\, July 20th\, and September 21st.
URL:https://www.ameliaisland.com/activity/amelia-island-dance-series/2025-07-20/
LOCATION:Women’s Club\, 201 Jean LaFitte Blvd\, Fernandina Beach\, FL\, 32034\, United States
ATTACH;FMTTYPE=image/jpeg:https://www.ameliaisland.com/wp-content/uploads/Masquerade-Ball-Amelia-Island-Dance-Series.jpeg
END:VEVENT
BEGIN:VEVENT
DTSTART;TZID=America/New_York:20250720T193000
DTEND;TZID=America/New_York:20250720T203000
DTSTAMP:20260421T070857
CREATED:20250326T174959Z
LAST-MODIFIED:20250710T174702Z
UID:10023027-1753039800-1753043400@www.ameliaisland.com
SUMMARY:Cumberland Sound Sunset Tour
DESCRIPTION:This fabulous\, one-hour Cumberland Sound Sunset Tour was designed with families in mind. Our knowledgeable captains will share fascinating tidbits about the area’s history as we keep our eyes peeled for the amazing wildlife that surrounds us. We will look for dolphins\, manatees\, sea turtles\, shore birds and more! \nBreathe in the sea-salt air as you marvel at the radiant sunset painting the horizon right before your eyes; this is truly an experience to treasure forever. \nYou are welcome to bring your own food\, beverages\, and even pets are welcome on out tours. All of our boats have a bathroom onboard for your convenience\, and we have cold bottles of water available\, too. \nNOTE: Please call Amelia River Cruises directly or visit their website to double check departure date/time availability. Their departures depend on Sunset.
URL:https://www.ameliaisland.com/activity/cumberland-sound-sunset-tour-2/2025-07-20/
LOCATION:Amelia River Cruises and Charters\, 1 North Front Street\, Suite 3\, Fernandina Beach\, 32034\, United States
ATTACH;FMTTYPE=image/jpeg:https://www.ameliaisland.com/wp-content/uploads/Amelia-River-Cruise-Family-sunset.jpeg
END:VEVENT
END:VCALENDAR