BEGIN:VCALENDAR
VERSION:2.0
PRODID:-//Amelia Island - ECPv6.8.0//NONSGML v1.0//EN
CALSCALE:GREGORIAN
METHOD:PUBLISH
X-ORIGINAL-URL:https://www.ameliaisland.com
X-WR-CALDESC:Events for Amelia Island
REFRESH-INTERVAL;VALUE=DURATION:PT1H
X-Robots-Tag:noindex
X-PUBLISHED-TTL:PT1H
BEGIN:VTIMEZONE
TZID:America/New_York
BEGIN:DAYLIGHT
TZOFFSETFROM:-0500
TZOFFSETTO:-0400
TZNAME:EDT
DTSTART:20250309T070000
END:DAYLIGHT
BEGIN:STANDARD
TZOFFSETFROM:-0400
TZOFFSETTO:-0500
TZNAME:EST
DTSTART:20251102T060000
END:STANDARD
END:VTIMEZONE
BEGIN:VEVENT
DTSTART;TZID=America/New_York:20250624T090000
DTEND;TZID=America/New_York:20250624T200000
DTSTAMP:20260421T120654
CREATED:20250220T212057Z
LAST-MODIFIED:20250220T212057Z
UID:10018809-1750755600-1750795200@www.ameliaisland.com
SUMMARY:Kayak - Teen Day Trip
DESCRIPTION:Join an epic kayak adventure designed just for teens! Whether you’re a seasoned explorer or just starting out\, this outdoor escape will level up your skills and get you ready for future adventures. Imagine paddling through the wild with a Florida Master Naturalist\, discovering secrets of nature while having a blast! \nGet ready to splash into Florida’s natural springs and hang out on the water with our crew. You’ll kayak down the stunning Santa Fe River\, picking up cool outdoor and water skills along the way. Plus\, you’ll boost your confidence and gain a newfound appreciation for our awesome environment. This is your chance to explore\, learn\, and make unforgettable memories!
URL:https://www.ameliaisland.com/activity/kayak-teen-day-trip/
LOCATION:FL
ATTACH;FMTTYPE=image/jpeg:https://www.ameliaisland.com/wp-content/uploads/Amelia-Island-Kayak-Excursion-Teen-Camp.jpg
END:VEVENT
BEGIN:VEVENT
DTSTART;TZID=America/New_York:20250624T140000
DTEND;TZID=America/New_York:20250624T153000
DTSTAMP:20260421T120654
CREATED:20240705T143858Z
LAST-MODIFIED:20251106T005801Z
UID:10010192-1750773600-1750779000@www.ameliaisland.com
SUMMARY:Cumberland Coastal Tour
DESCRIPTION:The Cumberland Coastal Tour (90 minutes) is a narrated tour along Amelia and Cumberland Islands. When the tide is right\, the boat’s Captain may treat you to a journey up Beach Creek for a view of the Dungeness mansion ruins. Either direction you go\, expect our captains to share some fascinating history of the local area. \n*Please note: This cruise is scheduled intermittently throughout the year. Please check our calendar or contact us directly for specific dates and availability.
URL:https://www.ameliaisland.com/activity/cumberland-coastal-tour-2-2/2025-06-24/
LOCATION:FL
ATTACH;FMTTYPE=image/jpeg:https://www.ameliaisland.com/wp-content/uploads/amelia-river-cruises-.jpeg
END:VEVENT
BEGIN:VEVENT
DTSTART;TZID=America/New_York:20250624T150000
DTEND;TZID=America/New_York:20250624T170000
DTSTAMP:20260421T120654
CREATED:20250623T012136Z
LAST-MODIFIED:20250623T012136Z
UID:10024829-1750777200-1750784400@www.ameliaisland.com
SUMMARY:Amelia Island Writers: “Edit to Elevate”
DESCRIPTION:Confused about editing? \nJoin us for a panel discussion with seasoned editors Beth Mansbridge\, Kenneth Overman\, and Emily Carmain (joining via Zoom) as they break down the different types of editing and how each helps shape a polished manuscript. \nWith decades of experience across genres\, these pros will share insights and answer your questions—perfect for writers at any stage.
URL:https://www.ameliaisland.com/activity/amelia-island-writers-edit-to-elevate/
LOCATION:Story & Song Centre for Arts and Culture\, 1430 Park Avenue\, Fernandina Beach\, FL\, 32034
ATTACH;FMTTYPE=image/jpeg:https://www.ameliaisland.com/wp-content/uploads/Amelia-Island-Writers-v4-1.jpeg
END:VEVENT
BEGIN:VEVENT
DTSTART;TZID=America/New_York:20250624T193000
DTEND;TZID=America/New_York:20250624T203000
DTSTAMP:20260421T120654
CREATED:20250326T174959Z
LAST-MODIFIED:20250710T174702Z
UID:10023001-1750793400-1750797000@www.ameliaisland.com
SUMMARY:Cumberland Sound Sunset Tour
DESCRIPTION:This fabulous\, one-hour Cumberland Sound Sunset Tour was designed with families in mind. Our knowledgeable captains will share fascinating tidbits about the area’s history as we keep our eyes peeled for the amazing wildlife that surrounds us. We will look for dolphins\, manatees\, sea turtles\, shore birds and more! \nBreathe in the sea-salt air as you marvel at the radiant sunset painting the horizon right before your eyes; this is truly an experience to treasure forever. \nYou are welcome to bring your own food\, beverages\, and even pets are welcome on out tours. All of our boats have a bathroom onboard for your convenience\, and we have cold bottles of water available\, too. \nNOTE: Please call Amelia River Cruises directly or visit their website to double check departure date/time availability. Their departures depend on Sunset.
URL:https://www.ameliaisland.com/activity/cumberland-sound-sunset-tour-2/2025-06-24/
LOCATION:Amelia River Cruises and Charters\, 1 North Front Street\, Suite 3\, Fernandina Beach\, 32034\, United States
ATTACH;FMTTYPE=image/jpeg:https://www.ameliaisland.com/wp-content/uploads/Amelia-River-Cruise-Family-sunset.jpeg
END:VEVENT
END:VCALENDAR