BEGIN:VCALENDAR
VERSION:2.0
PRODID:-//Amelia Island - ECPv6.8.0//NONSGML v1.0//EN
CALSCALE:GREGORIAN
METHOD:PUBLISH
X-ORIGINAL-URL:https://www.ameliaisland.com
X-WR-CALDESC:Events for Amelia Island
REFRESH-INTERVAL;VALUE=DURATION:PT1H
X-Robots-Tag:noindex
X-PUBLISHED-TTL:PT1H
BEGIN:VTIMEZONE
TZID:America/New_York
BEGIN:DAYLIGHT
TZOFFSETFROM:-0500
TZOFFSETTO:-0400
TZNAME:EDT
DTSTART:20250309T070000
END:DAYLIGHT
BEGIN:STANDARD
TZOFFSETFROM:-0400
TZOFFSETTO:-0500
TZNAME:EST
DTSTART:20251102T060000
END:STANDARD
END:VTIMEZONE
BEGIN:VEVENT
DTSTART;TZID=America/New_York:20250102T103000
DTEND;TZID=America/New_York:20250102T123000
DTSTAMP:20260421T044829
CREATED:20241218T223242Z
LAST-MODIFIED:20241218T223242Z
UID:10018296-1735813800-1735821000@www.ameliaisland.com
SUMMARY:Salt Marsh Kayak Paddle
DESCRIPTION:Launch at PADL Amelia and Talbot Islands\, and venture out onto Simpson Creek overlooking the Talbot Islands State Parks. Take in the natural sites\, see local plant and wildlife\, and take pictures on the water with the salt marsh and hammocks as the backdrop. \nYour guide will bring a waterproof bag for your phone\, wallet and keys which you can use if you do not already have one yourself. A paddleboard or kayak for each person\, as well as paddle and life vest\, will be waiting for you when you arrive. \nBring sturdy waterproof footwear (we would recommend aqua socks\, Crocs or similar shoes). Also be sure to bring a bottle of water to stay hydrated\, a strap to hold any glasses you are wearing and also to wear sunscreen.
URL:https://www.ameliaisland.com/activity/salt-marsh-kayak-paddle/
LOCATION:PADL Amelia & Talbot Islands\, 13030 Heckscher Drive\, Jacksonville\, FL\, 32226\, United States
ATTACH;FMTTYPE=image/jpeg:https://www.ameliaisland.com/wp-content/uploads/Padl-Kayak.jpeg
END:VEVENT
BEGIN:VEVENT
DTSTART;TZID=America/New_York:20250102T110000
DTEND;TZID=America/New_York:20250102T133000
DTSTAMP:20260421T044829
CREATED:20241003T135256Z
LAST-MODIFIED:20241003T140435Z
UID:10011695-1735815600-1735824600@www.ameliaisland.com
SUMMARY:Historic Trolley Tour
DESCRIPTION:EXPLORE THE OLD TIME CHARM OF AMELIA ISLAND!\nGet to see the historic downtown Fernandina Beach\, Old Town\, the Silk Stocking District\, and parts of the north end of Fernandina Beach with our trolley tour! What better way to take in the beautiful historic sights than on an old fashioned trolley? \nOur Amelia Island historic tours take you to the best spots with a smooth and delightful ride. Take in the sights of Victorian-era architecture and visit charming little shops. This tour will take you on a journey back in time! Book online today!
URL:https://www.ameliaisland.com/activity/historic-trolley-tour/2025-01-02/
LOCATION:Anchor Trolley & Transport\, 1 N Front Street\, Ste 3\, Fernandina Beach\, FL\, 32034\, United States
ATTACH;FMTTYPE=image/jpeg:https://www.ameliaisland.com/wp-content/uploads/AmeliaTrolley24c.jpg
END:VEVENT
BEGIN:VEVENT
DTSTART;TZID=America/New_York:20250102T133000
DTEND;TZID=America/New_York:20250102T150000
DTSTAMP:20260421T044829
CREATED:20241003T141226Z
LAST-MODIFIED:20241003T141226Z
UID:10013522-1735824600-1735830000@www.ameliaisland.com
SUMMARY:Historic Trolley Tour
DESCRIPTION:EXPLORE THE OLD TIME CHARM OF AMELIA ISLAND!\nGet to see the historic downtown Fernandina Beach\, Old Town\, the Silk Stocking District\, and parts of the north end of Fernandina Beach with our trolley tour! What better way to take in the beautiful historic sights than on an old fashioned trolley? \nOur Amelia Island historic tours take you to the best spots with a smooth and delightful ride. Take in the sights of Victorian-era architecture and visit charming little shops. This tour will take you on a journey back in time! Book online today!
URL:https://www.ameliaisland.com/activity/historic-trolley-tour-2/2025-01-02/
LOCATION:Anchor Trolley & Transport\, 1 N Front Street\, Ste 3\, Fernandina Beach\, FL\, 32034\, United States
ATTACH;FMTTYPE=image/jpeg:https://www.ameliaisland.com/wp-content/uploads/AmeliaTrolley24c.jpg
END:VEVENT
BEGIN:VEVENT
DTSTART;TZID=America/New_York:20250102T140000
DTEND;TZID=America/New_York:20250102T153000
DTSTAMP:20260421T044829
CREATED:20240705T143858Z
LAST-MODIFIED:20251106T005801Z
UID:10010019-1735826400-1735831800@www.ameliaisland.com
SUMMARY:Cumberland Coastal Tour
DESCRIPTION:The Cumberland Coastal Tour (90 minutes) is a narrated tour along Amelia and Cumberland Islands. When the tide is right\, the boat’s Captain may treat you to a journey up Beach Creek for a view of the Dungeness mansion ruins. Either direction you go\, expect our captains to share some fascinating history of the local area. \n*Please note: This cruise is scheduled intermittently throughout the year. Please check our calendar or contact us directly for specific dates and availability.
URL:https://www.ameliaisland.com/activity/cumberland-coastal-tour-2-2/2025-01-02/
LOCATION:FL
ATTACH;FMTTYPE=image/jpeg:https://www.ameliaisland.com/wp-content/uploads/amelia-river-cruises-.jpeg
END:VEVENT
BEGIN:VEVENT
DTSTART;TZID=America/New_York:20250102T150000
DTEND;TZID=America/New_York:20250102T160000
DTSTAMP:20260421T044829
CREATED:20240530T214559Z
LAST-MODIFIED:20240530T214559Z
UID:10009663-1735830000-1735833600@www.ameliaisland.com
SUMMARY:Mindfulness & Meditation
DESCRIPTION:Valerie Brandt leads us in a FREE session of Yoga Nidra followed by the soothing sounds of her “singing crystal bowls.” \nIf you haven’t tried it\, but you’ve been feeling the need for calm and peace in your life\, please join us! Yoga Nidra is a meditation and conscious relaxation practice intended to induce total physical\, mental\, and emotional relaxation. \nThere’s enough room upstairs to allow us to maintain safe distances\, whether seated upright or stretched out on the carpet. Bring a mat if you’d like to stretch out on the carpet and a sweater or blanket\, too. \nNo RSVP required. Just come on in and start relaxing.
URL:https://www.ameliaisland.com/activity/mindfulness-meditation-2/2025-01-02/
LOCATION:Story & Song Centre for Arts and Culture\, 1430 Park Avenue\, Fernandina Beach\, FL\, 32034
ATTACH;FMTTYPE=image/jpeg:https://www.ameliaisland.com/wp-content/uploads/Yoga-Story-Song.jpeg
END:VEVENT
BEGIN:VEVENT
DTSTART;TZID=America/New_York:20250102T170000
DTEND;TZID=America/New_York:20250102T183000
DTSTAMP:20260421T044829
CREATED:20241107T132338Z
LAST-MODIFIED:20241107T132338Z
UID:10016217-1735837200-1735842600@www.ameliaisland.com
SUMMARY:Story & Song Book Group
DESCRIPTION:The Story & Song Fiction Book group meets on the 1st Thursday of every month. \nEnjoy Happy Hour prices for wine and craft beer and come enjoy the conversation! \nSee upcoming S&S Book Group selections on our website.
URL:https://www.ameliaisland.com/activity/story-song-book-group-2/2025-01-02/
LOCATION:Story & Song Centre for Arts and Culture\, 1430 Park Avenue\, Fernandina Beach\, FL\, 32034
ATTACH;FMTTYPE=image/jpeg:https://www.ameliaisland.com/wp-content/uploads/SS-Fiction-Book-Group-.jpeg
END:VEVENT
END:VCALENDAR